{"text_format":"1","workbook":"xlsx","n_sheets":4,"sheets":["INGRESO DE DATOS","Bupa Essential Care","Resumen tarifas","Tablas"],"not_rendered":{"charts":0,"images":8,"macros":1,"external_links":0,"defined_names":0,"comments":1,"pivot_tables":0},"unopened":[],"bounds":{"document_bytes":16777216,"sheet_cells":100000,"rows_first":2000,"rows_last":500,"rows_between":2000,"halvings":0,"cell_chars":16384,"cell_head_chars":4096},"cells_cut":0,"cells_raw":0,"read":"whole","date_system":"1900"}

{"sheet":"INGRESO DE DATOS","index":0,"n_rows":43,"n_cols":9,"rows_kept":43,"cut":false,"hidden":false,"merged":[[40,3,40,4],[40,6,40,7],[10,0,10,12],[18,5,18,6],[14,1,14,2],[16,1,16,2],[14,3,14,7],[16,5,16,6],[18,1,18,2]]}
[]
[null,null,null,null,null,null,null," "," "]
[]
[]
[]
[null,null,null,null,null,null,null," "," "]
[]
[]
[]
[]
[]
[]
["1. LLENE LA INFORMACIÓN DEL ASEGURADO PROPUESTO:"]
[]
[null,"Nombre del Asegurado Titular",null,"NOMBRE DEL CLIENTE"]
[]
[null,"Número de adultos en la póliza",null,2,null,"Número de niños en la póliza",null,2]
[]
[null,"Edad del Asegurado Titular",null,32,null,"Edad del/la cónyuge ",null,46]
[]
[]
["2. SELECCIONE EL PRODUCTO PARA VER LA COTIZACIÓN CORRESPONDIENTE: "]
[]
[]
[]
[]
[]
[]
[]
[]
[]
[]
[]
[]
[]
[]
[]
[]
[]
[]
[]
[]
[null,1,null,1]

{"sheet":"Bupa Essential Care","index":1,"n_rows":78,"n_cols":12,"rows_kept":78,"cut":false,"hidden":false,"merged":[[41,0,42,0],[41,1,42,1],[31,4,31,11],[34,4,34,5],[17,0,17,9],[19,0,19,1],[19,3,19,4],[19,5,19,8],[21,3,21,4],[23,3,23,4],[25,3,26,4],[27,4,27,5],[28,4,28,5],[29,4,29,5],[32,4,32,5],[33,4,33,5],[75,4,75,5],[77,4,77,11],[65,4,65,11],[66,4,66,5],[67,4,67,5],[68,4,68,5],[71,4,71,5],[72,4,72,5],[73,4,73,5],[74,4,74,5],[58,4,58,5],[69,4,69,5],[70,4,70,5],[46,4,46,5],[44,4,44,5],[45,4,45,5],[59,4,59,5],[60,4,60,5],[61,4,61,5],[62,4,62,5],[63,4,63,5],[54,4,54,5],[55,4,55,5],[56,4,56,5],[50,4,50,5],[51,4,51,5],[35,4,35,5],[36,4,36,5],[37,4,37,5],[57,4,57,5],[47,4,47,5],[48,4,48,5],[49,4,49,5],[38,4,38,5],[53,4,53,11],[41,4,41,11],[39,4,39,5],[42,4,42,5],[43,4,43,5]]}
[]
[]
[null,null,null,null,null,null,null," "," "," "]
[]
[]
[]
[null,null,null,null,null,null,null," "," "," "]
[]
[]
[]
[]
[]
[]
[]
[]
[]
[]
[]
[]
["Bupa Essential Care",null,null,"Nombre del Asegurado Titular",null,{"$f":"+'INGRESO DE DATOS'!$D$15","v":"NOMBRE DEL CLIENTE"}]
[]
[null,null,null,"Número de adultos en la póliza",null,{"$f":"+'INGRESO DE DATOS'!$D$17","v":2},null,"Edad del Asegurado Titular",{"$f":"+'INGRESO DE DATOS'!$D$19","v":32}]
[]
[null,null,null,"Número de niños en la póliza",null,{"$f":"+'INGRESO DE DATOS'!$H$17","v":2},null,"Edad del/la conyuge",{"$f":"+'INGRESO DE DATOS'!$H$19","v":46}]
[null,null,null,null,null,null,null," "," "]
[null,null,null,null,null,null,"Fecha de la cotización :",{"$f":"NOW()","v":"2021-05-25T14:54:15.840"}]
[null,null,null,null,null,null," ",false,null," "]
[null,null,null,null,"DEDUCIBLES",null,"PLAN 1","PLAN 2","PLAN 3","PLAN 4","PLAN 5","PLAN 6"]
[null,null,null,null,"En el país de residencia",null,500,1000,1000,1000,10000,20000]
[null,null,null,null,"Fuera del país de residencia",null,2000,5000,10000,20000,10000,20000]
[]
[null,null,null,null,"Tarifas anuales"]
[null,null,null,null,"Prima para Asegurado Titular",null,{"$f":"VLOOKUP($I$22,Tablas!$A$905:$G$971,3,TRUE)","v":2049},{"$f":"VLOOKUP($I$22,Tablas!$A$905:$G$971,4,TRUE)","v":1845},{"$f":"VLOOKUP($I$22,Tablas!$A$905:$G$971,5,TRUE)","v":1678},{"$f":"VLOOKUP($I$22,Tablas!$A$905:$G$971,6,TRUE)","v":1501},{"$f":"VLOOKUP($I$22,Tablas!$A$905:$G$971,7,TRUE)","v":1398},{"$f":"VLOOKUP($I$22,Tablas!$A$905:$H$971,8,TRUE)","v":1104}]
[null,null,null,null,"Prima para conyuge",null,{"$f":"IF($F$22=1,0,(VLOOKUP($I$24,Tablas!$A$905:$G$971,3,TRUE)))","v":2907},{"$f":"IF($F$22=1,0,(VLOOKUP($I$24,Tablas!$A$905:$G$971,4,TRUE)))","v":2619},{"$f":"IF($F$22=1,0,(VLOOKUP($I$24,Tablas!$A$905:$G$971,5,TRUE)))","v":2381},{"$f":"IF($F$22=1,0,(VLOOKUP($I$24,Tablas!$A$905:$G$971,6,TRUE)))","v":2130},{"$f":"IF($F$22=1,0,(VLOOKUP($I$24,Tablas!$A$905:$G$971,7,TRUE)))","v":1984},{"$f":"IF($F$22=1,0,(VLOOKUP($I$24,Tablas!$A$905:$H$971,8,TRUE)))","v":1566}]
[null,null,null,null,"Prima para hijo (s)",null,{"$f":"IF($F$24=0,0,(VLOOKUP($F$24,Tablas!$A$972:$G$974,3,TRUE)))","v":1160},{"$f":"IF($F$24=0,0,(VLOOKUP($F$24,Tablas!$A$972:$G$974,4,TRUE)))","v":1045},{"$f":"IF($F$24=0,0,(VLOOKUP($F$24,Tablas!$A$972:$G$974,5,TRUE)))","v":950},{"$f":"IF($F$24=0,0,(VLOOKUP($F$24,Tablas!$A$972:$G$974,6,TRUE)))","v":850},{"$f":"IF($F$24=0,0,(VLOOKUP($F$24,Tablas!$A$972:$G$974,7,TRUE)))","v":792},{"$f":"IF($F$24=0,0,(VLOOKUP($F$24,Tablas!$A$972:$H$974,8,TRUE)))","v":625}]
[null,null,null,null,"Total de Prima neta",null,{"$f":"SUM(G33:G35)","v":6116},{"$f":"SUM(H33:H35)","v":5509},5009,{"$f":"SUM(J33:J35)","v":4481},4174,3295]
[null,null,null,null,"Tarifa administrativa anual",null,75,75,75,75,75,75]
[null,null,null,null,"VAT (5%) :",null,{"$f":"+G36*5%","v":305.8},{"$f":"+H36*5%","v":275.45},250.45000000000002,{"$f":"+J36*5%","v":224.05},208.70000000000002,164.75]
[null,null,null,null,"ITBMS (7%)",null,{"$f":"+G37*7%","v":5.2500000000000009},{"$f":"+H37*7%","v":5.2500000000000009},5.2500000000000009,{"$f":"+J37*7%","v":5.2500000000000009},5.2500000000000009,5.2500000000000009]
[null,null,null,null,"TOTAL ANUAL",null,{"$f":"SUM(G36:G39)","v":6502.05},{"$f":"SUM(H36:H39)","v":5864.7},5339.7,{"$f":"SUM(J36:J39)","v":4785.3},4462.95,3540]
[]
[null,null,null,null,"Tarifas Semianuales"]
[null,null,null,null,"Prima para Asegurado Titular",null,{"$f":"VLOOKUP($I$22,Tablas!$A$1428:$G$1494,3,TRUE)","v":1085.97},{"$f":"VLOOKUP($I$22,Tablas!$A$1428:$G$1494,4,TRUE)","v":977.85},{"$f":"VLOOKUP($I$22,Tablas!$A$1428:$G$1494,5,TRUE)","v":889.34},{"$f":"VLOOKUP($I$22,Tablas!$A$1428:$G$1494,6,TRUE)","v":795.53000000000009},{"$f":"VLOOKUP($I$22,Tablas!$A$1428:$G$1494,7,TRUE)","v":740.94},{"$f":"VLOOKUP($I$22,Tablas!$A$1428:$H$1494,8,TRUE)","v":585.12}]
[null,null,null,null,"Prima para conyuge",null,{"$f":"IF($F$22=1,0,(VLOOKUP($I$24,Tablas!$A$1428:$G$1494,3,TRUE)))","v":1540.71},{"$f":"IF($F$22=1,0,(VLOOKUP($I$24,Tablas!$A$1428:$G$1494,4,TRUE)))","v":1388.0700000000002},{"$f":"IF($F$22=1,0,(VLOOKUP($I$24,Tablas!$A$1428:$G$1494,5,TRUE)))","v":1261.93},{"$f":"IF($F$22=1,0,(VLOOKUP($I$24,Tablas!$A$1428:$G$1494,6,TRUE)))","v":1128.9000000000001},{"$f":"IF($F$22=1,0,(VLOOKUP($I$24,Tablas!$A$1428:$G$1494,7,TRUE)))","v":1051.52},{"$f":"IF($F$22=1,0,(VLOOKUP($I$24,Tablas!$A$1428:$H$1494,8,TRUE)))","v":829.98}]
[null,null,null,null,"Prima para hijo (s)",null,{"$f":"IF($F$24=0,0,(VLOOKUP($F$24,Tablas!$A$1495:$G$1497,3,TRUE)))","v":614.80000000000007},{"$f":"IF($F$24=0,0,(VLOOKUP($F$24,Tablas!$A$1495:$G$1497,4,TRUE)))","v":553.85},{"$f":"IF($F$24=0,0,(VLOOKUP($F$24,Tablas!$A$1495:$G$1497,5,TRUE)))","v":503.5},{"$f":"IF($F$24=0,0,(VLOOKUP($F$24,Tablas!$A$1495:$G$1497,6,TRUE)))","v":450.5},{"$f":"IF($F$24=0,0,(VLOOKUP($F$24,Tablas!$A$1495:$G$1497,7,TRUE)))","v":419.76000000000005},{"$f":"IF($F$24=0,0,(VLOOKUP($F$24,Tablas!$A$1495:$H$1497,8,TRUE)))","v":331.25}]
[null,null,null,null,"Total de Prima neta",null,{"$f":"SUM(G43:G45)","v":3241.4800000000005},{"$f":"SUM(H43:H45)","v":2919.77},{"$f":"SUM(I43:I45)","v":2654.77},{"$f":"SUM(J43:J45)","v":2374.9300000000003},2212.2200000000003,1746.35]
[null,null,null,null,"Tarifa administrativa anual",null,75,75,75,75,75,75]
[null,null,null,null,"VAT (5%) :",null,{"$f":"(G33+G34+G35)*5%/2","v":152.9},137.72499999999999,125.22500000000001,112.02500000000001,104.35000000000001,82.375]
[null,null,null,null,"ITBMS (7%)",null,{"$f":"+G47*7% + ((G33+G34+G35)*0.06*0.07)/2","v":18.093600000000002},16.818899999999999,15.768900000000002,14.660100000000003,14.015400000000003,12.169500000000001]
[null,null,null,null,"TOTAL de primera cuota",null,{"$f":"SUM(G46:G49)","v":3487.4736000000007},{"$f":"SUM(H46:H49)","v":3149.3139000000001},2870.7638999999999,{"$f":"SUM(J46:J49)","v":2576.6151000000004},2405.5854000000004,1915.8944999999999]
[null,null,null,null,"Costo de segunda cuota",null,{"$f":"(G46 + G48)+((G33+G34+G35)*0.06*0.07)/2","v":3407.2236000000007},{"$f":"(H46 + H48)+((H33+H34+H35)*0.06*0.07)/2","v":3069.0639000000001},2790.5138999999999,2496.3651000000004,2325.3354000000004,1835.6444999999999]
[null,null,null,null,"TOTAL ANUAL",null,{"$f":"G50+G51","v":6894.6972000000014},{"$f":"H50+H51","v":6218.3778000000002},5661.2777999999998,{"$f":"J50+J51","v":5072.9802000000009},4730.9208000000008,3751.5389999999998]
[]
[null,null,null,null,"Tarifas Trimestrales"]
[null,null,null,null,"Prima para Asegurado Titular",null,{"$f":"VLOOKUP($I$22,Tablas!$A$1054:$G$1120,3,TRUE)","v":563.47500000000002},{"$f":"VLOOKUP($I$22,Tablas!$A$1054:$G$1120,4,TRUE)","v":507.37500000000006},{"$f":"VLOOKUP($I$22,Tablas!$A$1054:$G$1120,5,TRUE)","v":461.45000000000005},{"$f":"VLOOKUP($I$22,Tablas!$A$1054:$G$1120,6,TRUE)","v":412.77500000000003},{"$f":"VLOOKUP($I$22,Tablas!$A$1054:$G$1120,7,TRUE)","v":384.45000000000005},{"$f":"VLOOKUP($I$22,Tablas!$A$1054:$H$1120,8,TRUE)","v":303.60000000000002}]
[null,null,null,null,"Prima para conyuge",null,{"$f":"IF($F$22=1,0,(VLOOKUP($I$24,Tablas!$A$1054:$G$1120,3,TRUE)))","v":799.42500000000007},{"$f":"IF($F$22=1,0,(VLOOKUP($I$24,Tablas!$A$1054:$G$1120,4,TRUE)))","v":720.22500000000002},{"$f":"IF($F$22=1,0,(VLOOKUP($I$24,Tablas!$A$1054:$G$1120,5,TRUE)))","v":654.77500000000009},{"$f":"IF($F$22=1,0,(VLOOKUP($I$24,Tablas!$A$1054:$G$1120,6,TRUE)))","v":585.75},{"$f":"IF($F$22=1,0,(VLOOKUP($I$24,Tablas!$A$1054:$G$1120,7,TRUE)))","v":545.6},{"$f":"IF($F$22=1,0,(VLOOKUP($I$24,Tablas!$A$1054:$H$1120,8,TRUE)))","v":430.65000000000003}]
[null,null,null,null,"Prima para hijo (s)",null,{"$f":"IF($F$24=0,0,(VLOOKUP($F$24,Tablas!$A$1121:$G$1123,3,TRUE)))","v":319},{"$f":"IF($F$24=0,0,(VLOOKUP($F$24,Tablas!$A$1121:$G$1123,4,TRUE)))","v":287.375},{"$f":"IF($F$24=0,0,(VLOOKUP($F$24,Tablas!$A$1121:$G$1123,5,TRUE)))","v":261.25},{"$f":"IF($F$24=0,0,(VLOOKUP($F$24,Tablas!$A$1121:$G$1123,6,TRUE)))","v":233.75000000000003},{"$f":"IF($F$24=0,0,(VLOOKUP($F$24,Tablas!$A$1121:$G$1123,7,TRUE)))","v":217.8},{"$f":"IF($F$24=0,0,(VLOOKUP($F$24,Tablas!$A$1121:$H$1123,8,TRUE)))","v":171.875}]
[null,null,null,null,"Total de Prima neta",null,{"$f":"SUM(G55:G57)","v":1681.9},{"$f":"SUM(H55:H57)","v":1514.9750000000001},{"$f":"SUM(I55:I57)","v":1377.4750000000001},{"$f":"SUM(J55:J57)","v":1232.2750000000001},1147.8500000000001,906.125]
[null,null,null,null,"Tarifa administrativa anual",null,75,75,75,75,75,75]
[null,null,null,null,"VAT (5%) :",null,{"$f":"(G33+G34+G35)*5%/4","v":76.45},68.862499999999997,62.612500000000004,56.012500000000003,52.175000000000004,41.1875]
[null,null,null,null,"ITBMS (7%)",null,{"$f":"+G59*7% + ((G33+G34+G35)*0.1*0.07)/4","v":15.953000000000003},14.890750000000001,14.015750000000001,13.091750000000001,12.554500000000001,11.016250000000001]
[null,null,null,null,"TOTAL de primera cuota",null,{"$f":"SUM(G58:G61)","v":1849.3030000000001},{"$f":"SUM(H58:H61)","v":1673.7282500000001},1529.1032500000001,{"$f":"SUM(J58:J61)","v":1376.3792500000002},1287.5795000000001,1033.3287499999999]
[null,null,null,null,"Costo de tarifa trimestral 2 a 4",null,{"$f":"(G58 + G60)+((G33+G34+G35)*0.1*0.07)/4","v":1769.0530000000001},1593.4782500000001,1448.8532500000001,1296.1292500000002,1207.3295000000001,953.07875000000001]
[null,null,null,null,"TOTAL ANUAL",null,{"$f":"G62+(G63*3)","v":7156.4620000000004},{"$f":"H62+(H63*3)","v":6454.1630000000005},5875.6630000000005,{"$f":"J62+(J63*3)","v":5264.7670000000007},4909.5680000000002,3892.5649999999996]
[]
[null,null,null,null,"Tarifas Mensuales"]
[null,null,null,null,"Prima para Asegurado Titular",null,{"$f":"VLOOKUP($I$22,Tablas!$A$979:$G$1045,3,TRUE)","v":191.24},{"$f":"VLOOKUP($I$22,Tablas!$A$979:$G$1045,4,TRUE)","v":172.20000000000002},{"$f":"VLOOKUP($I$22,Tablas!$A$979:$G$1045,5,TRUE)","v":156.61333333333334},{"$f":"VLOOKUP($I$22,Tablas!$A$979:$G$1045,6,TRUE)","v":140.09333333333333},{"$f":"VLOOKUP($I$22,Tablas!$A$979:$G$1045,7,TRUE)","v":130.48000000000002},{"$f":"VLOOKUP($I$22,Tablas!$A$979:$H$1045,8,TRUE)","v":103.04}]
[null,null,null,null,"Prima para conyuge",null,{"$f":"IF($F$22=1,0,(VLOOKUP($I$24,Tablas!$A$979:$G$1045,3,TRUE)))","v":271.32},{"$f":"IF($F$22=1,0,(VLOOKUP($I$24,Tablas!$A$979:$G$1045,4,TRUE)))","v":244.44},{"$f":"IF($F$22=1,0,(VLOOKUP($I$24,Tablas!$A$979:$G$1045,5,TRUE)))","v":222.22666666666669},{"$f":"IF($F$22=1,0,(VLOOKUP($I$24,Tablas!$A$979:$G$1045,6,TRUE)))","v":198.8},{"$f":"IF($F$22=1,0,(VLOOKUP($I$24,Tablas!$A$979:$G$1045,7,TRUE)))","v":185.17333333333335},{"$f":"IF($F$22=1,0,(VLOOKUP($I$24,Tablas!$A$979:$H$1045,8,TRUE)))","v":146.16}]
[null,null,null,null,"Prima para hijo (s)",null,{"$f":"IF($F$24=0,0,(VLOOKUP($F$24,Tablas!$A$1046:$G$1048,3,TRUE)))","v":108.26666666666667},{"$f":"IF($F$24=0,0,(VLOOKUP($F$24,Tablas!$A$1046:$G$1048,4,TRUE)))","v":97.533333333333331},{"$f":"IF($F$24=0,0,(VLOOKUP($F$24,Tablas!$A$1046:$G$1048,5,TRUE)))","v":88.666666666666671},{"$f":"IF($F$24=0,0,(VLOOKUP($F$24,Tablas!$A$1046:$G$1048,6,TRUE)))","v":79.333333333333343},{"$f":"IF($F$24=0,0,(VLOOKUP($F$24,Tablas!$A$1046:$G$1048,7,TRUE)))","v":73.92},{"$f":"IF($F$24=0,0,(VLOOKUP($F$24,Tablas!$A$1046:$H$1048,8,TRUE)))","v":58.333333333333336}]
[null,null,null,null,"Total de Prima neta",null,{"$f":"SUM(G67:G69)","v":570.82666666666671},{"$f":"SUM(H67:H69)","v":514.17333333333329},{"$f":"SUM(I67:I69)","v":467.50666666666672},{"$f":"SUM(J67:J69)","v":418.22666666666669},389.57333333333338,307.5333333333333]
[null,null,null,null,"Tarifa administrativa anual",null,75,75,75,75,75,75]
[null,null,null,null,"VAT (5%) :",null,{"$f":"(G33+G34+G35)*5%/12","v":25.483333333333334},22.954166666666666,20.870833333333334,18.670833333333334,17.391666666666669,13.729166666666666]
[null,null,null,null,"ITBMS (7%)",null,{"$f":"+G71*7% + ((G33+G34+G35)*0.12*0.07)/12","v":9.5312000000000019},9.1063000000000009,8.7563000000000013,8.3867000000000012,8.1718000000000011,7.5565000000000015]
[null,null,null,null,"TOTAL de primera cuota",null,{"$f":"SUM(G70:G73)","v":680.84120000000007},{"$f":"SUM(H70:H73)","v":621.23379999999997},572.13379999999995,{"$f":"SUM(J70:J73)","v":520.28420000000006},490.13680000000005,403.81900000000002]
[null,null,null,null,"Costo de Tarifa mensual de 2 a 12",null,{"$f":"(G70 + G72)+((G33+G34+G35)*0.12*0.07)/12","v":600.59120000000007},540.98379999999997,491.88380000000006,440.03420000000006,409.88680000000005,323.56900000000002]
[null,null,null,null,"TOTAL ANUAL",null,{"$f":"G74+(G75*11)","v":7287.3444000000009},{"$f":"H74+(H75*11)","v":6572.0555999999997},5982.8556000000008,{"$f":"J74+(J75*11)","v":5360.6604000000007},4998.8916000000008,3963.078]
[]
[null,null,null,null,"Tarifas en US$ -  Efectivas a partir del 15 de agosto, 2020"]

{"sheet":"Resumen tarifas","index":2,"n_rows":47,"n_cols":8,"rows_kept":47,"cut":false,"hidden":false,"merged":[[16,0,16,6],[18,2,18,6],[21,4,21,5],[24,4,24,5],[29,0,29,1],[27,4,27,6],[18,0,18,1],[21,0,21,1],[24,0,24,1],[30,0,30,1],[33,0,33,1],[34,0,34,1],[35,0,35,1],[36,0,36,1],[31,0,31,1],[32,0,32,1],[39,2,39,7],[37,2,37,7],[35,2,35,7],[33,2,33,7],[46,0,46,7],[44,0,44,1],[40,0,40,1],[38,0,38,1],[39,0,39,1],[37,0,37,1]]}
[]
[null,null,null,null," "," "]
[]
[]
[]
[null,null,null,null," "," "," "]
[]
[]
[]
[]
[]
[]
[]
[]
[]
[]
["Cotizador de Seguro Médico - Bupa Global Health Plans"]
[]
["Nombre del Asegurado Titular",null,{"$f":"+'INGRESO DE DATOS'!$D$15","v":"NOMBRE DEL CLIENTE"}]
[]
[]
["Número de adultos en la póliza",null,{"$f":"+'INGRESO DE DATOS'!$D$17","v":2},null,"Edad del Asegurado Titular",null,{"$f":"+'INGRESO DE DATOS'!$D$19","v":32}]
[]
[]
["Número de niños en la póliza",null,{"$f":"+'INGRESO DE DATOS'!$H$17","v":2},null,"Edad del/la cónyuge ",null,{"$f":"+'INGRESO DE DATOS'!$H$19","v":46}]
[]
[]
[null,null,null,"FECHA DE LA COTIZACIÓN ",{"$f":"NOW()","v":"2021-05-25T14:54:15.840"}]
[]
["Bupa Essential Care"]
["DEDUCIBLES",null,"PLAN 1","PLAN 2","PLAN 3","PLAN 4","PLAN 5","PLAN 6"]
["En el país de residencia",null,500,1000,1000,1000,10000,20000]
["Fuera del país de residencia",null,2000,5000,10000,20000,10000,20000]
[null,null,"Tarifas Anuales"]
[null,null,{"$f":"'Bupa Essential Care'!G40","v":6502.05},{"$f":"'Bupa Essential Care'!H40","v":5864.7},{"$f":"'Bupa Essential Care'!I40","v":5339.7},{"$f":"'Bupa Essential Care'!J40","v":4785.3},{"$f":"'Bupa Essential Care'!K40","v":4462.95},{"$f":"'Bupa Essential Care'!L40","v":3540}]
[null,null,"Tarifas Semianuales"]
[null,null,{"$f":"'Bupa Essential Care'!G52","v":6894.6972000000014},{"$f":"'Bupa Essential Care'!H52","v":6218.3778000000002},{"$f":"'Bupa Essential Care'!I52","v":5661.2777999999998},{"$f":"'Bupa Essential Care'!J52","v":5072.9802000000009},{"$f":"'Bupa Essential Care'!K52","v":4730.9208000000008},{"$f":"'Bupa Essential Care'!L52","v":3751.5389999999998}]
[null,null,"Tarifas Trimestrales"]
[null,null,{"$f":"'Bupa Essential Care'!G64","v":7156.4620000000004},{"$f":"'Bupa Essential Care'!H64","v":6454.1630000000005},{"$f":"'Bupa Essential Care'!I64","v":5875.6630000000005},{"$f":"'Bupa Essential Care'!J64","v":5264.7670000000007},{"$f":"'Bupa Essential Care'!K64","v":4909.5680000000002},{"$f":"'Bupa Essential Care'!L64","v":3892.5649999999996}]
[null,null,"Tarifas Mensuales"]
[null,null,{"$f":"'Bupa Essential Care'!G76","v":7287.3444000000009},{"$f":"'Bupa Essential Care'!H76","v":6572.0555999999997},{"$f":"'Bupa Essential Care'!I76","v":5982.8556000000008},{"$f":"'Bupa Essential Care'!J76","v":5360.6604000000007},{"$f":"'Bupa Essential Care'!K76","v":4998.8916000000008},{"$f":"'Bupa Essential Care'!L76","v":3963.078}]
[]
[]
["Una tarifa administrativa de US$75 se cargará automáticamente al primer pago"]
["*Basado en un modo de pago anual"]
[]
["Tarifas en US$ -  Efectivas a partir del 15 de agosto, 2020"]

{"sheet":"Tablas","index":3,"n_rows":1497,"n_cols":14,"rows_kept":1497,"cut":false,"hidden":true,"merged":[[1424,0,1424,6],[1425,0,1425,1],[1425,2,1425,6],[1348,0,1348,6],[1349,0,1349,6],[1350,0,1350,1],[1350,2,1350,6],[1423,0,1423,6],[1200,0,1200,1],[1200,2,1200,6],[1273,0,1273,6],[1274,0,1274,6],[1275,0,1275,1],[1275,2,1275,6],[1124,0,1124,6],[1125,0,1125,6],[1126,0,1126,1],[1126,2,1126,6],[1199,0,1199,6],[976,0,976,1],[976,2,976,6],[1049,0,1049,6],[1050,0,1050,6],[1051,0,1051,1],[1051,2,1051,6],[900,0,900,6],[901,0,901,6],[902,0,902,1],[902,2,902,6],[975,0,975,6],[1,0,1,6],[2,0,2,6],[77,0,77,1],[77,2,77,6],[76,0,76,6],[3,0,3,1],[3,2,3,6],[525,0,525,6],[376,0,376,1],[376,2,376,6],[150,0,150,6],[151,0,151,6],[152,0,152,1],[152,2,152,6],[225,0,225,6],[226,0,226,1],[375,0,375,6],[226,2,226,6],[300,0,300,6],[301,0,301,6],[302,0,302,1],[302,2,302,6],[827,0,827,1],[827,2,827,6],[751,0,751,6],[675,0,675,6],[676,0,676,6],[677,0,677,1],[677,2,677,6],[750,0,750,6],[63,7,65,7],[752,0,752,1],[752,2,752,6],[825,0,825,6],[826,0,826,6],[527,0,527,1],[527,2,527,6],[600,0,600,6],[601,0,601,6],[602,0,602,1],[602,2,602,6],[526,0,526,6],[450,0,450,6],[451,0,451,6],[452,0,452,1],[452,2,452,6]]}
[]
["BUPA GLOBAL ELITE",null,null,null,null,null,null,null,"FACTOR MENSUAL:",null,8.3333333333333329E-2,null,null,9.3333333333333338E-2]
["TARIFAS ANUALES",null,null,null,null,null,null,null,"FACTOR TRIMESTRAL:",null,0.25,null,null,0.27500000000000002]
["EDAD",null,null,null,null,null,null,null,"FACTOR SEMIANUAL:",null,0.5,null,null,0.53]
[" "," ",1000,2000,3500,5000,10000]
[18,null,7418,5313,4499,3901,3026]
[19,null,7516,5377,4546,3943,3058]
[20,null,7616,5445,4597,3986,3091]
[21,null,7719,5514,4649,4031,3126]
[22,null,7826,5586,4702,4077,3161]
[23,null,7939,5658,4759,4127,3201]
[24,null,8051,5735,4816,4176,3239]
[25,null,8168,5815,4875,4228,3279]
[26,null,8336,5929,4962,4304,3337]
[27,null,8511,6048,5054,4381,3399]
[28,null,8691,6170,5148,4464,3461]
[29,null,8880,6298,5247,4550,3529]
[30,null,9074,6433,5351,4640,3599]
[31,null,9275,6570,5459,4733,3672]
[32,null,9481,6713,5568,4828,3743]
[33,null,9694,6860,5684,4928,3823]
[34,null,9914,7012,5802,5031,3901]
[35,null,10138,7168,5926,5139,3986]
[36,null,10370,7329,6052,5247,4070]
[37,null,10609,7497,6182,5362,4158]
[38,null,10853,7666,6317,5479,4249]
[39,null,11105,7843,6456,5598,4341]
[40,null,11362,8023,6598,5721,4438]
[41,null,11626,8208,6745,5849,4537]
[42,null,11895,8397,6896,5979,4638]
[43,null,12170,8593,7051,6114,4742]
[44,null,12453,8790,7208,6251,4849]
[45,null,12742,8995,7372,6391,4957]
[46,null,13037,9203,7539,6538,5069]
[47,null,13338,9418,7708,6683,5184]
[48,null,13646,9634,7882,6834,5300]
[49,null,13961,9858,8061,6990,5420]
[50,null,14280,10084,8244,7149,5544]
[51,null,14607,10316,8432,7311,5669]
[52,null,14939,10553,8619,7473,5797]
[53,null,15279,10797,8815,7643,5928]
[54,null,15625,11043,9012,7814,6061]
[55,null,15977,11293,9215,7990,6197]
[56,null,16333,11548,9421,8169,6336]
[57,null,16699,11808,9631,8350,6476]
[58,null,17070,12073,9845,8536,6620]
[59,null,17446,12343,10062,8725,6766]
[60,null,17829,12618,10285,8917,6916]
[61,null,19842,14061,11454,9932,7704]
[62,null,22011,15624,12724,11033,8556]
[63,null,24339,17302,14091,12218,9476]
[64,null,26824,19100,15557,13490,10463]
[65,null,29466,21015,17123,14847,11515]
[66,null,32267,23047,18789,16293,12636]
[67,null,35226,25197,20553,17822,13822]
[68,null,38343,27466,22415,19436,15074]
[69,null,41616,29852,24379,21139,16394]
[70,null,45049,32357,26441,22927,17782]
[71,null,48640,34979,28602,24801,19235]
[72,null,52387,37721,30862,26760,20754]
[73,null,56292,40578,33220,28805,22340]
[74,null,60356,43554,35679,30938,23994]
[75,null,64577,46649,38237,33155,25713]
[76,null,64577,46649,38237,33155,25713]
[77,null,64577,46649,38237,33155,25713]
[78,null,64577,46649,38237,33155,25713]
[79,null,64577,46649,38237,33155,25713]
[80,null,64577,46649,38237,33155,25713]
[81,null,64577,46649,38237,33155,25713]
[82,null,64577,46649,38237,33155,25713]
[83,null,64577,46649,38237,33155,25713]
[84,"o más",64577,46649,38237,33155,25713]
[1,"Hijo",3339,2391,2025,1756,1363]
[2,"Hijos",5675,4065,3442,2984,2316]
[3,"Hijos o más",8011,5738,4860,4213,3268]
[]
["BUPA GLOBAL ELITE - MENSUALES"]
["EDAD"]
[" "," ",1000,2000,3500]
[18,null,{"$f":"C6*$K$2","v":618.16666666666663},{"$f":"D6*$K$2","v":442.75},374.91666666666663,325.08333333333331,252.16666666666666]
[19,null,{"$f":"C7*$K$2","v":626.33333333333326},448.08333333333331,378.83333333333331,328.58333333333331,254.83333333333331]
[20,null,{"$f":"C8*$K$2","v":634.66666666666663},453.75,383.08333333333331,332.16666666666663,257.58333333333331]
[21,null,{"$f":"C9*$K$2","v":643.25},459.5,387.41666666666663,335.91666666666663,260.5]
[22,null,{"$f":"C10*$K$2","v":652.16666666666663},465.5,391.83333333333331,339.75,263.41666666666663]
[23,null,{"$f":"C11*$K$2","v":661.58333333333326},471.5,396.58333333333331,343.91666666666663,266.75]
[24,null,{"$f":"C12*$K$2","v":670.91666666666663},477.91666666666663,401.33333333333331,348,269.91666666666663]
[25,null,{"$f":"C13*$K$2","v":680.66666666666663},484.58333333333331,406.25,352.33333333333331,273.25]
[26,null,{"$f":"C14*$K$2","v":694.66666666666663},494.08333333333331,413.5,358.66666666666663,278.08333333333331]
[27,null,{"$f":"C15*$K$2","v":709.25},504,421.16666666666663,365.08333333333331,283.25]
[28,null,{"$f":"C16*$K$2","v":724.25},514.16666666666663,429,372,288.41666666666663]
[29,null,{"$f":"C17*$K$2","v":740},524.83333333333326,437.25,379.16666666666663,294.08333333333331]
[30,null,{"$f":"C18*$K$2","v":756.16666666666663},536.08333333333326,445.91666666666663,386.66666666666663,299.91666666666663]
[31,null,{"$f":"C19*$K$2","v":772.91666666666663},547.5,454.91666666666663,394.41666666666663,306]
[32,null,{"$f":"C20*$K$2","v":790.08333333333326},559.41666666666663,464,402.33333333333331,311.91666666666663]
[33,null,{"$f":"C21*$K$2","v":807.83333333333326},571.66666666666663,473.66666666666663,410.66666666666663,318.58333333333331]
[34,null,{"$f":"C22*$K$2","v":826.16666666666663},584.33333333333326,483.5,419.25,325.08333333333331]
[35,null,{"$f":"C23*$K$2","v":844.83333333333326},597.33333333333326,493.83333333333331,428.25,332.16666666666663]
[36,null,{"$f":"C24*$K$2","v":864.16666666666663},610.75,504.33333333333331,437.25,339.16666666666663]
[37,null,{"$f":"C25*$K$2","v":884.08333333333326},624.75,515.16666666666663,446.83333333333331,346.5]
[38,null,{"$f":"C26*$K$2","v":904.41666666666663},638.83333333333326,526.41666666666663,456.58333333333331,354.08333333333331]
[39,null,{"$f":"C27*$K$2","v":925.41666666666663},653.58333333333326,538,466.5,361.75]
[40,null,{"$f":"C28*$K$2","v":946.83333333333326},668.58333333333326,549.83333333333326,476.75,369.83333333333331]
[41,null,{"$f":"C29*$K$2","v":968.83333333333326},684,562.08333333333326,487.41666666666663,378.08333333333331]
[42,null,{"$f":"C30*$K$2","v":991.25},699.75,574.66666666666663,498.25,386.5]
[43,null,{"$f":"C31*$K$2","v":1014.1666666666666},716.08333333333326,587.58333333333326,509.5,395.16666666666663]
[44,null,{"$f":"C32*$K$2","v":1037.75},732.5,600.66666666666663,520.91666666666663,404.08333333333331]
[45,null,{"$f":"C33*$K$2","v":1061.8333333333333},749.58333333333326,614.33333333333326,532.58333333333326,413.08333333333331]
[46,null,{"$f":"C34*$K$2","v":1086.4166666666665},766.91666666666663,628.25,544.83333333333326,422.41666666666663]
[47,null,{"$f":"C35*$K$2","v":1111.5},784.83333333333326,642.33333333333326,556.91666666666663,432]
[48,null,{"$f":"C36*$K$2","v":1137.1666666666665},802.83333333333326,656.83333333333326,569.5,441.66666666666663]
[49,null,{"$f":"C37*$K$2","v":1163.4166666666665},821.5,671.75,582.5,451.66666666666663]
[50,null,{"$f":"C38*$K$2","v":1190},840.33333333333326,687,595.75,462]
[51,null,{"$f":"C39*$K$2","v":1217.25},859.66666666666663,702.66666666666663,609.25,472.41666666666663]
[52,null,{"$f":"C40*$K$2","v":1244.9166666666665},879.41666666666663,718.25,622.75,483.08333333333331]
[53,null,{"$f":"C41*$K$2","v":1273.25},899.75,734.58333333333326,636.91666666666663,494]
[54,null,{"$f":"C42*$K$2","v":1302.0833333333333},920.25,751,651.16666666666663,505.08333333333331]
[55,null,{"$f":"C43*$K$2","v":1331.4166666666665},941.08333333333326,767.91666666666663,665.83333333333326,516.41666666666663]
[56,null,{"$f":"C44*$K$2","v":1361.0833333333333},962.33333333333326,785.08333333333326,680.75,528]
[57,null,{"$f":"C45*$K$2","v":1391.5833333333333},984,802.58333333333326,695.83333333333326,539.66666666666663]
[58,null,{"$f":"C46*$K$2","v":1422.5},1006.0833333333333,820.41666666666663,711.33333333333326,551.66666666666663]
[59,null,{"$f":"C47*$K$2","v":1453.8333333333333},1028.5833333333333,838.5,727.08333333333326,563.83333333333326]
[60,null,{"$f":"C48*$K$2","v":1485.75},1051.5,857.08333333333326,743.08333333333326,576.33333333333326]
[61,null,{"$f":"C49*$K$2","v":1653.5},1171.75,954.5,827.66666666666663,642]
[62,null,{"$f":"C50*$K$2","v":1834.25},1302,1060.3333333333333,919.41666666666663,713]
[63,null,{"$f":"C51*$K$2","v":2028.25},1441.8333333333333,1174.25,1018.1666666666666,789.66666666666663]
[64,null,{"$f":"C52*$K$2","v":2235.333333333333},1591.6666666666665,1296.4166666666665,1124.1666666666665,871.91666666666663]
[65,null,{"$f":"C53*$K$2","v":2455.5},1751.25,1426.9166666666665,1237.25,959.58333333333326]
[66,null,{"$f":"C54*$K$2","v":2688.9166666666665},1920.5833333333333,1565.75,1357.75,1053]
[67,null,{"$f":"C55*$K$2","v":2935.5},2099.75,1712.75,1485.1666666666665,1151.8333333333333]
[68,null,{"$f":"C56*$K$2","v":3195.25},2288.833333333333,1867.9166666666665,1619.6666666666665,1256.1666666666665]
[69,null,{"$f":"C57*$K$2","v":3468},2487.6666666666665,2031.5833333333333,1761.5833333333333,1366.1666666666665]
[70,null,{"$f":"C58*$K$2","v":3754.083333333333},2696.4166666666665,2203.4166666666665,1910.5833333333333,1481.8333333333333]
[71,null,{"$f":"C59*$K$2","v":4053.333333333333},2914.9166666666665,2383.5,2066.75,1602.9166666666665]
[72,null,{"$f":"C60*$K$2","v":4365.583333333333},3143.4166666666665,2571.833333333333,2230,1729.5]
[73,null,{"$f":"C61*$K$2","v":4691},3381.5,2768.333333333333,2400.4166666666665,1861.6666666666665]
[74,null,{"$f":"C62*$K$2","v":5029.6666666666661},3629.5,2973.25,2578.1666666666665,1999.5]
[75,null,{"$f":"C63*$K$2","v":5381.4166666666661},3887.4166666666665,3186.4166666666665,2762.9166666666665,2142.75]
[76,null,{"$f":"C64*$K$2","v":5381.4166666666661},3887.4166666666665,3186.4166666666665,2762.9166666666665,2142.75]
[77,null,{"$f":"C65*$K$2","v":5381.4166666666661},3887.4166666666665,3186.4166666666665,2762.9166666666665,2142.75]
[78,null,{"$f":"C66*$K$2","v":5381.4166666666661},3887.4166666666665,3186.4166666666665,2762.9166666666665,2142.75]
[79,null,{"$f":"C67*$K$2","v":5381.4166666666661},3887.4166666666665,3186.4166666666665,2762.9166666666665,2142.75]
[80,null,{"$f":"C68*$K$2","v":5381.4166666666661},3887.4166666666665,3186.4166666666665,2762.9166666666665,2142.75]
[81,null,{"$f":"C69*$K$2","v":5381.4166666666661},3887.4166666666665,3186.4166666666665,2762.9166666666665,2142.75]
[82,null,{"$f":"C70*$K$2","v":5381.4166666666661},3887.4166666666665,3186.4166666666665,2762.9166666666665,2142.75]
[83,null,{"$f":"C71*$K$2","v":5381.4166666666661},3887.4166666666665,3186.4166666666665,2762.9166666666665,2142.75]
[84,"o más",{"$f":"C72*$K$2","v":5381.4166666666661},3887.4166666666665,3186.4166666666665,2762.9166666666665,2142.75]
[1,"Hijo",{"$f":"C73*$K$2","v":278.25},199.25,168.75,146.33333333333331,113.58333333333333]
[2,"Hijos",{"$f":"C74*$K$2","v":472.91666666666663},338.75,286.83333333333331,248.66666666666666,193]
[3,"Hijos o más",{"$f":"C75*$K$2","v":667.58333333333326},478.16666666666663,405,351.08333333333331,272.33333333333331]
[]
["BUPA GLOBAL PREMIER"]
["TARIFAS ANUALES"]
["EDAD"]
[" "," ",2000,3500,5000,10000]
[18,null,4297,3648,3164,2353]
[19,null,4351,3687,3194,2377]
[20,null,4405,3727,3226,2400]
[21,null,4460,3769,3259,2425]
[22,null,4517,3812,3293,2449]
[23,null,4577,3858,3330,2477]
[24,null,4640,3907,3367,2505]
[25,null,4703,3953,3405,2533]
[26,null,4796,4024,3461,2575]
[27,null,4892,4098,3522,2620]
[28,null,4992,4176,3583,2666]
[29,null,5096,4254,3648,2714]
[30,null,5204,4338,3717,2765]
[31,null,5315,4426,3785,2816]
[32,null,5431,4514,3859,2871]
[33,null,5549,4608,3935,2927]
[34,null,5673,4705,4015,2987]
[35,null,5800,4804,4096,3047]
[36,null,5930,4907,4179,3108]
[37,null,6064,5013,4274,3180]
[38,null,6201,5122,4383,3260]
[39,null,6345,5236,4495,3344]
[40,null,6489,5351,4609,3430]
[41,null,6639,5469,4728,3518]
[42,null,6794,5592,4849,3608]
[43,null,6949,5717,4972,3699]
[44,null,7111,5845,5099,3793]
[45,null,7277,5977,5229,3891]
[46,null,7445,6112,5364,3989]
[47,null,7619,6250,5500,4091]
[48,null,7794,6391,5640,4195]
[49,null,7974,6535,5782,4300]
[50,null,8158,6684,5926,4409]
[51,null,8346,6835,6074,4519]
[52,null,8538,6989,6227,4632]
[53,null,8733,7148,6382,4747]
[54,null,8931,7308,6539,4864]
[55,null,9135,7471,6700,4984]
[56,null,9342,7639,6864,5107]
[57,null,9551,7808,7029,5228]
[58,null,9766,7982,7198,5355]
[59,null,9986,8159,7373,5484]
[60,null,10208,8338,7548,5614]
[61,null,11375,9288,8472,6303]
[62,null,12639,10315,9475,7047]
[63,null,13997,11424,10552,7849]
[64,null,15451,12614,11706,8707]
[65,null,17000,13883,12936,9622]
[66,null,18644,15235,14243,10594]
[67,null,20383,16665,15626,11623]
[68,null,22219,18176,17082,12707]
[69,null,24148,19765,18618,13849]
[70,null,26174,21440,20231,15048]
[71,null,28296,23190,21916,16303]
[72,null,30513,25023,23681,17615]
[73,null,32823,26937,25520,18983]
[74,null,35231,28929,27435,20408]
[75,null,37734,31004,29429,21891]
[76,null,37734,31004,29429,21891]
[77,null,37734,31004,29429,21891]
[78,null,37734,31004,29429,21891]
[79,null,37734,31004,29429,21891]
[80,null,37734,31004,29429,21891]
[81,null,37734,31004,29429,21891]
[82,null,37734,31004,29429,21891]
[83,null,37734,31004,29429,21891]
[84,"o más",37734,31004,29429,21891]
[1,"Hijo",1935,1642,1425,1059]
[2,"Hijos",3289,2790,2420,1800]
[3,"Hijos o más",4641,3941,3417,2541]
[]
["BUPA GLOBAL PREMIER - MENSUALES"]
["EDAD"]
[" "," ",2000,3500,5000]
[18,null,{"$f":"C155*$K$2","v":358.08333333333331},{"$f":"D155*$K$2","v":304},263.66666666666663,196.08333333333331,0]
[19,null,{"$f":"C156*$K$2","v":362.58333333333331},307.25,266.16666666666663,198.08333333333331,0]
[20,null,{"$f":"C157*$K$2","v":367.08333333333331},310.58333333333331,268.83333333333331,200,0]
[21,null,{"$f":"C158*$K$2","v":371.66666666666663},314.08333333333331,271.58333333333331,202.08333333333331,0]
[22,null,{"$f":"C159*$K$2","v":376.41666666666663},317.66666666666663,274.41666666666663,204.08333333333331,0]
[23,null,{"$f":"C160*$K$2","v":381.41666666666663},321.5,277.5,206.41666666666666,0]
[24,null,{"$f":"C161*$K$2","v":386.66666666666663},325.58333333333331,280.58333333333331,208.75,0]
[25,null,{"$f":"C162*$K$2","v":391.91666666666663},329.41666666666663,283.75,211.08333333333331,0]
[26,null,{"$f":"C163*$K$2","v":399.66666666666663},335.33333333333331,288.41666666666663,214.58333333333331,0]
[27,null,{"$f":"C164*$K$2","v":407.66666666666663},341.5,293.5,218.33333333333331,0]
[28,null,{"$f":"C165*$K$2","v":416},348,298.58333333333331,222.16666666666666,0]
[29,null,{"$f":"C166*$K$2","v":424.66666666666663},354.5,304,226.16666666666666,0]
[30,null,{"$f":"C167*$K$2","v":433.66666666666663},361.5,309.75,230.41666666666666,0]
[31,null,{"$f":"C168*$K$2","v":442.91666666666663},368.83333333333331,315.41666666666663,234.66666666666666,0]
[32,null,{"$f":"C169*$K$2","v":452.58333333333331},376.16666666666663,321.58333333333331,239.25,0]
[33,null,{"$f":"C170*$K$2","v":462.41666666666663},384,327.91666666666663,243.91666666666666,0]
[34,null,{"$f":"C171*$K$2","v":472.75},392.08333333333331,334.58333333333331,248.91666666666666,0]
[35,null,{"$f":"C172*$K$2","v":483.33333333333331},400.33333333333331,341.33333333333331,253.91666666666666,0]
[36,null,{"$f":"C173*$K$2","v":494.16666666666663},408.91666666666663,348.25,259,0]
[37,null,{"$f":"C174*$K$2","v":505.33333333333331},417.75,356.16666666666663,265,0]
[38,null,{"$f":"C175*$K$2","v":516.75},426.83333333333331,365.25,271.66666666666663,0]
[39,null,{"$f":"C176*$K$2","v":528.75},436.33333333333331,374.58333333333331,278.66666666666663,0]
[40,null,{"$f":"C177*$K$2","v":540.75},445.91666666666663,384.08333333333331,285.83333333333331,0]
[41,null,{"$f":"C178*$K$2","v":553.25},455.75,394,293.16666666666663,0]
[42,null,{"$f":"C179*$K$2","v":566.16666666666663},466,404.08333333333331,300.66666666666663,0]
[43,null,{"$f":"C180*$K$2","v":579.08333333333326},476.41666666666663,414.33333333333331,308.25,0]
[44,null,{"$f":"C181*$K$2","v":592.58333333333326},487.08333333333331,424.91666666666663,316.08333333333331,0]
[45,null,{"$f":"C182*$K$2","v":606.41666666666663},498.08333333333331,435.75,324.25,0]
[46,null,{"$f":"C183*$K$2","v":620.41666666666663},509.33333333333331,447,332.41666666666663,0]
[47,null,{"$f":"C184*$K$2","v":634.91666666666663},520.83333333333326,458.33333333333331,340.91666666666663,0]
[48,null,{"$f":"C185*$K$2","v":649.5},532.58333333333326,470,349.58333333333331,0]
[49,null,{"$f":"C186*$K$2","v":664.5},544.58333333333326,481.83333333333331,358.33333333333331,0]
[50,null,{"$f":"C187*$K$2","v":679.83333333333326},557,493.83333333333331,367.41666666666663,0]
[51,null,{"$f":"C188*$K$2","v":695.5},569.58333333333326,506.16666666666663,376.58333333333331,0]
[52,null,{"$f":"C189*$K$2","v":711.5},582.41666666666663,518.91666666666663,386,0]
[53,null,{"$f":"C190*$K$2","v":727.75},595.66666666666663,531.83333333333326,395.58333333333331,0]
[54,null,{"$f":"C191*$K$2","v":744.25},609,544.91666666666663,405.33333333333331,0]
[55,null,{"$f":"C192*$K$2","v":761.25},622.58333333333326,558.33333333333326,415.33333333333331,0]
[56,null,{"$f":"C193*$K$2","v":778.5},636.58333333333326,572,425.58333333333331,0]
[57,null,{"$f":"C194*$K$2","v":795.91666666666663},650.66666666666663,585.75,435.66666666666663,0]
[58,null,{"$f":"C195*$K$2","v":813.83333333333326},665.16666666666663,599.83333333333326,446.25,0]
[59,null,{"$f":"C196*$K$2","v":832.16666666666663},679.91666666666663,614.41666666666663,457,0]
[60,null,{"$f":"C197*$K$2","v":850.66666666666663},694.83333333333326,629,467.83333333333331,0]
[61,null,{"$f":"C198*$K$2","v":947.91666666666663},774,706,525.25,0]
[62,null,{"$f":"C199*$K$2","v":1053.25},859.58333333333326,789.58333333333326,587.25,0]
[63,null,{"$f":"C200*$K$2","v":1166.4166666666665},952,879.33333333333326,654.08333333333326,0]
[64,null,{"$f":"C201*$K$2","v":1287.5833333333333},1051.1666666666665,975.5,725.58333333333326,0]
[65,null,{"$f":"C202*$K$2","v":1416.6666666666665},1156.9166666666665,1078,801.83333333333326,0]
[66,null,{"$f":"C203*$K$2","v":1553.6666666666665},1269.5833333333333,1186.9166666666665,882.83333333333326,0]
[67,null,{"$f":"C204*$K$2","v":1698.5833333333333},1388.75,1302.1666666666665,968.58333333333326,0]
[68,null,{"$f":"C205*$K$2","v":1851.5833333333333},1514.6666666666665,1423.5,1058.9166666666665,0]
[69,null,{"$f":"C206*$K$2","v":2012.3333333333333},1647.0833333333333,1551.5,1154.0833333333333,0]
[70,null,{"$f":"C207*$K$2","v":2181.1666666666665},1786.6666666666665,1685.9166666666665,1254,0]
[71,null,{"$f":"C208*$K$2","v":2358},1932.5,1826.3333333333333,1358.5833333333333,0]
[72,null,{"$f":"C209*$K$2","v":2542.75},2085.25,1973.4166666666665,1467.9166666666665,0]
[73,null,{"$f":"C210*$K$2","v":2735.25},2244.75,2126.6666666666665,1581.9166666666665,0]
[74,null,{"$f":"C211*$K$2","v":2935.9166666666665},2410.75,2286.25,1700.6666666666665,0]
[75,null,{"$f":"C212*$K$2","v":3144.5},2583.6666666666665,2452.4166666666665,1824.25,0]
[76,null,{"$f":"C213*$K$2","v":3144.5},2583.6666666666665,2452.4166666666665,1824.25,0]
[77,null,{"$f":"C214*$K$2","v":3144.5},2583.6666666666665,2452.4166666666665,1824.25,0]
[78,null,{"$f":"C215*$K$2","v":3144.5},2583.6666666666665,2452.4166666666665,1824.25,0]
[79,null,{"$f":"C216*$K$2","v":3144.5},2583.6666666666665,2452.4166666666665,1824.25,0]
[80,null,{"$f":"C217*$K$2","v":3144.5},2583.6666666666665,2452.4166666666665,1824.25]
[81,null,{"$f":"C218*$K$2","v":3144.5},2583.6666666666665,2452.4166666666665,1824.25]
[82,null,{"$f":"C219*$K$2","v":3144.5},2583.6666666666665,2452.4166666666665,1824.25]
[83,null,{"$f":"C220*$K$2","v":3144.5},2583.6666666666665,2452.4166666666665,1824.25]
[84,"o más",{"$f":"C221*$K$2","v":3144.5},2583.6666666666665,2452.4166666666665,1824.25,0]
[1,"Hijo",{"$f":"C222*$K$2","v":161.25},136.83333333333331,118.75,88.25,0]
[2,"Hijos",{"$f":"C223*$K$2","v":274.08333333333331},232.5,201.66666666666666,150,0]
[3,"Hijos o más",{"$f":"C224*$K$2","v":386.75},328.41666666666663,284.75,211.75,0]
[]
[]
["BUPA GLOBAL SELECT"]
["TARIFAS ANUALES"]
["EDAD"]
[" "," ",2000,3500,5000,10000]
[18,null,2888,2462,2231,1660]
[19,null,2928,2491,2256,1678]
[20,null,2972,2523,2283,1698]
[21,null,3015,2555,2309,1718]
[22,null,3060,2591,2338,1739]
[23,null,3107,2625,2367,1761]
[24,null,3153,2663,2398,1783]
[25,null,3205,2700,2430,1807]
[26,null,3277,2755,2477,1843]
[27,null,3352,2815,2524,1879]
[28,null,3430,2874,2575,1917]
[29,null,3512,2939,2628,1955]
[30,null,3596,3003,2684,1998]
[31,null,3684,3072,2743,2040]
[32,null,3775,3143,2802,2084]
[33,null,3867,3217,2866,2132]
[34,null,3965,3292,2929,2179]
[35,null,4063,3371,2999,2231]
[36,null,4166,3452,3067,2282]
[37,null,4273,3537,3140,2337]
[38,null,4381,3623,3213,2391]
[39,null,4493,3710,3291,2448]
[40,null,4608,3803,3368,2506]
[41,null,4727,3897,3451,2567]
[42,null,4848,3994,3533,2628]
[43,null,4971,4092,3619,2692]
[44,null,5098,4195,3707,2758]
[45,null,5228,4299,3797,2824]
[46,null,5363,4405,3891,2894]
[47,null,5498,4514,3986,2965]
[48,null,5639,4627,4084,3037]
[49,null,5781,4742,4181,3111]
[50,null,5924,4860,4284,3187]
[51,null,6073,4978,4389,3265]
[52,null,6225,5100,4496,3344]
[53,null,6380,5226,4604,3425]
[54,null,6535,5352,4715,3508]
[55,null,6699,5483,4830,3593]
[56,null,6862,5614,4945,3679]
[57,null,7027,5751,5064,3768]
[58,null,7197,5889,5183,3856]
[59,null,7372,6030,5306,3947]
[60,null,7547,6171,5431,4040]
[61,null,8471,6925,6091,4531]
[62,null,9474,7741,6810,5066]
[63,null,10551,8624,7584,5642]
[64,null,11705,9568,8418,6262]
[65,null,12935,10577,9308,6924]
[66,null,14241,11651,10257,7630]
[67,null,15625,12789,11265,8380]
[68,null,17081,13994,12329,9172]
[69,null,18617,15260,13452,10007]
[70,null,20228,16591,14632,10885]
[71,null,21915,17986,15870,11805]
[72,null,23680,19445,17166,12769]
[73,null,25518,20969,18519,13774]
[74,null,27434,22556,19932,14826]
[75,null,29428,24210,21400,15919]
[76,null,29428,24210,21400,15919]
[77,null,29428,24210,21400,15919]
[78,null,29428,24210,21400,15919]
[79,null,29428,24210,21400,15919]
[80,null,29428,24210,21400,15919]
[81,null,29428,24210,21400,15919]
[82,null,29428,24210,21400,15919]
[83,null,29428,24210,21400,15919]
[84,"o más",29428,24210,21400,15919]
[1,"Hijo",1453,1240,1125,837]
[2,"Hijos",2471,2107,1908,1420]
[3,"Hijos o más",3489,2973,2695,2005]
[]
["BUPA GLOBAL SELECT - MENSUALES"]
["EDAD"]
[" "," ",2000,3500,5000]
[18,null,{"$f":"C305*$K$2","v":240.66666666666666},{"$f":"D305*$K$2","v":205.16666666666666},185.91666666666666,138.33333333333331,0]
[19,null,{"$f":"C306*$K$2","v":244},207.58333333333331,188,139.83333333333331,0]
[20,null,{"$f":"C307*$K$2","v":247.66666666666666},210.25,190.25,141.5,0]
[21,null,{"$f":"C308*$K$2","v":251.25},212.91666666666666,192.41666666666666,143.16666666666666,0]
[22,null,{"$f":"C309*$K$2","v":255},215.91666666666666,194.83333333333331,144.91666666666666,0]
[23,null,{"$f":"C310*$K$2","v":258.91666666666663},218.75,197.25,146.75,0]
[24,null,{"$f":"C311*$K$2","v":262.75},221.91666666666666,199.83333333333331,148.58333333333331,0]
[25,null,{"$f":"C312*$K$2","v":267.08333333333331},225,202.5,150.58333333333331,0]
[26,null,{"$f":"C313*$K$2","v":273.08333333333331},229.58333333333331,206.41666666666666,153.58333333333331,0]
[27,null,{"$f":"C314*$K$2","v":279.33333333333331},234.58333333333331,210.33333333333331,156.58333333333331,0]
[28,null,{"$f":"C315*$K$2","v":285.83333333333331},239.5,214.58333333333331,159.75,0]
[29,null,{"$f":"C316*$K$2","v":292.66666666666663},244.91666666666666,219,162.91666666666666,0]
[30,null,{"$f":"C317*$K$2","v":299.66666666666663},250.25,223.66666666666666,166.5,0]
[31,null,{"$f":"C318*$K$2","v":307},256,228.58333333333331,170,0]
[32,null,{"$f":"C319*$K$2","v":314.58333333333331},261.91666666666663,233.5,173.66666666666666,0]
[33,null,{"$f":"C320*$K$2","v":322.25},268.08333333333331,238.83333333333331,177.66666666666666,0]
[34,null,{"$f":"C321*$K$2","v":330.41666666666663},274.33333333333331,244.08333333333331,181.58333333333331,0]
[35,null,{"$f":"C322*$K$2","v":338.58333333333331},280.91666666666663,249.91666666666666,185.91666666666666,0]
[36,null,{"$f":"C323*$K$2","v":347.16666666666663},287.66666666666663,255.58333333333331,190.16666666666666,0]
[37,null,{"$f":"C324*$K$2","v":356.08333333333331},294.75,261.66666666666663,194.75,0]
[38,null,{"$f":"C325*$K$2","v":365.08333333333331},301.91666666666663,267.75,199.25,0]
[39,null,{"$f":"C326*$K$2","v":374.41666666666663},309.16666666666663,274.25,204,0]
[40,null,{"$f":"C327*$K$2","v":384},316.91666666666663,280.66666666666663,208.83333333333331,0]
[41,null,{"$f":"C328*$K$2","v":393.91666666666663},324.75,287.58333333333331,213.91666666666666,0]
[42,null,{"$f":"C329*$K$2","v":404},332.83333333333331,294.41666666666663,219,0]
[43,null,{"$f":"C330*$K$2","v":414.25},341,301.58333333333331,224.33333333333331,0]
[44,null,{"$f":"C331*$K$2","v":424.83333333333331},349.58333333333331,308.91666666666663,229.83333333333331,0]
[45,null,{"$f":"C332*$K$2","v":435.66666666666663},358.25,316.41666666666663,235.33333333333331,0]
[46,null,{"$f":"C333*$K$2","v":446.91666666666663},367.08333333333331,324.25,241.16666666666666,0]
[47,null,{"$f":"C334*$K$2","v":458.16666666666663},376.16666666666663,332.16666666666663,247.08333333333331,0]
[48,null,{"$f":"C335*$K$2","v":469.91666666666663},385.58333333333331,340.33333333333331,253.08333333333331,0]
[49,null,{"$f":"C336*$K$2","v":481.75},395.16666666666663,348.41666666666663,259.25,0]
[50,null,{"$f":"C337*$K$2","v":493.66666666666663},405,357,265.58333333333331,0]
[51,null,{"$f":"C338*$K$2","v":506.08333333333331},414.83333333333331,365.75,272.08333333333331,0]
[52,null,{"$f":"C339*$K$2","v":518.75},425,374.66666666666663,278.66666666666663,0]
[53,null,{"$f":"C340*$K$2","v":531.66666666666663},435.5,383.66666666666663,285.41666666666663,0]
[54,null,{"$f":"C341*$K$2","v":544.58333333333326},446,392.91666666666663,292.33333333333331,0]
[55,null,{"$f":"C342*$K$2","v":558.25},456.91666666666663,402.5,299.41666666666663,0]
[56,null,{"$f":"C343*$K$2","v":571.83333333333326},467.83333333333331,412.08333333333331,306.58333333333331,0]
[57,null,{"$f":"C344*$K$2","v":585.58333333333326},479.25,422,314,0]
[58,null,{"$f":"C345*$K$2","v":599.75},490.75,431.91666666666663,321.33333333333331,0]
[59,null,{"$f":"C346*$K$2","v":614.33333333333326},502.5,442.16666666666663,328.91666666666663,0]
[60,null,{"$f":"C347*$K$2","v":628.91666666666663},514.25,452.58333333333331,336.66666666666663,0]
[61,null,{"$f":"C348*$K$2","v":705.91666666666663},577.08333333333326,507.58333333333331,377.58333333333331,0]
[62,null,{"$f":"C349*$K$2","v":789.5},645.08333333333326,567.5,422.16666666666663,0]
[63,null,{"$f":"C350*$K$2","v":879.25},718.66666666666663,632,470.16666666666663,0]
[64,null,{"$f":"C351*$K$2","v":975.41666666666663},797.33333333333326,701.5,521.83333333333326,0]
[65,null,{"$f":"C352*$K$2","v":1077.9166666666665},881.41666666666663,775.66666666666663,577,0]
[66,null,{"$f":"C353*$K$2","v":1186.75},970.91666666666663,854.75,635.83333333333326,0]
[67,null,{"$f":"C354*$K$2","v":1302.0833333333333},1065.75,938.75,698.33333333333326,0]
[68,null,{"$f":"C355*$K$2","v":1423.4166666666665},1166.1666666666665,1027.4166666666665,764.33333333333326,0]
[69,null,{"$f":"C356*$K$2","v":1551.4166666666665},1271.6666666666665,1121,833.91666666666663,0]
[70,null,{"$f":"C357*$K$2","v":1685.6666666666665},1382.5833333333333,1219.3333333333333,907.08333333333326,0]
[71,null,{"$f":"C358*$K$2","v":1826.25},1498.8333333333333,1322.5,983.75,0]
[72,null,{"$f":"C359*$K$2","v":1973.3333333333333},1620.4166666666665,1430.5,1064.0833333333333,0]
[73,null,{"$f":"C360*$K$2","v":2126.5},1747.4166666666665,1543.25,1147.8333333333333,0]
[74,null,{"$f":"C361*$K$2","v":2286.1666666666665},1879.6666666666665,1661,1235.5,0]
[75,null,{"$f":"C362*$K$2","v":2452.333333333333},2017.5,1783.3333333333333,1326.5833333333333,0]
[76,null,{"$f":"C363*$K$2","v":2452.333333333333},2017.5,1783.3333333333333,1326.5833333333333,0]
[77,null,{"$f":"C364*$K$2","v":2452.333333333333},2017.5,1783.3333333333333,1326.5833333333333,0]
[78,null,{"$f":"C365*$K$2","v":2452.333333333333},2017.5,1783.3333333333333,1326.5833333333333,0]
[79,null,{"$f":"C366*$K$2","v":2452.333333333333},2017.5,1783.3333333333333,1326.5833333333333,0]
[80,null,{"$f":"C367*$K$2","v":2452.333333333333},2017.5,1783.3333333333333,1326.5833333333333]
[81,null,{"$f":"C368*$K$2","v":2452.333333333333},2017.5,1783.3333333333333,1326.5833333333333]
[82,null,{"$f":"C369*$K$2","v":2452.333333333333},2017.5,1783.3333333333333,1326.5833333333333]
[83,null,{"$f":"C370*$K$2","v":2452.333333333333},2017.5,1783.3333333333333,1326.5833333333333]
[84,"o más",{"$f":"C371*$K$2","v":2452.333333333333},2017.5,1783.3333333333333,1326.5833333333333,0]
[1,"Hijo",{"$f":"C372*$K$2","v":121.08333333333333},103.33333333333333,93.75,69.75]
[2,"Hijos",{"$f":"C373*$K$2","v":205.91666666666666},175.58333333333331,159,118.33333333333333]
[3,"Hijos o más",{"$f":"C374*$K$2","v":290.75},247.75,224.58333333333331,167.08333333333331]
[]
[]
["BUPA GLOBAL ELITE"]
["TARIFAS SEMESTRALES"]
["EDAD"]
[" "," ",1000,2000,3500]
[18,null,{"$f":"C6*$K$4","v":3709},{"$f":"D6*$K$4","v":2656.5},2249.5,1950.5,1513]
[19,null,{"$f":"C7*$K$4","v":3758},2688.5,2273,1971.5,1529]
[20,null,{"$f":"C8*$K$4","v":3808},2722.5,2298.5,1993,1545.5]
[21,null,{"$f":"C9*$K$4","v":3859.5},2757,2324.5,2015.5,1563]
[22,null,{"$f":"C10*$K$4","v":3913},2793,2351,2038.5,1580.5]
[23,null,{"$f":"C11*$K$4","v":3969.5},2829,2379.5,2063.5,1600.5]
[24,null,{"$f":"C12*$K$4","v":4025.5},2867.5,2408,2088,1619.5]
[25,null,{"$f":"C13*$K$4","v":4084},2907.5,2437.5,2114,1639.5]
[26,null,{"$f":"C14*$K$4","v":4168},2964.5,2481,2152,1668.5]
[27,null,{"$f":"C15*$K$4","v":4255.5},3024,2527,2190.5,1699.5]
[28,null,{"$f":"C16*$K$4","v":4345.5},3085,2574,2232,1730.5]
[29,null,{"$f":"C17*$K$4","v":4440},3149,2623.5,2275,1764.5]
[30,null,{"$f":"C18*$K$4","v":4537},3216.5,2675.5,2320,1799.5]
[31,null,{"$f":"C19*$K$4","v":4637.5},3285,2729.5,2366.5,1836]
[32,null,{"$f":"C20*$K$4","v":4740.5},3356.5,2784,2414,1871.5]
[33,null,{"$f":"C21*$K$4","v":4847},3430,2842,2464,1911.5]
[34,null,{"$f":"C22*$K$4","v":4957},3506,2901,2515.5,1950.5]
[35,null,{"$f":"C23*$K$4","v":5069},3584,2963,2569.5,1993]
[36,null,{"$f":"C24*$K$4","v":5185},3664.5,3026,2623.5,2035]
[37,null,{"$f":"C25*$K$4","v":5304.5},3748.5,3091,2681,2079]
[38,null,{"$f":"C26*$K$4","v":5426.5},3833,3158.5,2739.5,2124.5]
[39,null,{"$f":"C27*$K$4","v":5552.5},3921.5,3228,2799,2170.5]
[40,null,{"$f":"C28*$K$4","v":5681},4011.5,3299,2860.5,2219]
[41,null,{"$f":"C29*$K$4","v":5813},4104,3372.5,2924.5,2268.5]
[42,null,{"$f":"C30*$K$4","v":5947.5},4198.5,3448,2989.5,2319]
[43,null,{"$f":"C31*$K$4","v":6085},4296.5,3525.5,3057,2371]
[44,null,{"$f":"C32*$K$4","v":6226.5},4395,3604,3125.5,2424.5]
[45,null,{"$f":"C33*$K$4","v":6371},4497.5,3686,3195.5,2478.5]
[46,null,{"$f":"C34*$K$4","v":6518.5},4601.5,3769.5,3269,2534.5]
[47,null,{"$f":"C35*$K$4","v":6669},4709,3854,3341.5,2592]
[48,null,{"$f":"C36*$K$4","v":6823},4817,3941,3417,2650]
[49,null,{"$f":"C37*$K$4","v":6980.5},4929,4030.5,3495,2710]
[50,null,{"$f":"C38*$K$4","v":7140},5042,4122,3574.5,2772]
[51,null,{"$f":"C39*$K$4","v":7303.5},5158,4216,3655.5,2834.5]
[52,null,{"$f":"C40*$K$4","v":7469.5},5276.5,4309.5,3736.5,2898.5]
[53,null,{"$f":"C41*$K$4","v":7639.5},5398.5,4407.5,3821.5,2964]
[54,null,{"$f":"C42*$K$4","v":7812.5},5521.5,4506,3907,3030.5]
[55,null,{"$f":"C43*$K$4","v":7988.5},5646.5,4607.5,3995,3098.5]
[56,null,{"$f":"C44*$K$4","v":8166.5},5774,4710.5,4084.5,3168]
[57,null,{"$f":"C45*$K$4","v":8349.5},5904,4815.5,4175,3238]
[58,null,{"$f":"C46*$K$4","v":8535},6036.5,4922.5,4268,3310]
[59,null,{"$f":"C47*$K$4","v":8723},6171.5,5031,4362.5,3383]
[60,null,{"$f":"C48*$K$4","v":8914.5},6309,5142.5,4458.5,3458]
[61,null,{"$f":"C49*$K$4","v":9921},7030.5,5727,4966,3852]
[62,null,{"$f":"C50*$K$4","v":11005.5},7812,6362,5516.5,4278]
[63,null,{"$f":"C51*$K$4","v":12169.5},8651,7045.5,6109,4738]
[64,null,{"$f":"C52*$K$4","v":13412},9550,7778.5,6745,5231.5]
[65,null,{"$f":"C53*$K$4","v":14733},10507.5,8561.5,7423.5,5757.5]
[66,null,{"$f":"C54*$K$4","v":16133.5},11523.5,9394.5,8146.5,6318]
[67,null,{"$f":"C55*$K$4","v":17613},12598.5,10276.5,8911,6911]
[68,null,{"$f":"C56*$K$4","v":19171.5},13733,11207.5,9718,7537]
[69,null,{"$f":"C57*$K$4","v":20808},14926,12189.5,10569.5,8197]
[70,null,{"$f":"C58*$K$4","v":22524.5},16178.5,13220.5,11463.5,8891]
[71,null,{"$f":"C59*$K$4","v":24320},17489.5,14301,12400.5,9617.5]
[72,null,{"$f":"C60*$K$4","v":26193.5},18860.5,15431,13380,10377]
[73,null,{"$f":"C61*$K$4","v":28146},20289,16610,14402.5,11170]
[74,null,{"$f":"C62*$K$4","v":30178},21777,17839.5,15469,11997]
[75,null,{"$f":"C63*$K$4","v":32288.5},23324.5,19118.5,16577.5,12856.5]
[76,null,{"$f":"C64*$K$4","v":32288.5},23324.5,19118.5,16577.5,12856.5]
[77,null,{"$f":"C65*$K$4","v":32288.5},23324.5,19118.5,16577.5,12856.5]
[78,null,{"$f":"C66*$K$4","v":32288.5},23324.5,19118.5,16577.5,12856.5]
[79,null,{"$f":"C67*$K$4","v":32288.5},23324.5,19118.5,16577.5,12856.5]
[80,null,{"$f":"C68*$K$4","v":32288.5},23324.5,19118.5,16577.5,12856.5]
[81,null,{"$f":"C69*$K$4","v":32288.5},23324.5,19118.5,16577.5,12856.5]
[82,null,{"$f":"C70*$K$4","v":32288.5},23324.5,19118.5,16577.5,12856.5]
[83,null,{"$f":"C71*$K$4","v":32288.5},23324.5,19118.5,16577.5,12856.5]
[84,"o más",{"$f":"C72*$K$4","v":32288.5},23324.5,19118.5,16577.5,12856.5]
[1,"Hijo",{"$f":"C73*$K$4","v":1669.5},1195.5,1012.5,878,681.5]
[2,"Hijos",{"$f":"C74*$K$4","v":2837.5},2032.5,1721,1492,1158]
[3,"Hijos o más",{"$f":"C75*$K$4","v":4005.5},2869,2430,2106.5,1634]
[]
["BUPA GLOBAL PREMIER"]
["TARIFAS SEMESTRALES"]
["EDAD"]
[" "," ",2000,3500,5000]
[18,null,{"$f":"C155*$K$4","v":2148.5},{"$f":"D155*$K$4","v":1824},1582,1176.5,0]
[19,null,{"$f":"C156*$K$4","v":2175.5},1843.5,1597,1188.5,0]
[20,null,{"$f":"C157*$K$4","v":2202.5},1863.5,1613,1200,0]
[21,null,{"$f":"C158*$K$4","v":2230},1884.5,1629.5,1212.5,0]
[22,null,{"$f":"C159*$K$4","v":2258.5},1906,1646.5,1224.5,0]
[23,null,{"$f":"C160*$K$4","v":2288.5},1929,1665,1238.5,0]
[24,null,{"$f":"C161*$K$4","v":2320},1953.5,1683.5,1252.5,0]
[25,null,{"$f":"C162*$K$4","v":2351.5},1976.5,1702.5,1266.5,0]
[26,null,{"$f":"C163*$K$4","v":2398},2012,1730.5,1287.5,0]
[27,null,{"$f":"C164*$K$4","v":2446},2049,1761,1310,0]
[28,null,{"$f":"C165*$K$4","v":2496},2088,1791.5,1333,0]
[29,null,{"$f":"C166*$K$4","v":2548},2127,1824,1357,0]
[30,null,{"$f":"C167*$K$4","v":2602},2169,1858.5,1382.5,0]
[31,null,{"$f":"C168*$K$4","v":2657.5},2213,1892.5,1408,0]
[32,null,{"$f":"C169*$K$4","v":2715.5},2257,1929.5,1435.5,0]
[33,null,{"$f":"C170*$K$4","v":2774.5},2304,1967.5,1463.5,0]
[34,null,{"$f":"C171*$K$4","v":2836.5},2352.5,2007.5,1493.5,0]
[35,null,{"$f":"C172*$K$4","v":2900},2402,2048,1523.5,0]
[36,null,{"$f":"C173*$K$4","v":2965},2453.5,2089.5,1554,0]
[37,null,{"$f":"C174*$K$4","v":3032},2506.5,2137,1590,0]
[38,null,{"$f":"C175*$K$4","v":3100.5},2561,2191.5,1630,0]
[39,null,{"$f":"C176*$K$4","v":3172.5},2618,2247.5,1672,0]
[40,null,{"$f":"C177*$K$4","v":3244.5},2675.5,2304.5,1715,0]
[41,null,{"$f":"C178*$K$4","v":3319.5},2734.5,2364,1759,0]
[42,null,{"$f":"C179*$K$4","v":3397},2796,2424.5,1804,0]
[43,null,{"$f":"C180*$K$4","v":3474.5},2858.5,2486,1849.5,0]
[44,null,{"$f":"C181*$K$4","v":3555.5},2922.5,2549.5,1896.5,0]
[45,null,{"$f":"C182*$K$4","v":3638.5},2988.5,2614.5,1945.5,0]
[46,null,{"$f":"C183*$K$4","v":3722.5},3056,2682,1994.5,0]
[47,null,{"$f":"C184*$K$4","v":3809.5},3125,2750,2045.5,0]
[48,null,{"$f":"C185*$K$4","v":3897},3195.5,2820,2097.5,0]
[49,null,{"$f":"C186*$K$4","v":3987},3267.5,2891,2150,0]
[50,null,{"$f":"C187*$K$4","v":4079},3342,2963,2204.5,0]
[51,null,{"$f":"C188*$K$4","v":4173},3417.5,3037,2259.5,0]
[52,null,{"$f":"C189*$K$4","v":4269},3494.5,3113.5,2316,0]
[53,null,{"$f":"C190*$K$4","v":4366.5},3574,3191,2373.5,0]
[54,null,{"$f":"C191*$K$4","v":4465.5},3654,3269.5,2432,0]
[55,null,{"$f":"C192*$K$4","v":4567.5},3735.5,3350,2492,0]
[56,null,{"$f":"C193*$K$4","v":4671},3819.5,3432,2553.5,0]
[57,null,{"$f":"C194*$K$4","v":4775.5},3904,3514.5,2614,0]
[58,null,{"$f":"C195*$K$4","v":4883},3991,3599,2677.5,0]
[59,null,{"$f":"C196*$K$4","v":4993},4079.5,3686.5,2742,0]
[60,null,{"$f":"C197*$K$4","v":5104},4169,3774,2807,0]
[61,null,{"$f":"C198*$K$4","v":5687.5},4644,4236,3151.5,0]
[62,null,{"$f":"C199*$K$4","v":6319.5},5157.5,4737.5,3523.5,0]
[63,null,{"$f":"C200*$K$4","v":6998.5},5712,5276,3924.5,0]
[64,null,{"$f":"C201*$K$4","v":7725.5},6307,5853,4353.5,0]
[65,null,{"$f":"C202*$K$4","v":8500},6941.5,6468,4811,0]
[66,null,{"$f":"C203*$K$4","v":9322},7617.5,7121.5,5297,0]
[67,null,{"$f":"C204*$K$4","v":10191.5},8332.5,7813,5811.5,0]
[68,null,{"$f":"C205*$K$4","v":11109.5},9088,8541,6353.5,0]
[69,null,{"$f":"C206*$K$4","v":12074},9882.5,9309,6924.5,0]
[70,null,{"$f":"C207*$K$4","v":13087},10720,10115.5,7524,0]
[71,null,{"$f":"C208*$K$4","v":14148},11595,10958,8151.5,0]
[72,null,{"$f":"C209*$K$4","v":15256.5},12511.5,11840.5,8807.5,0]
[73,null,{"$f":"C210*$K$4","v":16411.5},13468.5,12760,9491.5,0]
[74,null,{"$f":"C211*$K$4","v":17615.5},14464.5,13717.5,10204,0]
[75,null,{"$f":"C212*$K$4","v":18867},15502,14714.5,10945.5,0]
[76,null,{"$f":"C213*$K$4","v":18867},15502,14714.5,10945.5,0]
[77,null,{"$f":"C214*$K$4","v":18867},15502,14714.5,10945.5,0]
[78,null,{"$f":"C215*$K$4","v":18867},15502,14714.5,10945.5,0]
[79,null,{"$f":"C216*$K$4","v":18867},15502,14714.5,10945.5,0]
[80,null,{"$f":"C217*$K$4","v":18867},15502,14714.5,10945.5,0]
[81,null,{"$f":"C218*$K$4","v":18867},15502,14714.5,10945.5,0]
[82,null,{"$f":"C219*$K$4","v":18867},15502,14714.5,10945.5,0]
[83,null,{"$f":"C220*$K$4","v":18867},15502,14714.5,10945.5,0]
[84,"o más",{"$f":"C221*$K$4","v":18867},15502,14714.5,10945.5,0]
[1,"Hijo",{"$f":"C222*$K$4","v":967.5},821,712.5,529.5,0]
[2,"Hijos",{"$f":"C223*$K$4","v":1644.5},1395,1210,900,0]
[3,"Hijos o más",{"$f":"C224*$K$4","v":2320.5},1970.5,1708.5,1270.5,0]
[]
["BUPA GLOBAL SELECT"]
["TARIFAS SEMESTRALES"]
["EDAD"]
[" "," ",2000,3500,5000]
[18,null,{"$f":"C305*$K$4","v":1444},{"$f":"D305*$K$4","v":1231},1115.5,830,0]
[19,null,{"$f":"C306*$K$4","v":1464},1245.5,1128,839,0]
[20,null,{"$f":"C307*$K$4","v":1486},1261.5,1141.5,849,0]
[21,null,{"$f":"C308*$K$4","v":1507.5},1277.5,1154.5,859,0]
[22,null,{"$f":"C309*$K$4","v":1530},1295.5,1169,869.5,0]
[23,null,{"$f":"C310*$K$4","v":1553.5},1312.5,1183.5,880.5,0]
[24,null,{"$f":"C311*$K$4","v":1576.5},1331.5,1199,891.5,0]
[25,null,{"$f":"C312*$K$4","v":1602.5},1350,1215,903.5,0]
[26,null,{"$f":"C313*$K$4","v":1638.5},1377.5,1238.5,921.5,0]
[27,null,{"$f":"C314*$K$4","v":1676},1407.5,1262,939.5,0]
[28,null,{"$f":"C315*$K$4","v":1715},1437,1287.5,958.5,0]
[29,null,{"$f":"C316*$K$4","v":1756},1469.5,1314,977.5,0]
[30,null,{"$f":"C317*$K$4","v":1798},1501.5,1342,999,0]
[31,null,{"$f":"C318*$K$4","v":1842},1536,1371.5,1020,0]
[32,null,{"$f":"C319*$K$4","v":1887.5},1571.5,1401,1042,0]
[33,null,{"$f":"C320*$K$4","v":1933.5},1608.5,1433,1066,0]
[34,null,{"$f":"C321*$K$4","v":1982.5},1646,1464.5,1089.5,0]
[35,null,{"$f":"C322*$K$4","v":2031.5},1685.5,1499.5,1115.5,0]
[36,null,{"$f":"C323*$K$4","v":2083},1726,1533.5,1141,0]
[37,null,{"$f":"C324*$K$4","v":2136.5},1768.5,1570,1168.5,0]
[38,null,{"$f":"C325*$K$4","v":2190.5},1811.5,1606.5,1195.5,0]
[39,null,{"$f":"C326*$K$4","v":2246.5},1855,1645.5,1224,0]
[40,null,{"$f":"C327*$K$4","v":2304},1901.5,1684,1253,0]
[41,null,{"$f":"C328*$K$4","v":2363.5},1948.5,1725.5,1283.5,0]
[42,null,{"$f":"C329*$K$4","v":2424},1997,1766.5,1314,0]
[43,null,{"$f":"C330*$K$4","v":2485.5},2046,1809.5,1346,0]
[44,null,{"$f":"C331*$K$4","v":2549},2097.5,1853.5,1379,0]
[45,null,{"$f":"C332*$K$4","v":2614},2149.5,1898.5,1412,0]
[46,null,{"$f":"C333*$K$4","v":2681.5},2202.5,1945.5,1447,0]
[47,null,{"$f":"C334*$K$4","v":2749},2257,1993,1482.5,0]
[48,null,{"$f":"C335*$K$4","v":2819.5},2313.5,2042,1518.5,0]
[49,null,{"$f":"C336*$K$4","v":2890.5},2371,2090.5,1555.5,0]
[50,null,{"$f":"C337*$K$4","v":2962},2430,2142,1593.5,0]
[51,null,{"$f":"C338*$K$4","v":3036.5},2489,2194.5,1632.5,0]
[52,null,{"$f":"C339*$K$4","v":3112.5},2550,2248,1672,0]
[53,null,{"$f":"C340*$K$4","v":3190},2613,2302,1712.5,0]
[54,null,{"$f":"C341*$K$4","v":3267.5},2676,2357.5,1754,0]
[55,null,{"$f":"C342*$K$4","v":3349.5},2741.5,2415,1796.5,0]
[56,null,{"$f":"C343*$K$4","v":3431},2807,2472.5,1839.5,0]
[57,null,{"$f":"C344*$K$4","v":3513.5},2875.5,2532,1884,0]
[58,null,{"$f":"C345*$K$4","v":3598.5},2944.5,2591.5,1928,0]
[59,null,{"$f":"C346*$K$4","v":3686},3015,2653,1973.5,0]
[60,null,{"$f":"C347*$K$4","v":3773.5},3085.5,2715.5,2020,0]
[61,null,{"$f":"C348*$K$4","v":4235.5},3462.5,3045.5,2265.5,0]
[62,null,{"$f":"C349*$K$4","v":4737},3870.5,3405,2533,0]
[63,null,{"$f":"C350*$K$4","v":5275.5},4312,3792,2821,0]
[64,null,{"$f":"C351*$K$4","v":5852.5},4784,4209,3131,0]
[65,null,{"$f":"C352*$K$4","v":6467.5},5288.5,4654,3462,0]
[66,null,{"$f":"C353*$K$4","v":7120.5},5825.5,5128.5,3815,0]
[67,null,{"$f":"C354*$K$4","v":7812.5},6394.5,5632.5,4190,0]
[68,null,{"$f":"C355*$K$4","v":8540.5},6997,6164.5,4586,0]
[69,null,{"$f":"C356*$K$4","v":9308.5},7630,6726,5003.5,0]
[70,null,{"$f":"C357*$K$4","v":10114},8295.5,7316,5442.5,0]
[71,null,{"$f":"C358*$K$4","v":10957.5},8993,7935,5902.5,0]
[72,null,{"$f":"C359*$K$4","v":11840},9722.5,8583,6384.5,0]
[73,null,{"$f":"C360*$K$4","v":12759},10484.5,9259.5,6887,0]
[74,null,{"$f":"C361*$K$4","v":13717},11278,9966,7413,0]
[75,null,{"$f":"C362*$K$4","v":14714},12105,10700,7959.5,0]
[76,null,{"$f":"C363*$K$4","v":14714},12105,10700,7959.5,0]
[77,null,{"$f":"C364*$K$4","v":14714},12105,10700,7959.5,0]
[78,null,{"$f":"C365*$K$4","v":14714},12105,10700,7959.5,0]
[79,null,{"$f":"C366*$K$4","v":14714},12105,10700,7959.5,0]
[80,null,{"$f":"C367*$K$4","v":14714},12105,10700,7959.5,0]
[81,null,{"$f":"C368*$K$4","v":14714},12105,10700,7959.5,0]
[82,null,{"$f":"C369*$K$4","v":14714},12105,10700,7959.5,0]
[83,null,{"$f":"C370*$K$4","v":14714},12105,10700,7959.5,0]
[84,"o más",{"$f":"C371*$K$4","v":14714},12105,10700,7959.5,0]
[1,"Hijo",{"$f":"C372*$K$4","v":726.5},620,562.5,418.5,0]
[2,"Hijos",{"$f":"C373*$K$4","v":1235.5},1053.5,954,710,0]
[3,"Hijos o más",{"$f":"C374*$K$4","v":1744.5},1486.5,1347.5,1002.5,0]
[]
["BUPA GLOBAL ELITE"]
["TARIFAS TRIMESTRALES"]
["EDAD"]
[" "," ",1000,2000,3500]
[18,null,{"$f":"C6*$K$3","v":1854.5},{"$f":"D6*$K$3","v":1328.25},1124.75,975.25,756.5]
[19,null,{"$f":"C7*$K$3","v":1879},1344.25,1136.5,985.75,764.5]
[20,null,{"$f":"C8*$K$3","v":1904},1361.25,1149.25,996.5,772.75]
[21,null,{"$f":"C9*$K$3","v":1929.75},1378.5,1162.25,1007.75,781.5]
[22,null,{"$f":"C10*$K$3","v":1956.5},1396.5,1175.5,1019.25,790.25]
[23,null,{"$f":"C11*$K$3","v":1984.75},1414.5,1189.75,1031.75,800.25]
[24,null,{"$f":"C12*$K$3","v":2012.75},1433.75,1204,1044,809.75]
[25,null,{"$f":"C13*$K$3","v":2042},1453.75,1218.75,1057,819.75]
[26,null,{"$f":"C14*$K$3","v":2084},1482.25,1240.5,1076,834.25]
[27,null,{"$f":"C15*$K$3","v":2127.75},1512,1263.5,1095.25,849.75]
[28,null,{"$f":"C16*$K$3","v":2172.75},1542.5,1287,1116,865.25]
[29,null,{"$f":"C17*$K$3","v":2220},1574.5,1311.75,1137.5,882.25]
[30,null,{"$f":"C18*$K$3","v":2268.5},1608.25,1337.75,1160,899.75]
[31,null,{"$f":"C19*$K$3","v":2318.75},1642.5,1364.75,1183.25,918]
[32,null,{"$f":"C20*$K$3","v":2370.25},1678.25,1392,1207,935.75]
[33,null,{"$f":"C21*$K$3","v":2423.5},1715,1421,1232,955.75]
[34,null,{"$f":"C22*$K$3","v":2478.5},1753,1450.5,1257.75,975.25]
[35,null,{"$f":"C23*$K$3","v":2534.5},1792,1481.5,1284.75,996.5]
[36,null,{"$f":"C24*$K$3","v":2592.5},1832.25,1513,1311.75,1017.5]
[37,null,{"$f":"C25*$K$3","v":2652.25},1874.25,1545.5,1340.5,1039.5]
[38,null,{"$f":"C26*$K$3","v":2713.25},1916.5,1579.25,1369.75,1062.25]
[39,null,{"$f":"C27*$K$3","v":2776.25},1960.75,1614,1399.5,1085.25]
[40,null,{"$f":"C28*$K$3","v":2840.5},2005.75,1649.5,1430.25,1109.5]
[41,null,{"$f":"C29*$K$3","v":2906.5},2052,1686.25,1462.25,1134.25]
[42,null,{"$f":"C30*$K$3","v":2973.75},2099.25,1724,1494.75,1159.5]
[43,null,{"$f":"C31*$K$3","v":3042.5},2148.25,1762.75,1528.5,1185.5]
[44,null,{"$f":"C32*$K$3","v":3113.25},2197.5,1802,1562.75,1212.25]
[45,null,{"$f":"C33*$K$3","v":3185.5},2248.75,1843,1597.75,1239.25]
[46,null,{"$f":"C34*$K$3","v":3259.25},2300.75,1884.75,1634.5,1267.25]
[47,null,{"$f":"C35*$K$3","v":3334.5},2354.5,1927,1670.75,1296]
[48,null,{"$f":"C36*$K$3","v":3411.5},2408.5,1970.5,1708.5,1325]
[49,null,{"$f":"C37*$K$3","v":3490.25},2464.5,2015.25,1747.5,1355]
[50,null,{"$f":"C38*$K$3","v":3570},2521,2061,1787.25,1386]
[51,null,{"$f":"C39*$K$3","v":3651.75},2579,2108,1827.75,1417.25]
[52,null,{"$f":"C40*$K$3","v":3734.75},2638.25,2154.75,1868.25,1449.25]
[53,null,{"$f":"C41*$K$3","v":3819.75},2699.25,2203.75,1910.75,1482]
[54,null,{"$f":"C42*$K$3","v":3906.25},2760.75,2253,1953.5,1515.25]
[55,null,{"$f":"C43*$K$3","v":3994.25},2823.25,2303.75,1997.5,1549.25]
[56,null,{"$f":"C44*$K$3","v":4083.25},2887,2355.25,2042.25,1584]
[57,null,{"$f":"C45*$K$3","v":4174.75},2952,2407.75,2087.5,1619]
[58,null,{"$f":"C46*$K$3","v":4267.5},3018.25,2461.25,2134,1655]
[59,null,{"$f":"C47*$K$3","v":4361.5},3085.75,2515.5,2181.25,1691.5]
[60,null,{"$f":"C48*$K$3","v":4457.25},3154.5,2571.25,2229.25,1729]
[61,null,{"$f":"C49*$K$3","v":4960.5},3515.25,2863.5,2483,1926]
[62,null,{"$f":"C50*$K$3","v":5502.75},3906,3181,2758.25,2139]
[63,null,{"$f":"C51*$K$3","v":6084.75},4325.5,3522.75,3054.5,2369]
[64,null,{"$f":"C52*$K$3","v":6706},4775,3889.25,3372.5,2615.75]
[65,null,{"$f":"C53*$K$3","v":7366.5},5253.75,4280.75,3711.75,2878.75]
[66,null,{"$f":"C54*$K$3","v":8066.75},5761.75,4697.25,4073.25,3159]
[67,null,{"$f":"C55*$K$3","v":8806.5},6299.25,5138.25,4455.5,3455.5]
[68,null,{"$f":"C56*$K$3","v":9585.75},6866.5,5603.75,4859,3768.5]
[69,null,{"$f":"C57*$K$3","v":10404},7463,6094.75,5284.75,4098.5]
[70,null,{"$f":"C58*$K$3","v":11262.25},8089.25,6610.25,5731.75,4445.5]
[71,null,{"$f":"C59*$K$3","v":12160},8744.75,7150.5,6200.25,4808.75]
[72,null,{"$f":"C60*$K$3","v":13096.75},9430.25,7715.5,6690,5188.5]
[73,null,{"$f":"C61*$K$3","v":14073},10144.5,8305,7201.25,5585]
[74,null,{"$f":"C62*$K$3","v":15089},10888.5,8919.75,7734.5,5998.5]
[75,null,{"$f":"C63*$K$3","v":16144.25},11662.25,9559.25,8288.75,6428.25]
[76,null,{"$f":"C64*$K$3","v":16144.25},11662.25,9559.25,8288.75,6428.25]
[77,null,{"$f":"C65*$K$3","v":16144.25},11662.25,9559.25,8288.75,6428.25]
[78,null,{"$f":"C66*$K$3","v":16144.25},11662.25,9559.25,8288.75,6428.25]
[79,null,{"$f":"C67*$K$3","v":16144.25},11662.25,9559.25,8288.75,6428.25]
[80,null,{"$f":"C68*$K$3","v":16144.25},11662.25,9559.25,8288.75,6428.25]
[81,null,{"$f":"C69*$K$3","v":16144.25},11662.25,9559.25,8288.75,6428.25]
[82,null,{"$f":"C70*$K$3","v":16144.25},11662.25,9559.25,8288.75,6428.25]
[83,null,{"$f":"C71*$K$3","v":16144.25},11662.25,9559.25,8288.75,6428.25]
[84,"o más",{"$f":"C72*$K$3","v":16144.25},11662.25,9559.25,8288.75,6428.25]
[1,"Hijo",{"$f":"C73*$K$3","v":834.75},597.75,506.25,439,340.75]
[2,"Hijos",{"$f":"C74*$K$3","v":1418.75},1016.25,860.5,746,579]
[3,"Hijos o más",{"$f":"C75*$K$3","v":2002.75},1434.5,1215,1053.25,817]
[]
["BUPA GLOBAL PREMIER"]
["TARIFAS TRIMESTRALES"]
["EDAD"]
[" "," ",2000,3500,5000]
[18,null,{"$f":"C155*$K$3","v":1074.25},{"$f":"D155*$K$3","v":912},791,588.25,0]
[19,null,{"$f":"C156*$K$3","v":1087.75},921.75,798.5,594.25,0]
[20,null,{"$f":"C157*$K$3","v":1101.25},931.75,806.5,600,0]
[21,null,{"$f":"C158*$K$3","v":1115},942.25,814.75,606.25,0]
[22,null,{"$f":"C159*$K$3","v":1129.25},953,823.25,612.25,0]
[23,null,{"$f":"C160*$K$3","v":1144.25},964.5,832.5,619.25,0]
[24,null,{"$f":"C161*$K$3","v":1160},976.75,841.75,626.25,0]
[25,null,{"$f":"C162*$K$3","v":1175.75},988.25,851.25,633.25,0]
[26,null,{"$f":"C163*$K$3","v":1199},1006,865.25,643.75,0]
[27,null,{"$f":"C164*$K$3","v":1223},1024.5,880.5,655,0]
[28,null,{"$f":"C165*$K$3","v":1248},1044,895.75,666.5,0]
[29,null,{"$f":"C166*$K$3","v":1274},1063.5,912,678.5,0]
[30,null,{"$f":"C167*$K$3","v":1301},1084.5,929.25,691.25,0]
[31,null,{"$f":"C168*$K$3","v":1328.75},1106.5,946.25,704,0]
[32,null,{"$f":"C169*$K$3","v":1357.75},1128.5,964.75,717.75,0]
[33,null,{"$f":"C170*$K$3","v":1387.25},1152,983.75,731.75,0]
[34,null,{"$f":"C171*$K$3","v":1418.25},1176.25,1003.75,746.75,0]
[35,null,{"$f":"C172*$K$3","v":1450},1201,1024,761.75,0]
[36,null,{"$f":"C173*$K$3","v":1482.5},1226.75,1044.75,777,0]
[37,null,{"$f":"C174*$K$3","v":1516},1253.25,1068.5,795,0]
[38,null,{"$f":"C175*$K$3","v":1550.25},1280.5,1095.75,815,0]
[39,null,{"$f":"C176*$K$3","v":1586.25},1309,1123.75,836,0]
[40,null,{"$f":"C177*$K$3","v":1622.25},1337.75,1152.25,857.5,0]
[41,null,{"$f":"C178*$K$3","v":1659.75},1367.25,1182,879.5,0]
[42,null,{"$f":"C179*$K$3","v":1698.5},1398,1212.25,902,0]
[43,null,{"$f":"C180*$K$3","v":1737.25},1429.25,1243,924.75,0]
[44,null,{"$f":"C181*$K$3","v":1777.75},1461.25,1274.75,948.25,0]
[45,null,{"$f":"C182*$K$3","v":1819.25},1494.25,1307.25,972.75,0]
[46,null,{"$f":"C183*$K$3","v":1861.25},1528,1341,997.25,0]
[47,null,{"$f":"C184*$K$3","v":1904.75},1562.5,1375,1022.75,0]
[48,null,{"$f":"C185*$K$3","v":1948.5},1597.75,1410,1048.75,0]
[49,null,{"$f":"C186*$K$3","v":1993.5},1633.75,1445.5,1075,0]
[50,null,{"$f":"C187*$K$3","v":2039.5},1671,1481.5,1102.25,0]
[51,null,{"$f":"C188*$K$3","v":2086.5},1708.75,1518.5,1129.75,0]
[52,null,{"$f":"C189*$K$3","v":2134.5},1747.25,1556.75,1158,0]
[53,null,{"$f":"C190*$K$3","v":2183.25},1787,1595.5,1186.75,0]
[54,null,{"$f":"C191*$K$3","v":2232.75},1827,1634.75,1216,0]
[55,null,{"$f":"C192*$K$3","v":2283.75},1867.75,1675,1246,0]
[56,null,{"$f":"C193*$K$3","v":2335.5},1909.75,1716,1276.75,0]
[57,null,{"$f":"C194*$K$3","v":2387.75},1952,1757.25,1307,0]
[58,null,{"$f":"C195*$K$3","v":2441.5},1995.5,1799.5,1338.75,0]
[59,null,{"$f":"C196*$K$3","v":2496.5},2039.75,1843.25,1371,0]
[60,null,{"$f":"C197*$K$3","v":2552},2084.5,1887,1403.5,0]
[61,null,{"$f":"C198*$K$3","v":2843.75},2322,2118,1575.75,0]
[62,null,{"$f":"C199*$K$3","v":3159.75},2578.75,2368.75,1761.75,0]
[63,null,{"$f":"C200*$K$3","v":3499.25},2856,2638,1962.25,0]
[64,null,{"$f":"C201*$K$3","v":3862.75},3153.5,2926.5,2176.75,0]
[65,null,{"$f":"C202*$K$3","v":4250},3470.75,3234,2405.5,0]
[66,null,{"$f":"C203*$K$3","v":4661},3808.75,3560.75,2648.5,0]
[67,null,{"$f":"C204*$K$3","v":5095.75},4166.25,3906.5,2905.75,0]
[68,null,{"$f":"C205*$K$3","v":5554.75},4544,4270.5,3176.75,0]
[69,null,{"$f":"C206*$K$3","v":6037},4941.25,4654.5,3462.25,0]
[70,null,{"$f":"C207*$K$3","v":6543.5},5360,5057.75,3762,0]
[71,null,{"$f":"C208*$K$3","v":7074},5797.5,5479,4075.75,0]
[72,null,{"$f":"C209*$K$3","v":7628.25},6255.75,5920.25,4403.75,0]
[73,null,{"$f":"C210*$K$3","v":8205.75},6734.25,6380,4745.75,0]
[74,null,{"$f":"C211*$K$3","v":8807.75},7232.25,6858.75,5102,0]
[75,null,{"$f":"C212*$K$3","v":9433.5},7751,7357.25,5472.75,0]
[76,null,{"$f":"C213*$K$3","v":9433.5},7751,7357.25,5472.75,0]
[77,null,{"$f":"C214*$K$3","v":9433.5},7751,7357.25,5472.75,0]
[78,null,{"$f":"C215*$K$3","v":9433.5},7751,7357.25,5472.75,0]
[79,null,{"$f":"C216*$K$3","v":9433.5},7751,7357.25,5472.75,0]
[80,null,{"$f":"C217*$K$3","v":9433.5},7751,7357.25,5472.75,0]
[81,null,{"$f":"C218*$K$3","v":9433.5},7751,7357.25,5472.75,0]
[82,null,{"$f":"C219*$K$3","v":9433.5},7751,7357.25,5472.75,0]
[83,null,{"$f":"C220*$K$3","v":9433.5},7751,7357.25,5472.75,0]
[84,"o más",{"$f":"C221*$K$3","v":9433.5},7751,7357.25,5472.75,0]
[1,"Hijo",{"$f":"C222*$K$3","v":483.75},410.5,356.25,264.75,0]
[2,"Hijos",{"$f":"C223*$K$3","v":822.25},697.5,605,450,0]
[3,"Hijos o más",{"$f":"C224*$K$3","v":1160.25},985.25,854.25,635.25,0]
[]
["BUPA GLOBAL SELECT"]
["TARIFAS TRIMESTRALES"]
["EDAD"]
[" "," ",2000,3500,5000]
[18,null,{"$f":"C305*$K$3","v":722},{"$f":"D305*$K$3","v":615.5},557.75,415,0]
[19,null,{"$f":"C306*$K$3","v":732},622.75,564,419.5,0]
[20,null,{"$f":"C307*$K$3","v":743},630.75,570.75,424.5,0]
[21,null,{"$f":"C308*$K$3","v":753.75},638.75,577.25,429.5,0]
[22,null,{"$f":"C309*$K$3","v":765},647.75,584.5,434.75,0]
[23,null,{"$f":"C310*$K$3","v":776.75},656.25,591.75,440.25,0]
[24,null,{"$f":"C311*$K$3","v":788.25},665.75,599.5,445.75,0]
[25,null,{"$f":"C312*$K$3","v":801.25},675,607.5,451.75,0]
[26,null,{"$f":"C313*$K$3","v":819.25},688.75,619.25,460.75,0]
[27,null,{"$f":"C314*$K$3","v":838},703.75,631,469.75,0]
[28,null,{"$f":"C315*$K$3","v":857.5},718.5,643.75,479.25,0]
[29,null,{"$f":"C316*$K$3","v":878},734.75,657,488.75,0]
[30,null,{"$f":"C317*$K$3","v":899},750.75,671,499.5,0]
[31,null,{"$f":"C318*$K$3","v":921},768,685.75,510,0]
[32,null,{"$f":"C319*$K$3","v":943.75},785.75,700.5,521,0]
[33,null,{"$f":"C320*$K$3","v":966.75},804.25,716.5,533,0]
[34,null,{"$f":"C321*$K$3","v":991.25},823,732.25,544.75,0]
[35,null,{"$f":"C322*$K$3","v":1015.75},842.75,749.75,557.75,0]
[36,null,{"$f":"C323*$K$3","v":1041.5},863,766.75,570.5,0]
[37,null,{"$f":"C324*$K$3","v":1068.25},884.25,785,584.25,0]
[38,null,{"$f":"C325*$K$3","v":1095.25},905.75,803.25,597.75,0]
[39,null,{"$f":"C326*$K$3","v":1123.25},927.5,822.75,612,0]
[40,null,{"$f":"C327*$K$3","v":1152},950.75,842,626.5,0]
[41,null,{"$f":"C328*$K$3","v":1181.75},974.25,862.75,641.75,0]
[42,null,{"$f":"C329*$K$3","v":1212},998.5,883.25,657,0]
[43,null,{"$f":"C330*$K$3","v":1242.75},1023,904.75,673,0]
[44,null,{"$f":"C331*$K$3","v":1274.5},1048.75,926.75,689.5,0]
[45,null,{"$f":"C332*$K$3","v":1307},1074.75,949.25,706,0]
[46,null,{"$f":"C333*$K$3","v":1340.75},1101.25,972.75,723.5,0]
[47,null,{"$f":"C334*$K$3","v":1374.5},1128.5,996.5,741.25,0]
[48,null,{"$f":"C335*$K$3","v":1409.75},1156.75,1021,759.25,0]
[49,null,{"$f":"C336*$K$3","v":1445.25},1185.5,1045.25,777.75,0]
[50,null,{"$f":"C337*$K$3","v":1481},1215,1071,796.75,0]
[51,null,{"$f":"C338*$K$3","v":1518.25},1244.5,1097.25,816.25,0]
[52,null,{"$f":"C339*$K$3","v":1556.25},1275,1124,836,0]
[53,null,{"$f":"C340*$K$3","v":1595},1306.5,1151,856.25,0]
[54,null,{"$f":"C341*$K$3","v":1633.75},1338,1178.75,877,0]
[55,null,{"$f":"C342*$K$3","v":1674.75},1370.75,1207.5,898.25,0]
[56,null,{"$f":"C343*$K$3","v":1715.5},1403.5,1236.25,919.75,0]
[57,null,{"$f":"C344*$K$3","v":1756.75},1437.75,1266,942,0]
[58,null,{"$f":"C345*$K$3","v":1799.25},1472.25,1295.75,964,0]
[59,null,{"$f":"C346*$K$3","v":1843},1507.5,1326.5,986.75,0]
[60,null,{"$f":"C347*$K$3","v":1886.75},1542.75,1357.75,1010,0]
[61,null,{"$f":"C348*$K$3","v":2117.75},1731.25,1522.75,1132.75,0]
[62,null,{"$f":"C349*$K$3","v":2368.5},1935.25,1702.5,1266.5,0]
[63,null,{"$f":"C350*$K$3","v":2637.75},2156,1896,1410.5,0]
[64,null,{"$f":"C351*$K$3","v":2926.25},2392,2104.5,1565.5,0]
[65,null,{"$f":"C352*$K$3","v":3233.75},2644.25,2327,1731,0]
[66,null,{"$f":"C353*$K$3","v":3560.25},2912.75,2564.25,1907.5,0]
[67,null,{"$f":"C354*$K$3","v":3906.25},3197.25,2816.25,2095,0]
[68,null,{"$f":"C355*$K$3","v":4270.25},3498.5,3082.25,2293,0]
[69,null,{"$f":"C356*$K$3","v":4654.25},3815,3363,2501.75,0]
[70,null,{"$f":"C357*$K$3","v":5057},4147.75,3658,2721.25,0]
[71,null,{"$f":"C358*$K$3","v":5478.75},4496.5,3967.5,2951.25,0]
[72,null,{"$f":"C359*$K$3","v":5920},4861.25,4291.5,3192.25,0]
[73,null,{"$f":"C360*$K$3","v":6379.5},5242.25,4629.75,3443.5,0]
[74,null,{"$f":"C361*$K$3","v":6858.5},5639,4983,3706.5,0]
[75,null,{"$f":"C362*$K$3","v":7357},6052.5,5350,3979.75,0]
[76,null,{"$f":"C363*$K$3","v":7357},6052.5,5350,3979.75,0]
[77,null,{"$f":"C364*$K$3","v":7357},6052.5,5350,3979.75,0]
[78,null,{"$f":"C365*$K$3","v":7357},6052.5,5350,3979.75,0]
[79,null,{"$f":"C366*$K$3","v":7357},6052.5,5350,3979.75,0]
[80,null,{"$f":"C367*$K$3","v":7357},6052.5,5350,3979.75,0]
[81,null,{"$f":"C368*$K$3","v":7357},6052.5,5350,3979.75,0]
[82,null,{"$f":"C369*$K$3","v":7357},6052.5,5350,3979.75,0]
[83,null,{"$f":"C370*$K$3","v":7357},6052.5,5350,3979.75,0]
[84,"o más",{"$f":"C371*$K$3","v":7357},6052.5,5350,3979.75,0]
[1,"Hijo",{"$f":"C372*$K$3","v":363.25},310,281.25,209.25,0]
[2,"Hijos",{"$f":"C373*$K$3","v":617.75},526.75,477,355,0]
[3,"Hijos o más",{"$f":"C374*$K$3","v":872.25},743.25,673.75,501.25,0]
[]
["BUPAESSENTIAL"]
["TARIFAS ANUALES"]
["EDAD"]
[" "," ",1,2,3,4,5,6]
[18,null,1524,1373,1248,1117,1040,821]
[19,null,1549,1395,1268,1135,1057,834]
[20,null,1573,1417,1288,1153,1074,847]
[21,null,1598,1439,1309,1171,1090,861]
[22,null,1622,1461,1329,1189,1107,874]
[23,null,1647,1483,1349,1207,1124,887]
[24,null,1671,1505,1369,1225,1141,900]
[25,null,1696,1528,1389,1243,1157,913]
[26,null,1750,1576,1433,1282,1194,942]
[27,null,1803,1624,1477,1321,1231,971]
[28,null,1857,1673,1521,1361,1267,1000]
[29,null,1911,1721,1565,1400,1304,1029]
[30,null,1964,1769,1609,1439,1341,1058]
[31,null,2007,1807,1643,1470,1370,1081]
[32,null,2049,1845,1678,1501,1398,1104]
[33,null,2091,1883,1713,1532,1427,1126]
[34,null,2133,1921,1747,1563,1456,1149]
[35,null,2175,1959,1782,1594,1485,1172]
[36,null,2232,2010,1828,1635,1523,1202]
[37,null,2288,2061,1874,1676,1562,1232]
[38,null,2345,2112,1920,1718,1600,1263]
[39,null,2401,2163,1966,1759,1639,1293]
[40,null,2457,2213,2013,1800,1677,1323]
[41,null,2536,2285,2077,1858,1731,1366]
[42,null,2616,2356,2142,1916,1785,1409]
[43,null,2695,2427,2207,1974,1839,1451]
[44,null,2774,2498,2272,2032,1893,1494]
[45,null,2853,2570,2337,2090,1947,1537]
[46,null,2907,2619,2381,2130,1984,1566]
[47,null,2962,2668,2426,2170,2021,1595]
[48,null,3017,2717,2471,2210,2059,1625]
[49,null,3071,2766,2515,2250,2096,1654]
[50,null,3126,2815,2560,2290,2133,1683]
[51,null,3240,2918,2653,2374,2211,1745]
[52,null,3354,3021,2747,2457,2289,1806]
[53,null,3468,3124,2840,2541,2367,1868]
[54,null,3582,3227,2934,2625,2445,1929]
[55,null,3697,3330,3027,2708,2523,1991]
[56,null,3737,3366,3061,2738,2551,2013]
[57,null,3778,3403,3094,2768,2578,2035]
[58,null,3819,3440,3128,2798,2606,2057]
[59,null,3860,3476,3161,2828,2634,2079]
[60,null,3900,3513,3194,2858,2662,2101]
[61,null,4394,3958,3599,3219,2999,2366]
[62,null,4887,4402,4002,3580,3335,2632]
[63,null,5381,4847,4407,3942,3672,2898]
[64,null,5876,5292,4812,4305,4010,3164]
[65,null,5899,5313,4831,4322,4026,3177]
[66,null,5923,5335,4851,4340,4042,3190]
[67,null,6585,5931,5393,4824,4493,3546]
[68,null,7249,6529,5937,5311,4947,3904]
[69,null,7581,6828,6209,5554,5173,4082]
[70,null,7634,6876,6252,5593,5210,4111]
[71,null,8596,7742,7040,6298,5866,4629]
[72,null,9555,8606,7826,7000,6521,5146]
[73,null,10516,9472,8612,7704,7176,5663]
[74,null,11477,10338,9400,8409,7832,6181]
[75,null,12540,11295,10270,9187,8558,6753]
[76,null,12540,11295,10270,9187,8558,6753]
[77,null,12540,11295,10270,9187,8558,6753]
[78,null,12540,11295,10270,9187,8558,6753]
[79,null,12540,11295,10270,9187,8558,6753]
[80,null,12540,11295,10270,9187,8558,6753]
[81,null,12540,11295,10270,9187,8558,6753]
[82,null,12540,11295,10270,9187,8558,6753]
[83,null,12540,11295,10270,9187,8558,6753]
[84,"o más",12540,11295,10270,9187,8558,6753]
[1,"Hijo",708,638,580,519,483,381]
[2,"Hijos",1160,1045,950,850,792,625]
[3,"Hijos o más",1695,1527,1388,1242,1157,913]
[]
["BUPA ESSENTIAL - MENSUALES"]
["EDAD"]
[" "," ",1,2,3,4,5,6]
[18,null,{"$f":"C905*$N$2","v":142.24},{"$f":"D905*$N$2","v":128.14666666666668},116.48,104.25333333333334,97.066666666666677,76.626666666666665]
[19,null,{"$f":"C906*$N$2","v":144.57333333333335},130.20000000000002,118.34666666666668,105.93333333333334,98.653333333333336,77.84]
[20,null,{"$f":"C907*$N$2","v":146.81333333333333},132.25333333333333,120.21333333333334,107.61333333333334,100.24000000000001,79.053333333333342]
[21,null,{"$f":"C908*$N$2","v":149.14666666666668},134.30666666666667,122.17333333333333,109.29333333333334,101.73333333333333,80.36]
[22,null,{"$f":"C909*$N$2","v":151.38666666666668},136.36000000000001,124.04,110.97333333333334,103.32000000000001,81.573333333333338]
[23,null,{"$f":"C910*$N$2","v":153.72},138.41333333333333,125.90666666666667,112.65333333333334,104.90666666666667,82.786666666666676]
[24,null,{"$f":"C911*$N$2","v":155.96},140.46666666666667,127.77333333333334,114.33333333333334,106.49333333333334,84]
[25,null,{"$f":"C912*$N$2","v":158.29333333333335},142.61333333333334,129.64000000000001,116.01333333333334,107.98666666666666,85.213333333333338]
[26,null,{"$f":"C913*$N$2","v":163.33333333333334},147.09333333333333,133.74666666666667,119.65333333333334,111.44000000000001,87.92]
[27,null,{"$f":"C914*$N$2","v":168.28},151.57333333333335,137.85333333333335,123.29333333333334,114.89333333333335,90.626666666666665]
[28,null,{"$f":"C915*$N$2","v":173.32000000000002},156.14666666666668,141.96,127.02666666666667,118.25333333333334,93.333333333333343]
[29,null,{"$f":"C916*$N$2","v":178.36},160.62666666666667,146.06666666666666,130.66666666666669,121.70666666666668,96.04]
[30,null,{"$f":"C917*$N$2","v":183.30666666666667},165.10666666666668,150.17333333333335,134.30666666666667,125.16000000000001,98.74666666666667]
[31,null,{"$f":"C918*$N$2","v":187.32000000000002},168.65333333333334,153.34666666666666,137.20000000000002,127.86666666666667,100.89333333333333]
[32,null,{"$f":"C919*$N$2","v":191.24},172.20000000000002,156.61333333333334,140.09333333333333,130.48000000000002,103.04]
[33,null,{"$f":"C920*$N$2","v":195.16},175.74666666666667,159.88,142.98666666666668,133.18666666666667,105.09333333333333]
[34,null,{"$f":"C921*$N$2","v":199.08},179.29333333333335,163.05333333333334,145.88,135.89333333333335,107.24000000000001]
[35,null,{"$f":"C922*$N$2","v":203},182.84,166.32000000000002,148.77333333333334,138.6,109.38666666666667]
[36,null,{"$f":"C923*$N$2","v":208.32000000000002},187.60000000000002,170.61333333333334,152.6,142.14666666666668,112.18666666666667]
[37,null,{"$f":"C924*$N$2","v":213.54666666666668},192.36,174.90666666666667,156.42666666666668,145.78666666666666,114.98666666666668]
[38,null,{"$f":"C925*$N$2","v":218.86666666666667},197.12,179.20000000000002,160.34666666666666,149.33333333333334,117.88000000000001]
[39,null,{"$f":"C926*$N$2","v":224.09333333333333},201.88,183.49333333333334,164.17333333333335,152.97333333333333,120.68]
[40,null,{"$f":"C927*$N$2","v":229.32000000000002},206.54666666666668,187.88,168,156.52000000000001,123.48]
[41,null,{"$f":"C928*$N$2","v":236.69333333333336},213.26666666666668,193.85333333333335,173.41333333333336,161.56,127.49333333333334]
[42,null,{"$f":"C929*$N$2","v":244.16000000000003},219.89333333333335,199.92000000000002,178.82666666666668,166.6,131.50666666666666]
[43,null,{"$f":"C930*$N$2","v":251.53333333333333},226.52,205.98666666666668,184.24,171.64000000000001,135.42666666666668]
[44,null,{"$f":"C931*$N$2","v":258.90666666666669},233.14666666666668,212.05333333333334,189.65333333333334,176.68,139.44]
[45,null,{"$f":"C932*$N$2","v":266.28000000000003},239.86666666666667,218.12,195.06666666666666,181.72,143.45333333333335]
[46,null,{"$f":"C933*$N$2","v":271.32},244.44,222.22666666666669,198.8,185.17333333333335,146.16]
[47,null,{"$f":"C934*$N$2","v":276.45333333333332},249.01333333333335,226.42666666666668,202.53333333333333,188.62666666666667,148.86666666666667]
[48,null,{"$f":"C935*$N$2","v":281.5866666666667},253.58666666666667,230.62666666666667,206.26666666666668,192.17333333333335,151.66666666666669]
[49,null,{"$f":"C936*$N$2","v":286.62666666666667},258.16000000000003,234.73333333333335,210,195.62666666666667,154.37333333333333]
[50,null,{"$f":"C937*$N$2","v":291.76},262.73333333333335,238.93333333333334,213.73333333333335,199.08,157.08000000000001]
[51,null,{"$f":"C938*$N$2","v":302.40000000000003},272.34666666666669,247.61333333333334,221.57333333333335,206.36,162.86666666666667]
[52,null,{"$f":"C939*$N$2","v":313.04000000000002},281.96000000000004,256.38666666666666,229.32000000000002,213.64000000000001,168.56]
[53,null,{"$f":"C940*$N$2","v":323.68},291.57333333333332,265.06666666666666,237.16000000000003,220.92000000000002,174.34666666666666]
[54,null,{"$f":"C941*$N$2","v":334.32},301.18666666666667,273.84000000000003,245,228.20000000000002,180.04000000000002]
[55,null,{"$f":"C942*$N$2","v":345.05333333333334},310.8,282.52000000000004,252.74666666666667,235.48000000000002,185.82666666666668]
[56,null,{"$f":"C943*$N$2","v":348.78666666666669},314.16000000000003,285.69333333333333,255.54666666666668,238.09333333333333,187.88]
[57,null,{"$f":"C944*$N$2","v":352.61333333333334},317.61333333333334,288.77333333333337,258.34666666666669,240.61333333333334,189.93333333333334]
[58,null,{"$f":"C945*$N$2","v":356.44},321.06666666666666,291.94666666666666,261.1466666666667,243.22666666666669,191.98666666666668]
[59,null,{"$f":"C946*$N$2","v":360.26666666666671},324.42666666666668,295.0266666666667,263.94666666666666,245.84,194.04000000000002]
[60,null,{"$f":"C947*$N$2","v":364},327.88,298.10666666666668,266.74666666666667,248.45333333333335,196.09333333333333]
[61,null,{"$f":"C948*$N$2","v":410.10666666666668},369.41333333333336,335.90666666666669,300.44,279.90666666666669,220.82666666666668]
[62,null,{"$f":"C949*$N$2","v":456.12},410.85333333333335,373.52000000000004,334.13333333333333,311.26666666666671,245.65333333333334]
[63,null,{"$f":"C950*$N$2","v":502.22666666666669},452.38666666666671,411.32,367.92,342.72,270.48]
[64,null,{"$f":"C951*$N$2","v":548.42666666666673},493.92,449.12,401.8,374.26666666666671,295.30666666666667]
[65,null,{"$f":"C952*$N$2","v":550.57333333333338},495.88,450.89333333333337,403.38666666666671,375.76,296.52000000000004]
[66,null,{"$f":"C953*$N$2","v":552.81333333333339},497.93333333333334,452.76000000000005,405.06666666666666,377.25333333333333,297.73333333333335]
[67,null,{"$f":"C954*$N$2","v":614.6},553.56000000000006,503.34666666666669,450.24,419.34666666666669,330.96000000000004]
[68,null,{"$f":"C955*$N$2","v":676.57333333333338},609.37333333333333,554.12,495.69333333333333,461.72,364.37333333333333]
[69,null,{"$f":"C956*$N$2","v":707.56000000000006},637.28,579.50666666666666,518.37333333333333,482.81333333333333,380.98666666666668]
[70,null,{"$f":"C957*$N$2","v":712.50666666666666},641.76,583.52,522.01333333333332,486.26666666666671,383.69333333333333]
[71,null,{"$f":"C958*$N$2","v":802.29333333333341},722.5866666666667,657.06666666666672,587.81333333333339,547.49333333333334,432.04]
[72,null,{"$f":"C959*$N$2","v":891.80000000000007},803.22666666666669,730.42666666666673,653.33333333333337,608.62666666666667,480.29333333333335]
[73,null,{"$f":"C960*$N$2","v":981.49333333333334},884.0533333333334,803.78666666666675,719.04000000000008,669.76,528.54666666666674]
[74,null,{"$f":"C961*$N$2","v":1071.1866666666667},964.88,877.33333333333337,784.84,730.98666666666668,576.89333333333332]
[75,null,{"$f":"C962*$N$2","v":1170.4000000000001},1054.2,958.53333333333342,857.45333333333338,798.74666666666667,630.28]
[76,null,{"$f":"C963*$N$2","v":1170.4000000000001},1054.2,958.53333333333342,857.45333333333338,798.74666666666667,630.28]
[77,null,{"$f":"C964*$N$2","v":1170.4000000000001},1054.2,958.53333333333342,857.45333333333338,798.74666666666667,630.28]
[78,null,{"$f":"C965*$N$2","v":1170.4000000000001},1054.2,958.53333333333342,857.45333333333338,798.74666666666667,630.28]
[79,null,{"$f":"C966*$N$2","v":1170.4000000000001},1054.2,958.53333333333342,857.45333333333338,798.74666666666667,630.28]
[80,null,{"$f":"C967*$N$2","v":1170.4000000000001},1054.2,958.53333333333342,857.45333333333338,798.74666666666667,630.28]
[81,null,{"$f":"C968*$N$2","v":1170.4000000000001},1054.2,958.53333333333342,857.45333333333338,798.74666666666667,630.28]
[82,null,{"$f":"C969*$N$2","v":1170.4000000000001},1054.2,958.53333333333342,857.45333333333338,798.74666666666667,630.28]
[83,null,{"$f":"C970*$N$2","v":1170.4000000000001},1054.2,958.53333333333342,857.45333333333338,798.74666666666667,630.28]
[84,"o más",{"$f":"C971*$N$2","v":1170.4000000000001},1054.2,958.53333333333342,857.45333333333338,798.74666666666667,630.28]
[1,"Hijo",{"$f":"C972*$N$2","v":66.08},59.546666666666667,54.133333333333333,48.440000000000005,45.080000000000005,35.56]
[2,"Hijos",{"$f":"C973*$N$2","v":108.26666666666667},97.533333333333331,88.666666666666671,79.333333333333343,73.92,58.333333333333336]
[3,"Hijos o más",{"$f":"C974*$N$2","v":158.20000000000002},142.52000000000001,129.54666666666668,115.92,107.98666666666666,85.213333333333338]
[]
["BUPA ESSENTIAL"]
["TARIFAS TRIMESTRALES"]
["EDAD"]
[" "," ",1,2,3,4,5,6]
[18,null,{"$f":"C905*$N$3","v":419.1},{"$f":"D905*$N$3","v":377.57500000000005},343.20000000000005,307.17500000000001,286,225.77500000000001]
[19,null,{"$f":"C906*$N$3","v":425.97500000000002},383.62500000000006,348.70000000000005,312.125,290.67500000000001,229.35000000000002]
[20,null,{"$f":"C907*$N$3","v":432.57500000000005},389.67500000000001,354.20000000000005,317.07500000000005,295.35000000000002,232.92500000000001]
[21,null,{"$f":"C908*$N$3","v":439.45000000000005},395.72500000000002,359.97500000000002,322.02500000000003,299.75,236.77500000000001]
[22,null,{"$f":"C909*$N$3","v":446.05},401.77500000000003,365.47500000000002,326.97500000000002,304.42500000000001,240.35000000000002]
[23,null,{"$f":"C910*$N$3","v":452.92500000000001},407.82500000000005,370.97500000000002,331.92500000000001,309.10000000000002,243.92500000000001]
[24,null,{"$f":"C911*$N$3","v":459.52500000000003},413.87500000000006,376.47500000000002,336.875,313.77500000000003,247.50000000000003]
[25,null,{"$f":"C912*$N$3","v":466.40000000000003},420.20000000000005,381.97500000000002,341.82500000000005,318.17500000000001,251.07500000000002]
[26,null,{"$f":"C913*$N$3","v":481.25000000000006},433.40000000000003,394.07500000000005,352.55,328.35,259.05]
[27,null,{"$f":"C914*$N$3","v":495.82500000000005},446.6,406.17500000000001,363.27500000000003,338.52500000000003,267.02500000000003]
[28,null,{"$f":"C915*$N$3","v":510.67500000000007},460.07500000000005,418.27500000000003,374.27500000000003,348.42500000000001,275]
[29,null,{"$f":"C916*$N$3","v":525.52500000000009},473.27500000000003,430.37500000000006,385.00000000000006,358.6,282.97500000000002]
[30,null,{"$f":"C917*$N$3","v":540.1},486.47500000000002,442.47500000000002,395.72500000000002,368.77500000000003,290.95000000000005]
[31,null,{"$f":"C918*$N$3","v":551.92500000000007},496.92500000000007,451.82500000000005,404.25000000000006,376.75000000000006,297.27500000000003]
[32,null,{"$f":"C919*$N$3","v":563.47500000000002},507.37500000000006,461.45000000000005,412.77500000000003,384.45000000000005,303.60000000000002]
[33,null,{"$f":"C920*$N$3","v":575.02500000000009},517.82500000000005,471.07500000000005,421.3,392.42500000000001,309.65000000000003]
[34,null,{"$f":"C921*$N$3","v":586.57500000000005},528.27500000000009,480.42500000000001,429.82500000000005,400.40000000000003,315.97500000000002]
[35,null,{"$f":"C922*$N$3","v":598.125},538.72500000000002,490.05,438.35,408.37500000000006,322.3]
[36,null,{"$f":"C923*$N$3","v":613.80000000000007},552.75,502.70000000000005,449.62500000000006,418.82500000000005,330.55]
[37,null,{"$f":"C924*$N$3","v":629.20000000000005},566.77500000000009,515.35,460.90000000000003,429.55,338.8]
[38,null,{"$f":"C925*$N$3","v":644.875},580.80000000000007,528,472.45000000000005,440.00000000000006,347.32500000000005]
[39,null,{"$f":"C926*$N$3","v":660.27500000000009},594.82500000000005,540.65000000000009,483.72500000000002,450.72500000000002,355.57500000000005]
[40,null,{"$f":"C927*$N$3","v":675.67500000000007},608.57500000000005,553.57500000000005,495.00000000000006,461.17500000000001,363.82500000000005]
[41,null,{"$f":"C928*$N$3","v":697.40000000000009},628.375,571.17500000000007,510.95000000000005,476.02500000000003,375.65000000000003]
[42,null,{"$f":"C929*$N$3","v":719.40000000000009},647.90000000000009,589.05000000000007,526.90000000000009,490.87500000000006,387.47500000000002]
[43,null,{"$f":"C930*$N$3","v":741.12500000000011},667.42500000000007,606.92500000000007,542.85,505.72500000000002,399.02500000000003]
[44,null,{"$f":"C931*$N$3","v":762.85},686.95,624.80000000000007,558.80000000000007,520.57500000000005,410.85]
[45,null,{"$f":"C932*$N$3","v":784.57500000000005},706.75000000000011,642.67500000000007,574.75,535.42500000000007,422.67500000000001]
[46,null,{"$f":"C933*$N$3","v":799.42500000000007},720.22500000000002,654.77500000000009,585.75,545.6,430.65000000000003]
[47,null,{"$f":"C934*$N$3","v":814.55000000000007},733.7,667.15000000000009,596.75,555.77500000000009,438.62500000000006]
[48,null,{"$f":"C935*$N$3","v":829.67500000000007},747.17500000000007,679.52500000000009,607.75,566.22500000000002,446.87500000000006]
[49,null,{"$f":"C936*$N$3","v":844.52500000000009},760.65000000000009,691.625,618.75,576.40000000000009,454.85]
[50,null,{"$f":"C937*$N$3","v":859.65000000000009},774.12500000000011,704,629.75,586.57500000000005,462.82500000000005]
[51,null,{"$f":"C938*$N$3","v":891.00000000000011},802.45,729.57500000000005,652.85,608.02500000000009,479.87500000000006]
[52,null,{"$f":"C939*$N$3","v":922.35},830.77500000000009,755.42500000000007,675.67500000000007,629.47500000000002,496.65000000000003]
[53,null,{"$f":"C940*$N$3","v":953.7},859.1,781.00000000000011,698.77500000000009,650.92500000000007,513.70000000000005]
[54,null,{"$f":"C941*$N$3","v":985.05000000000007},887.42500000000007,806.85,721.87500000000011,672.375,530.47500000000002]
[55,null,{"$f":"C942*$N$3","v":1016.6750000000001},915.75000000000011,832.42500000000007,744.7,693.82500000000005,547.52500000000009]
[56,null,{"$f":"C943*$N$3","v":1027.6750000000002},925.65000000000009,841.77500000000009,752.95,701.52500000000009,553.57500000000005]
[57,null,{"$f":"C944*$N$3","v":1038.95},935.82500000000005,850.85,761.2,708.95,559.625]
[58,null,{"$f":"C945*$N$3","v":1050.2250000000001},946.00000000000011,860.2,769.45,716.65000000000009,565.67500000000007]
[59,null,{"$f":"C946*$N$3","v":1061.5},955.90000000000009,869.27500000000009,777.7,724.35,571.72500000000002]
[60,null,{"$f":"C947*$N$3","v":1072.5},966.07500000000005,878.35,785.95,732.05000000000007,577.77500000000009]
[61,null,{"$f":"C948*$N$3","v":1208.3500000000001},1088.45,989.72500000000014,885.22500000000002,824.72500000000002,650.65000000000009]
[62,null,{"$f":"C949*$N$3","v":1343.9250000000002},1210.5500000000002,1100.5500000000002,984.50000000000011,917.12500000000011,723.80000000000007]
[63,null,{"$f":"C950*$N$3","v":1479.7750000000001},1332.9250000000002,1211.9250000000002,1084.0500000000002,1009.8000000000001,796.95]
[64,null,{"$f":"C951*$N$3","v":1615.9},1455.3000000000002,1323.3000000000002,1183.875,1102.75,870.1]
[65,null,{"$f":"C952*$N$3","v":1622.2250000000001},1461.075,1328.5250000000001,1188.5500000000002,1107.1500000000001,873.67500000000007]
[66,null,{"$f":"C953*$N$3","v":1628.825},1467.1250000000002,1334.0250000000001,1193.5,1111.5500000000002,877.25000000000011]
[67,null,{"$f":"C954*$N$3","v":1810.8750000000002},1631.0250000000001,1483.075,1326.6000000000001,1235.575,975.15000000000009]
[68,null,{"$f":"C955*$N$3","v":1993.4750000000001},1795.4750000000001,1632.6750000000002,1460.5250000000001,1360.4250000000002,1073.6000000000001]
[69,null,{"$f":"C956*$N$3","v":2084.7750000000001},1877.7,1707.4750000000001,1527.3500000000001,1422.575,1122.5500000000002]
[70,null,{"$f":"C957*$N$3","v":2099.3500000000004},1890.9,1719.3000000000002,1538.075,1432.7500000000002,1130.5250000000001]
[71,null,{"$f":"C958*$N$3","v":2363.9},2129.0500000000002,1936.0000000000002,1731.95,1613.15,1272.9750000000001]
[72,null,{"$f":"C959*$N$3","v":2627.625},2366.65,2152.15,1925.0000000000002,1793.2750000000001,1415.15]
[73,null,{"$f":"C960*$N$3","v":2891.9},2604.8000000000002,2368.3000000000002,2118.6000000000004,1973.4,1557.325]
[74,null,{"$f":"C961*$N$3","v":3156.1750000000002},2842.9500000000003,2585,2312.4750000000004,2153.8000000000002,1699.7750000000001]
[75,null,{"$f":"C962*$N$3","v":3448.5000000000005},3106.1250000000005,2824.2500000000005,2526.4250000000002,2353.4500000000003,1857.075]
[76,null,{"$f":"C963*$N$3","v":3448.5000000000005},3106.1250000000005,2824.2500000000005,2526.4250000000002,2353.4500000000003,1857.075]
[77,null,{"$f":"C964*$N$3","v":3448.5000000000005},3106.1250000000005,2824.2500000000005,2526.4250000000002,2353.4500000000003,1857.075]
[78,null,{"$f":"C965*$N$3","v":3448.5000000000005},3106.1250000000005,2824.2500000000005,2526.4250000000002,2353.4500000000003,1857.075]
[79,null,{"$f":"C966*$N$3","v":3448.5000000000005},3106.1250000000005,2824.2500000000005,2526.4250000000002,2353.4500000000003,1857.075]
[80,null,{"$f":"C967*$N$3","v":3448.5000000000005},3106.1250000000005,2824.2500000000005,2526.4250000000002,2353.4500000000003,1857.075]
[81,null,{"$f":"C968*$N$3","v":3448.5000000000005},3106.1250000000005,2824.2500000000005,2526.4250000000002,2353.4500000000003,1857.075]
[82,null,{"$f":"C969*$N$3","v":3448.5000000000005},3106.1250000000005,2824.2500000000005,2526.4250000000002,2353.4500000000003,1857.075]
[83,null,{"$f":"C970*$N$3","v":3448.5000000000005},3106.1250000000005,2824.2500000000005,2526.4250000000002,2353.4500000000003,1857.075]
[84,"o más",{"$f":"C971*$N$3","v":3448.5000000000005},3106.1250000000005,2824.2500000000005,2526.4250000000002,2353.4500000000003,1857.075]
[1,"Hijo",{"$f":"C972*$N$3","v":194.70000000000002},175.45000000000002,159.5,142.72500000000002,132.82500000000002,104.77500000000001]
[2,"Hijos",{"$f":"C973*$N$3","v":319},287.375,261.25,233.75000000000003,217.8,171.875]
[3,"Hijos o más",{"$f":"C974*$N$3","v":466.12500000000006},419.92500000000001,381.70000000000005,341.55,318.17500000000001,251.07500000000002]
[]
["BUPA GLOBAL MM"]
["TARIFAS ANUALES"]
["EDAD"]
[" "," ",10000,20000]
[18,null,1655,1300]
[19,null,1675,1311]
[20,null,1699,1324]
[21,null,1720,1339]
[22,null,1743,1354]
[23,null,1769,1369]
[24,null,1792,1387]
[25,null,1816,1404]
[26,null,1855,1428]
[27,null,1892,1453]
[28,null,1933,1481]
[29,null,1973,1510]
[30,null,2017,1540]
[31,null,2061,1570]
[32,null,2105,1603]
[33,null,2152,1638]
[34,null,2200,1672]
[35,null,2252,1710]
[36,null,2302,1747]
[37,null,2354,1786]
[38,null,2409,1827]
[39,null,2464,1868]
[40,null,2521,1910]
[41,null,2579,1954]
[42,null,2639,2001]
[43,null,2701,2048]
[44,null,2765,2095]
[45,null,2829,2145]
[46,null,2894,2196]
[47,null,2961,2247]
[48,null,3031,2302]
[49,null,3101,2356]
[50,null,3173,2412]
[51,null,3246,2467]
[52,null,3320,2526]
[53,null,3397,2587]
[54,null,3474,2648]
[55,null,3551,2711]
[56,null,3633,2775]
[57,null,3716,2840]
[58,null,3797,2905]
[59,null,3882,2973]
[60,null,3970,3042]
[61,null,4422,3405]
[62,null,4911,3803]
[63,null,5436,4231]
[64,null,5998,4692]
[65,null,6596,5186]
[66,null,7231,5714]
[67,null,7904,6273]
[68,null,8610,6864]
[69,null,9353,7486]
[70,null,10134,8144]
[71,null,10950,8832]
[72,null,11804,9552]
[73,null,12692,10308]
[74,null,13618,11092]
[75,null,14579,11912]
[76,null,14579,11912]
[77,null,14579,11912]
[78,null,14579,11912]
[79,null,14579,11912]
[80,null,14579,11912]
[81,null,14579,11912]
[82,null,14579,11912]
[83,null,14579,11912]
[84,"o más",14579,11912]
[1,"Hijo",746,586]
[2,"Hijos",1267,995]
[3,"Hijos o más",1787,1404]
[]
["BUPA GLOBAL MM - MENSUALES"]
["EDAD"]
[" "," ",10000,20000]
[18,null,{"$f":"C1129*$K$2","v":137.91666666666666},{"$f":"D1129*$K$2","v":108.33333333333333},0,0,0]
[19,null,{"$f":"C1130*$K$2","v":139.58333333333331},109.25,0,0,0]
[20,null,{"$f":"C1131*$K$2","v":141.58333333333331},110.33333333333333,0,0,0]
[21,null,{"$f":"C1132*$K$2","v":143.33333333333331},111.58333333333333,0,0,0]
[22,null,{"$f":"C1133*$K$2","v":145.25},112.83333333333333,0,0,0]
[23,null,{"$f":"C1134*$K$2","v":147.41666666666666},114.08333333333333,0,0,0]
[24,null,{"$f":"C1135*$K$2","v":149.33333333333331},115.58333333333333,0,0,0]
[25,null,{"$f":"C1136*$K$2","v":151.33333333333331},117,0,0,0]
[26,null,{"$f":"C1137*$K$2","v":154.58333333333331},119,0,0,0]
[27,null,{"$f":"C1138*$K$2","v":157.66666666666666},121.08333333333333,0,0,0]
[28,null,{"$f":"C1139*$K$2","v":161.08333333333331},123.41666666666666,0,0,0]
[29,null,{"$f":"C1140*$K$2","v":164.41666666666666},125.83333333333333,0,0,0]
[30,null,{"$f":"C1141*$K$2","v":168.08333333333331},128.33333333333331,0,0,0]
[31,null,{"$f":"C1142*$K$2","v":171.75},130.83333333333331,0,0,0]
[32,null,{"$f":"C1143*$K$2","v":175.41666666666666},133.58333333333331,0,0,0]
[33,null,{"$f":"C1144*$K$2","v":179.33333333333331},136.5,0,0,0]
[34,null,{"$f":"C1145*$K$2","v":183.33333333333331},139.33333333333331,0,0,0]
[35,null,{"$f":"C1146*$K$2","v":187.66666666666666},142.5,0,0,0]
[36,null,{"$f":"C1147*$K$2","v":191.83333333333331},145.58333333333331,0,0,0]
[37,null,{"$f":"C1148*$K$2","v":196.16666666666666},148.83333333333331,0,0,0]
[38,null,{"$f":"C1149*$K$2","v":200.75},152.25,0,0,0]
[39,null,{"$f":"C1150*$K$2","v":205.33333333333331},155.66666666666666,0,0,0]
[40,null,{"$f":"C1151*$K$2","v":210.08333333333331},159.16666666666666,0,0,0]
[41,null,{"$f":"C1152*$K$2","v":214.91666666666666},162.83333333333331,0,0,0]
[42,null,{"$f":"C1153*$K$2","v":219.91666666666666},166.75,0,0,0]
[43,null,{"$f":"C1154*$K$2","v":225.08333333333331},170.66666666666666,0,0,0]
[44,null,{"$f":"C1155*$K$2","v":230.41666666666666},174.58333333333331,0,0,0]
[45,null,{"$f":"C1156*$K$2","v":235.75},178.75,0,0,0]
[46,null,{"$f":"C1157*$K$2","v":241.16666666666666},183,0,0,0]
[47,null,{"$f":"C1158*$K$2","v":246.75},187.25,0,0,0]
[48,null,{"$f":"C1159*$K$2","v":252.58333333333331},191.83333333333331,0,0,0]
[49,null,{"$f":"C1160*$K$2","v":258.41666666666663},196.33333333333331,0,0,0]
[50,null,{"$f":"C1161*$K$2","v":264.41666666666663},201,0,0,0]
[51,null,{"$f":"C1162*$K$2","v":270.5},205.58333333333331,0,0,0]
[52,null,{"$f":"C1163*$K$2","v":276.66666666666663},210.5,0,0,0]
[53,null,{"$f":"C1164*$K$2","v":283.08333333333331},215.58333333333331,0,0,0]
[54,null,{"$f":"C1165*$K$2","v":289.5},220.66666666666666,0,0,0]
[55,null,{"$f":"C1166*$K$2","v":295.91666666666663},225.91666666666666,0,0,0]
[56,null,{"$f":"C1167*$K$2","v":302.75},231.25,0,0,0]
[57,null,{"$f":"C1168*$K$2","v":309.66666666666663},236.66666666666666,0,0,0]
[58,null,{"$f":"C1169*$K$2","v":316.41666666666663},242.08333333333331,0,0,0]
[59,null,{"$f":"C1170*$K$2","v":323.5},247.75,0,0,0]
[60,null,{"$f":"C1171*$K$2","v":330.83333333333331},253.5,0,0,0]
[61,null,{"$f":"C1172*$K$2","v":368.5},283.75,0,0,0]
[62,null,{"$f":"C1173*$K$2","v":409.25},316.91666666666663,0,0,0]
[63,null,{"$f":"C1174*$K$2","v":453},352.58333333333331,0,0,0]
[64,null,{"$f":"C1175*$K$2","v":499.83333333333331},391,0,0,0]
[65,null,{"$f":"C1176*$K$2","v":549.66666666666663},432.16666666666663,0,0,0]
[66,null,{"$f":"C1177*$K$2","v":602.58333333333326},476.16666666666663,0,0,0]
[67,null,{"$f":"C1178*$K$2","v":658.66666666666663},522.75,0,0,0]
[68,null,{"$f":"C1179*$K$2","v":717.5},572,0,0,0]
[69,null,{"$f":"C1180*$K$2","v":779.41666666666663},623.83333333333326,0,0,0]
[70,null,{"$f":"C1181*$K$2","v":844.5},678.66666666666663,0,0,0]
[71,null,{"$f":"C1182*$K$2","v":912.5},736,0,0,0]
[72,null,{"$f":"C1183*$K$2","v":983.66666666666663},796,0,0,0]
[73,null,{"$f":"C1184*$K$2","v":1057.6666666666665},859,0,0,0]
[74,null,{"$f":"C1185*$K$2","v":1134.8333333333333},924.33333333333326,0,0,0]
[75,null,{"$f":"C1186*$K$2","v":1214.9166666666665},992.66666666666663,0,0,0]
[76,null,{"$f":"C1187*$K$2","v":1214.9166666666665},992.66666666666663,0,0,0]
[77,null,{"$f":"C1188*$K$2","v":1214.9166666666665},992.66666666666663,0,0,0]
[78,null,{"$f":"C1189*$K$2","v":1214.9166666666665},992.66666666666663,0,0,0]
[79,null,{"$f":"C1190*$K$2","v":1214.9166666666665},992.66666666666663,0,0,0]
[80,null,{"$f":"C1191*$K$2","v":1214.9166666666665},992.66666666666663,0]
[81,null,{"$f":"C1192*$K$2","v":1214.9166666666665},992.66666666666663,0]
[82,null,{"$f":"C1193*$K$2","v":1214.9166666666665},992.66666666666663,0]
[83,null,{"$f":"C1194*$K$2","v":1214.9166666666665},992.66666666666663,0]
[84,"o más",{"$f":"C1195*$K$2","v":1214.9166666666665},992.66666666666663,0,0,0]
[1,"Hijo",{"$f":"C1196*$K$2","v":62.166666666666664},48.833333333333329,0,0,0]
[2,"Hijos",{"$f":"C1197*$K$2","v":105.58333333333333},82.916666666666657,0,0,0]
[3,"Hijos o más",{"$f":"C1198*$K$2","v":148.91666666666666},117,0,0,0]
[]
["BUPA GLOBAL MM"]
["TARIFAS TRIMESTRALES"]
["EDAD"]
[" "," ",10000,20000]
[18,null,{"$f":"C1129*$K$3","v":413.75},{"$f":"D1129*$K$3","v":325},{"$f":"E1129*K$3","v":0},{"$f":"F1129*K$3","v":0},0]
[19,null,{"$f":"C1130*$K$3","v":418.75},327.75,{"$f":"E1130*K$3","v":0},{"$f":"F1130*K$3","v":0},0]
[20,null,{"$f":"C1131*$K$3","v":424.75},331,0,0,0]
[21,null,{"$f":"C1132*$K$3","v":430},334.75,0,0,0]
[22,null,{"$f":"C1133*$K$3","v":435.75},338.5,0,0,0]
[23,null,{"$f":"C1134*$K$3","v":442.25},342.25,0,0,0]
[24,null,{"$f":"C1135*$K$3","v":448},346.75,0,0,0]
[25,null,{"$f":"C1136*$K$3","v":454},351,0,0,0]
[26,null,{"$f":"C1137*$K$3","v":463.75},357,0,0,0]
[27,null,{"$f":"C1138*$K$3","v":473},363.25,0,0,0]
[28,null,{"$f":"C1139*$K$3","v":483.25},370.25,0,0,0]
[29,null,{"$f":"C1140*$K$3","v":493.25},377.5,0,0,0]
[30,null,{"$f":"C1141*$K$3","v":504.25},385,0,0,0]
[31,null,{"$f":"C1142*$K$3","v":515.25},392.5,0,0,0]
[32,null,{"$f":"C1143*$K$3","v":526.25},400.75,0,0,0]
[33,null,{"$f":"C1144*$K$3","v":538},409.5,0,0,0]
[34,null,{"$f":"C1145*$K$3","v":550},418,0,0,0]
[35,null,{"$f":"C1146*$K$3","v":563},427.5,0,0,0]
[36,null,{"$f":"C1147*$K$3","v":575.5},436.75,0,0,0]
[37,null,{"$f":"C1148*$K$3","v":588.5},446.5,0,0,0]
[38,null,{"$f":"C1149*$K$3","v":602.25},456.75,0,0,0]
[39,null,{"$f":"C1150*$K$3","v":616},467,0,0,0]
[40,null,{"$f":"C1151*$K$3","v":630.25},477.5,0,0,0]
[41,null,{"$f":"C1152*$K$3","v":644.75},488.5,0,0,0]
[42,null,{"$f":"C1153*$K$3","v":659.75},500.25,0,0,0]
[43,null,{"$f":"C1154*$K$3","v":675.25},512,0,0,0]
[44,null,{"$f":"C1155*$K$3","v":691.25},523.75,0,0,0]
[45,null,{"$f":"C1156*$K$3","v":707.25},536.25,0,0,0]
[46,null,{"$f":"C1157*$K$3","v":723.5},549,0,0,0]
[47,null,{"$f":"C1158*$K$3","v":740.25},561.75,0,0,0]
[48,null,{"$f":"C1159*$K$3","v":757.75},575.5,0,0,0]
[49,null,{"$f":"C1160*$K$3","v":775.25},589,0,0,0]
[50,null,{"$f":"C1161*$K$3","v":793.25},603,0,0,0]
[51,null,{"$f":"C1162*$K$3","v":811.5},616.75,0,0,0]
[52,null,{"$f":"C1163*$K$3","v":830},631.5,0,0,0]
[53,null,{"$f":"C1164*$K$3","v":849.25},646.75,0,0,0]
[54,null,{"$f":"C1165*$K$3","v":868.5},662,0,0,0]
[55,null,{"$f":"C1166*$K$3","v":887.75},677.75,0,0,0]
[56,null,{"$f":"C1167*$K$3","v":908.25},693.75,0,0,0]
[57,null,{"$f":"C1168*$K$3","v":929},710,0,0,0]
[58,null,{"$f":"C1169*$K$3","v":949.25},726.25,0,0,0]
[59,null,{"$f":"C1170*$K$3","v":970.5},743.25,0,0,0]
[60,null,{"$f":"C1171*$K$3","v":992.5},760.5,0,0,0]
[61,null,{"$f":"C1172*$K$3","v":1105.5},851.25,0,0,0]
[62,null,{"$f":"C1173*$K$3","v":1227.75},950.75,0,0,0]
[63,null,{"$f":"C1174*$K$3","v":1359},1057.75,0,0,0]
[64,null,{"$f":"C1175*$K$3","v":1499.5},1173,0,0,0]
[65,null,{"$f":"C1176*$K$3","v":1649},1296.5,0,0,0]
[66,null,{"$f":"C1177*$K$3","v":1807.75},1428.5,0,0,0]
[67,null,{"$f":"C1178*$K$3","v":1976},1568.25,0,0,0]
[68,null,{"$f":"C1179*$K$3","v":2152.5},1716,0,0,0]
[69,null,{"$f":"C1180*$K$3","v":2338.25},1871.5,0,0,0]
[70,null,{"$f":"C1181*$K$3","v":2533.5},2036,0,0,0]
[71,null,{"$f":"C1182*$K$3","v":2737.5},2208,0,0,0]
[72,null,{"$f":"C1183*$K$3","v":2951},2388,0,0,0]
[73,null,{"$f":"C1184*$K$3","v":3173},2577,0,0,0]
[74,null,{"$f":"C1185*$K$3","v":3404.5},2773,0,0,0]
[75,null,{"$f":"C1186*$K$3","v":3644.75},2978,0,0,0]
[76,null,{"$f":"C1187*$K$3","v":3644.75},2978,0,0,0]
[77,null,{"$f":"C1188*$K$3","v":3644.75},2978,0,0,0]
[78,null,{"$f":"C1189*$K$3","v":3644.75},2978,0,0,0]
[79,null,{"$f":"C1190*$K$3","v":3644.75},2978,0,0,0]
[80,null,{"$f":"C1191*$K$3","v":3644.75},2978,0,0,0]
[81,null,{"$f":"C1192*$K$3","v":3644.75},2978,0,0,0]
[82,null,{"$f":"C1193*$K$3","v":3644.75},2978,0,0,0]
[83,null,{"$f":"C1194*$K$3","v":3644.75},2978,{"$f":"E1194*K$3","v":0},{"$f":"F1194*K$3","v":0},0]
[84,"o más",{"$f":"C1195*$K$3","v":3644.75},2978,0,0,0]
[1,"Hijo",{"$f":"C1196*$K$3","v":186.5},146.5,0,0,0]
[2,"Hijos",{"$f":"C1197*$K$3","v":316.75},248.75,0,0,0]
[3,"Hijos o más",{"$f":"C1198*$K$3","v":446.75},351,0,0,0]
[]
["BUPA GLOBAL MM"]
["TARIFAS SEMESTRAL"]
["EDAD"]
[" "," ",10000,20000]
[18,null,{"$f":"C1129*$K$4","v":827.5},{"$f":"D1129*$K$4","v":650},0,0,0]
[19,null,{"$f":"C1130*$K$4","v":837.5},655.5,0,0,0]
[20,null,{"$f":"C1131*$K$4","v":849.5},662,0,0,0]
[21,null,{"$f":"C1132*$K$4","v":860},669.5,0,0,0]
[22,null,{"$f":"C1133*$K$4","v":871.5},677,0,0,0]
[23,null,{"$f":"C1134*$K$4","v":884.5},684.5,0,0,0]
[24,null,{"$f":"C1135*$K$4","v":896},693.5,0,0,0]
[25,null,{"$f":"C1136*$K$4","v":908},702,0,0,0]
[26,null,{"$f":"C1137*$K$4","v":927.5},714,0,0,0]
[27,null,{"$f":"C1138*$K$4","v":946},726.5,0,0,0]
[28,null,{"$f":"C1139*$K$4","v":966.5},740.5,0,0,0]
[29,null,{"$f":"C1140*$K$4","v":986.5},755,0,0,0]
[30,null,{"$f":"C1141*$K$4","v":1008.5},770,0,0,0]
[31,null,{"$f":"C1142*$K$4","v":1030.5},785,0,0,0]
[32,null,{"$f":"C1143*$K$4","v":1052.5},801.5,0,0,0]
[33,null,{"$f":"C1144*$K$4","v":1076},819,0,0,0]
[34,null,{"$f":"C1145*$K$4","v":1100},836,0,0,0]
[35,null,{"$f":"C1146*$K$4","v":1126},855,0,0,0]
[36,null,{"$f":"C1147*$K$4","v":1151},873.5,0,0,0]
[37,null,{"$f":"C1148*$K$4","v":1177},893,0,0,0]
[38,null,{"$f":"C1149*$K$4","v":1204.5},913.5,0,0,0]
[39,null,{"$f":"C1150*$K$4","v":1232},934,0,0,0]
[40,null,{"$f":"C1151*$K$4","v":1260.5},955,0,0,0]
[41,null,{"$f":"C1152*$K$4","v":1289.5},977,0,0,0]
[42,null,{"$f":"C1153*$K$4","v":1319.5},1000.5,0,0,0]
[43,null,{"$f":"C1154*$K$4","v":1350.5},1024,0,0,0]
[44,null,{"$f":"C1155*$K$4","v":1382.5},1047.5,0,0,0]
[45,null,{"$f":"C1156*$K$4","v":1414.5},1072.5,0,0,0]
[46,null,{"$f":"C1157*$K$4","v":1447},1098,0,0,0]
[47,null,{"$f":"C1158*$K$4","v":1480.5},1123.5,0,0,0]
[48,null,{"$f":"C1159*$K$4","v":1515.5},1151,0,0,0]
[49,null,{"$f":"C1160*$K$4","v":1550.5},1178,0,0,0]
[50,null,{"$f":"C1161*$K$4","v":1586.5},1206,0,0,0]
[51,null,{"$f":"C1162*$K$4","v":1623},1233.5,0,0,0]
[52,null,{"$f":"C1163*$K$4","v":1660},1263,0,0,0]
[53,null,{"$f":"C1164*$K$4","v":1698.5},1293.5,0,0,0]
[54,null,{"$f":"C1165*$K$4","v":1737},1324,0,0,0]
[55,null,{"$f":"C1166*$K$4","v":1775.5},1355.5,0,0,0]
[56,null,{"$f":"C1167*$K$4","v":1816.5},1387.5,0,0,0]
[57,null,{"$f":"C1168*$K$4","v":1858},1420,0,0,0]
[58,null,{"$f":"C1169*$K$4","v":1898.5},1452.5,0,0,0]
[59,null,{"$f":"C1170*$K$4","v":1941},1486.5,0,0,0]
[60,null,{"$f":"C1171*$K$4","v":1985},1521,0,0,0]
[61,null,{"$f":"C1172*$K$4","v":2211},1702.5,0,0,0]
[62,null,{"$f":"C1173*$K$4","v":2455.5},1901.5,0,0,0]
[63,null,{"$f":"C1174*$K$4","v":2718},2115.5,0,0,0]
[64,null,{"$f":"C1175*$K$4","v":2999},2346,0,0,0]
[65,null,{"$f":"C1176*$K$4","v":3298},2593,0,0,0]
[66,null,{"$f":"C1177*$K$4","v":3615.5},2857,0,0,0]
[67,null,{"$f":"C1178*$K$4","v":3952},3136.5,0,0,0]
[68,null,{"$f":"C1179*$K$4","v":4305},3432,0,0,0]
[69,null,{"$f":"C1180*$K$4","v":4676.5},3743,0,0,0]
[70,null,{"$f":"C1181*$K$4","v":5067},4072,0,0,0]
[71,null,{"$f":"C1182*$K$4","v":5475},4416,0,0,0]
[72,null,{"$f":"C1183*$K$4","v":5902},4776,0,0,0]
[73,null,{"$f":"C1184*$K$4","v":6346},5154,0,0,0]
[74,null,{"$f":"C1185*$K$4","v":6809},5546,0,0,0]
[75,null,{"$f":"C1186*$K$4","v":7289.5},5956,0,0,0]
[76,null,{"$f":"C1187*$K$4","v":7289.5},5956,0,0,0]
[77,null,{"$f":"C1188*$K$4","v":7289.5},5956,0,0,0]
[78,null,{"$f":"C1189*$K$4","v":7289.5},5956,0,0,0]
[79,null,{"$f":"C1190*$K$4","v":7289.5},5956,0,0,0]
[80,null,{"$f":"C1191*$K$4","v":7289.5},5956,0,0,0]
[81,null,{"$f":"C1192*$K$4","v":7289.5},5956,0,0,0]
[82,null,{"$f":"C1193*$K$4","v":7289.5},5956,0,0,0]
[83,null,{"$f":"C1194*$K$4","v":7289.5},5956,0,0,0]
[84,"o más",{"$f":"C1195*$K$4","v":7289.5},5956,0,0,0]
[1,"Hijo",{"$f":"C1196*$K$4","v":373},293,0,0,0]
[2,"Hijos",{"$f":"C1197*$K$4","v":633.5},497.5,0,0,0]
[3,"Hijos o más",{"$f":"C1198*$K$4","v":893.5},702,0,0,0]
[]
["BUPA ESSENTIAL"]
["TARIFAS SEMESTRALES"]
["EDAD"]
[" "," ",0,1000,2000]
[18,null,{"$f":"C905*$N$4","v":807.72},{"$f":"D905*$N$4","v":727.69},661.44,592.01,551.20000000000005,435.13]
[19,null,{"$f":"C906*$N$4","v":820.97},739.35,672.04000000000008,601.55000000000007,560.21,442.02000000000004]
[20,null,{"$f":"C907*$N$4","v":833.69},751.01,682.64,611.09,569.22,448.91]
[21,null,{"$f":"C908*$N$4","v":846.94},762.67000000000007,693.77,620.63,577.70000000000005,456.33000000000004]
[22,null,{"$f":"C909*$N$4","v":859.66000000000008},774.33,704.37,630.17000000000007,586.71,463.22]
[23,null,{"$f":"C910*$N$4","v":872.91000000000008},785.99,714.97,639.71,595.72,470.11]
[24,null,{"$f":"C911*$N$4","v":885.63},797.65000000000009,725.57,649.25,604.73,477]
[25,null,{"$f":"C912*$N$4","v":898.88},809.84,736.17000000000007,658.79000000000008,613.21,483.89000000000004]
[26,null,{"$f":"C913*$N$4","v":927.5},835.28000000000009,759.49,679.46,632.82000000000005,499.26000000000005]
[27,null,{"$f":"C914*$N$4","v":955.59},860.72,782.81000000000006,700.13,652.43000000000006,514.63]
[28,null,{"$f":"C915*$N$4","v":984.21},886.69,806.13,721.33,671.51,530]
[29,null,{"$f":"C916*$N$4","v":1012.83},912.13,829.45,742,691.12,545.37]
[30,null,{"$f":"C917*$N$4","v":1040.92},937.57,852.7700000000001,762.67000000000007,710.73,560.74]
[31,null,{"$f":"C918*$N$4","v":1063.71},957.71,870.79000000000008,779.1,726.1,572.93000000000006]
[32,null,{"$f":"C919*$N$4","v":1085.97},977.85,889.34,795.53000000000009,740.94,585.12]
[33,null,{"$f":"C920*$N$4","v":1108.23},997.99,907.8900000000001,811.96,756.31000000000006,596.78000000000009]
[34,null,{"$f":"C921*$N$4","v":1130.49},1018.13,925.91000000000008,828.39,771.68000000000006,608.97]
[35,null,{"$f":"C922*$N$4","v":1152.75},1038.27,944.46,844.82,787.05000000000007,621.16000000000008]
[36,null,{"$f":"C923*$N$4","v":1182.96},1065.3,968.84,866.55000000000007,807.19,637.06000000000006]
[37,null,{"$f":"C924*$N$4","v":1212.6400000000001},1092.3300000000002,993.22,888.28000000000009,827.86,652.96]
[38,null,{"$f":"C925*$N$4","v":1242.8500000000001},1119.3600000000001,1017.6,910.54000000000008,848,669.39]
[39,null,{"$f":"C926*$N$4","v":1272.53},1146.3900000000001,1041.98,932.2700000000001,868.67000000000007,685.29000000000008]
[40,null,{"$f":"C927*$N$4","v":1302.21},1172.8900000000001,1066.8900000000001,954,888.81000000000006,701.19]
[41,null,{"$f":"C928*$N$4","v":1344.0800000000002},1211.05,1100.81,984.74,917.43000000000006,723.98]
[42,null,{"$f":"C929*$N$4","v":1386.48},1248.68,1135.26,1015.48,946.05000000000007,746.77]
[43,null,{"$f":"C930*$N$4","v":1428.3500000000001},1286.3100000000002,1169.71,1046.22,974.67000000000007,769.03000000000009]
[44,null,{"$f":"C931*$N$4","v":1470.22},1323.94,1204.1600000000001,1076.96,1003.2900000000001,791.82]
[45,null,{"$f":"C932*$N$4","v":1512.0900000000001},1362.1000000000001,1238.6100000000001,1107.7,1031.9100000000001,814.61]
[46,null,{"$f":"C933*$N$4","v":1540.71},1388.0700000000002,1261.93,1128.9000000000001,1051.52,829.98]
[47,null,{"$f":"C934*$N$4","v":1569.8600000000001},1414.04,1285.78,1150.1000000000001,1071.1300000000001,845.35]
[48,null,{"$f":"C935*$N$4","v":1599.01},1440.01,1309.6300000000001,1171.3,1091.27,861.25]
[49,null,{"$f":"C936*$N$4","v":1627.63},1465.98,1332.95,1192.5,1110.8800000000001,876.62]
[50,null,{"$f":"C937*$N$4","v":1656.78},1491.95,1356.8000000000002,1213.7,1130.49,891.99]
[51,null,{"$f":"C938*$N$4","v":1717.2},1546.5400000000002,1406.0900000000001,1258.22,1171.8300000000002,924.85]
[52,null,{"$f":"C939*$N$4","v":1777.6200000000001},1601.13,1455.91,1302.21,1213.17,957.18000000000006]
[53,null,{"$f":"C940*$N$4","v":1838.0400000000002},1655.72,1505.2,1346.73,1254.51,990.04000000000008]
[54,null,{"$f":"C941*$N$4","v":1898.46},1710.3100000000002,1555.02,1391.25,1295.8500000000001,1022.37]
[55,null,{"$f":"C942*$N$4","v":1959.41},1764.9,1604.3100000000002,1435.24,1337.19,1055.23]
[56,null,{"$f":"C943*$N$4","v":1980.6100000000001},1783.98,1622.3300000000002,1451.14,1352.03,1066.8900000000001]
[57,null,{"$f":"C944*$N$4","v":2002.3400000000001},1803.5900000000001,1639.8200000000002,1467.04,1366.3400000000001,1078.55]
[58,null,{"$f":"C945*$N$4","v":2024.0700000000002},1823.2,1657.8400000000001,1482.94,1381.18,1090.21]
[59,null,{"$f":"C946*$N$4","v":2045.8000000000002},1842.2800000000002,1675.3300000000002,1498.8400000000001,1396.02,1101.8700000000001]
[60,null,{"$f":"C947*$N$4","v":2067},1861.89,1692.8200000000002,1514.74,1410.8600000000001,1113.53]
[61,null,{"$f":"C948*$N$4","v":2328.8200000000002},2097.7400000000002,1907.47,1706.0700000000002,1589.47,1253.98]
[62,null,{"$f":"C949*$N$4","v":2590.11},2333.06,2121.06,1897.4,1767.5500000000002,1394.96]
[63,null,{"$f":"C950*$N$4","v":2851.9300000000003},2568.9100000000003,2335.71,2089.2600000000002,1946.16,1535.94]
[64,null,{"$f":"C951*$N$4","v":3114.28},2804.76,2550.36,2281.65,2125.3000000000002,1676.92]
[65,null,{"$f":"C952*$N$4","v":3126.4700000000003},2815.8900000000003,2560.4300000000003,2290.6600000000003,2133.7800000000002,1683.8100000000002]
[66,null,{"$f":"C953*$N$4","v":3139.19},2827.55,2571.0300000000002,2300.2000000000003,2142.2600000000002,1690.7]
[67,null,{"$f":"C954*$N$4","v":3490.05},3143.4300000000003,2858.29,2556.7200000000003,2381.29,1879.38]
[68,null,{"$f":"C955*$N$4","v":3841.9700000000003},3460.3700000000003,3146.61,2814.83,2621.9100000000003,2069.12]
[69,null,{"$f":"C956*$N$4","v":4017.9300000000003},3618.84,3290.77,2943.6200000000003,2741.69,2163.46]
[70,null,{"$f":"C957*$N$4","v":4046.02},3644.28,3313.56,2964.29,2761.3,2178.83]
[71,null,{"$f":"C958*$N$4","v":4555.88},4103.26,3731.2000000000003,3337.94,3108.98,2453.3700000000003]
[72,null,{"$f":"C959*$N$4","v":5064.1500000000005},4561.18,4147.7800000000007,3710,3456.13,2727.38]
[73,null,{"$f":"C960*$N$4","v":5573.4800000000005},5020.16,4564.3600000000006,4083.1200000000003,3803.28,3001.3900000000003]
[74,null,{"$f":"C961*$N$4","v":6082.81},5479.14,4982,4456.7700000000004,4150.96,3275.9300000000003]
[75,null,{"$f":"C962*$N$4","v":6646.2000000000007},5986.35,5443.1,4869.1100000000006,4535.74,3579.09]
[76,null,{"$f":"C963*$N$4","v":6646.2000000000007},5986.35,5443.1,4869.1100000000006,4535.74,3579.09]
[77,null,{"$f":"C964*$N$4","v":6646.2000000000007},5986.35,5443.1,4869.1100000000006,4535.74,3579.09]
[78,null,{"$f":"C965*$N$4","v":6646.2000000000007},5986.35,5443.1,4869.1100000000006,4535.74,3579.09]
[79,null,{"$f":"C966*$N$4","v":6646.2000000000007},5986.35,5443.1,4869.1100000000006,4535.74,3579.09]
[80,null,{"$f":"C967*$N$4","v":6646.2000000000007},5986.35,5443.1,4869.1100000000006,4535.74,3579.09]
[81,null,{"$f":"C968*$N$4","v":6646.2000000000007},5986.35,5443.1,4869.1100000000006,4535.74,3579.09]
[82,null,{"$f":"C969*$N$4","v":6646.2000000000007},5986.35,5443.1,4869.1100000000006,4535.74,3579.09]
[83,null,{"$f":"C970*$N$4","v":6646.2000000000007},5986.35,5443.1,4869.1100000000006,4535.74,3579.09]
[84,"o más",{"$f":"C971*$N$4","v":6646.2000000000007},5986.35,5443.1,4869.1100000000006,4535.74,3579.09]
[1,"Hijo",{"$f":"C972*$N$4","v":375.24},338.14000000000004,307.40000000000003,275.07,255.99,201.93]
[2,"Hijos",{"$f":"C973*$N$4","v":614.80000000000007},553.85,503.5,450.5,419.76000000000005,331.25]
[3,"Hijos o más",{"$f":"C974*$N$4","v":898.35},809.31000000000006,735.64,658.26,613.21,483.89000000000004]