{"text_format":"1","workbook":"xlsx","n_sheets":3,"sheets":["INGRESO DE DATOS","Bupa Alpha","Tablas"],"not_rendered":{"charts":0,"images":2,"macros":1,"external_links":0,"defined_names":1,"comments":1,"pivot_tables":0},"unopened":[],"bounds":{"document_bytes":16777216,"sheet_cells":100000,"rows_first":2000,"rows_last":500,"rows_between":2000,"halvings":0,"cell_chars":16384,"cell_head_chars":4096},"cells_cut":0,"cells_raw":0,"read":"whole","date_system":"1900"}

{"sheet":"INGRESO DE DATOS","index":0,"n_rows":26,"n_cols":12,"rows_kept":26,"cut":false,"hidden":false,"merged":[[7,0,7,9],[14,3,14,9],[9,2,9,3],[23,3,23,9]]}
[]
[null,null,null,null,null,null,null,null," "," "," "]
[null,4]
[]
[]
[null,null,null,null,null,null,null,null," "," "," "," "]
[]
["COTIZACIÓN DE SEGURO MÉDICO"]
[]
["SELECCIONE EL PAIS:",null,"ARGENTINA"]
[]
[]
["INGRESE LOS DATOS DEL PROPUESTO ASEGURADO:"]
[]
[null,null,"Nombre del Asegurado principal:","NOMBRE Y APELLIDO"]
[]
[null,null,null,null,null,"Número de adultos en la póliza: ",1,null,"Número de hijos en la póliza: ",0]
[]
[null,null,null,null,null," Edad del titular: ",23,null,"Edad de cónyuge: ",19]
[]
[]
["INGRESE EL NOMBRE DE LA AGENCIA ASESORA:"]
[]
[null,null,"Nombre de la Agencia :","AGENCIA"]
[]
["4. ESCOJA EL PRODUCTO PARA VISUALIZAR LA COTIZACION RESPECTIVA :"]

{"sheet":"Bupa Alpha","index":1,"n_rows":50,"n_cols":11,"rows_kept":50,"cut":false,"hidden":false,"merged":[[9,0,9,1],[11,5,11,10],[48,3,48,10],[46,0,46,1],[49,3,51,10],[16,3,16,4],[28,3,28,10],[38,3,38,10],[9,5,9,7],[13,5,13,10]]}
[]
[null,null,null,null,null,null,null," "," "," "]
[]
[]
[]
[null,null,null,null,null,null,null," "," "," "," "]
[]
[]
[]
["Cotización de Seguro Médico - Bupa ALPHA",null,null,null,"País: ",{"$f":"+'INGRESO DE DATOS'!$C$10","v":"ARGENTINA"}]
[]
[null,null,null,null,"Nombre del asegurado :",{"$f":"+'INGRESO DE DATOS'!$D$15","v":"NOMBRE Y APELLIDO"}]
[]
[null,null,null,null,"Broker / Agente :",{"$f":"+'INGRESO DE DATOS'!$D$24","v":"AGENCIA"}]
[]
[null,null,null,null,null,null,"Número de adultos en la póliza:",{"$f":"+'INGRESO DE DATOS'!$G$17","v":1},null,"Edad de Titular :",{"$f":"+'INGRESO DE DATOS'!$G$19","v":23}]
[]
[null,null,null,null,null,null,"Número hijos (menos 24 de años):",{"$f":"+'INGRESO DE DATOS'!$J$17","v":0},null,"Edad de Cónyuge:",{"$f":"+'INGRESO DE DATOS'!$J$19","v":19}]
[null,null,null,null,null,null,null," "," "," "]
[null,null,null,null,null,null,"Fecha de cotización: ",{"$f":"NOW()","v":"2023-01-24T12:00:43.390"}]
[]
[null,null,null,null,null,null,true,null,"COMPLICACIONES DE MATERNIDAD"]
[]
[null,null,null,null,null,null,true,null,"TRASPLANTE DE ORGANOS"]
[]
[null,null,null,"Deducibles",null,null,"PLAN 2","PLAN 3","PLAN 4","PLAN 5","PLAN 6"]
[null,null,null,"Dentro o fuera del pais de residencia",null,null,1000,2000,5000,10000,20000]
[]
[null,null,null,"Tarifas Anuales"]
[null,null,null,"Prima de Titular :",null,null,{"$f":"IF(OR($F10=\"CHILE\",$F10=\"HAITI\",$F10=\"HONDURAS\"),VLOOKUP($K$16,Tablas!$A$6:$H$68,4,TRUE),IF(OR($F10=\"COSTA RICA\",$F10=\"EL SALVADOR\"),VLOOKUP($K$16,Tablas!$A$151:$H$213,4,TRUE),IF(OR($F10=\"BELIZE\",$F10=\"GUYANA\",$F10=\"NICARAGUA\",$F10=\"SURINAME\",$F10=\"URUGUAY\",$F10=\"CARIBBEAN\",$F10=\"PERU\"),VLOOKUP($K$16,Tablas!$A$296:$H$358,4,TRUE),IF($F10=\"VENEZUELA\",VLOOKUP($K$16,Tablas!$A$441:$H$503,4,TRUE),IF(OR($F10=\"ARGENTINA\",$F10=\"COLOMBIA\",$F10=\"PARAGUAY\"),VLOOKUP($K$16,Tablas!$A$586:$H$648,4,TRUE),0)))))","v":3701},{"$f":"IF(OR($F10=\"CHILE\",$F10=\"HAITI\",$F10=\"HONDURAS\"),VLOOKUP($K$16,Tablas!$A$6:$H$68,5,TRUE),IF(OR($F10=\"COSTA RICA\",$F10=\"EL SALVADOR\"),VLOOKUP($K$16,Tablas!$A$151:$H$213,5,TRUE),IF(OR($F10=\"BELIZE\",$F10=\"GUYANA\",$F10=\"NICARAGUA\",$F10=\"SURINAME\",$F10=\"URUGUAY\",$F10=\"CARIBBEAN\",$F10=\"PERU\"),VLOOKUP($K$16,Tablas!$A$296:$H$358,5,TRUE),IF($F10=\"VENEZUELA\",VLOOKUP($K$16,Tablas!$A$441:$H$503,5,TRUE),IF(OR($F10=\"ARGENTINA\",$F10=\"COLOMBIA\",$F10=\"PARAGUAY\"),VLOOKUP($K$16,Tablas!$A$586:$H$648,5,TRUE),0)))))","v":2925},{"$f":"IF(OR($F10=\"CHILE\",$F10=\"HAITI\",$F10=\"HONDURAS\"),VLOOKUP($K$16,Tablas!$A$6:$H$68,6,TRUE),IF(OR($F10=\"COSTA RICA\",$F10=\"EL SALVADOR\"),VLOOKUP($K$16,Tablas!$A$151:$H$213,6,TRUE),IF(OR($F10=\"BELIZE\",$F10=\"GUYANA\",$F10=\"NICARAGUA\",$F10=\"SURINAME\",$F10=\"URUGUAY\",$F10=\"CARIBBEAN\",$F10=\"PERU\"),VLOOKUP($K$16,Tablas!$A$296:$H$358,6,TRUE),IF($F10=\"VENEZUELA\",VLOOKUP($K$16,Tablas!$A$441:$H$503,6,TRUE),IF(OR($F10=\"ARGENTINA\",$F10=\"COLOMBIA\",$F10=\"PARAGUAY\"),VLOOKUP($K$16,Tablas!$A$586:$H$648,6,TRUE),0)))))","v":2242},{"$f":"IF(OR($F10=\"CHILE\",$F10=\"HAITI\",$F10=\"HONDURAS\"),VLOOKUP($K$16,Tablas!$A$6:$H$68,7,TRUE),IF(OR($F10=\"COSTA RICA\",$F10=\"EL SALVADOR\"),VLOOKUP($K$16,Tablas!$A$151:$H$213,7,TRUE),IF(OR($F10=\"BELIZE\",$F10=\"GUYANA\",$F10=\"NICARAGUA\",$F10=\"SURINAME\",$F10=\"URUGUAY\",$F10=\"CARIBBEAN\",$F10=\"PERU\"),VLOOKUP($K$16,Tablas!$A$296:$H$358,7,TRUE),IF($F10=\"VENEZUELA\",VLOOKUP($K$16,Tablas!$A$441:$H$503,7,TRUE),IF(OR($F10=\"ARGENTINA\",$F10=\"COLOMBIA\",$F10=\"PARAGUAY\"),VLOOKUP($K$16,Tablas!$A$586:$H$648,7,TRUE),0)))))","v":1941},{"$f":"IF(OR($F10=\"CHILE\",$F10=\"HAITI\",$F10=\"HONDURAS\"),VLOOKUP($K$16,Tablas!$A$6:$H$68,8,TRUE),IF(OR($F10=\"COSTA RICA\",$F10=\"EL SALVADOR\"),VLOOKUP($K$16,Tablas!$A$151:$H$213,8,TRUE),IF(OR($F10=\"BELIZE\",$F10=\"GUYANA\",$F10=\"NICARAGUA\",$F10=\"SURINAME\",$F10=\"URUGUAY\",$F10=\"CARIBBEAN\",$F10=\"PERU\"),VLOOKUP($K$16,Tablas!$A$296:$H$358,8,TRUE),IF($F10=\"VENEZUELA\",VLOOKUP($K$16,Tablas!$A$441:$H$503,8,TRUE),IF(OR($F10=\"ARGENTINA\",$F10=\"COLOMBIA\",$F10=\"PARAGUAY\"),VLOOKUP($K$16,Tablas!$A$586:$H$648,8,TRUE),0)))))","v":1473}]
[null,null,null,"Prima de Cónyuge",null,null,{"$f":"IF($H$16=1,0,IF(OR($F10=\"CHILE\",$F10=\"HAITI\",$F10=\"HONDURAS\"),VLOOKUP($K$18,Tablas!$A$6:$H$68,4,TRUE),IF(OR($F10=\"COSTA RICA\",$F10=\"EL SALVADOR\"),VLOOKUP($K$18,Tablas!$A$151:$H$213,4,TRUE),IF(OR($F10=\"BELIZE\",$F10=\"GUYANA\",$F10=\"NICARAGUA\",$F10=\"SURINAME\",$F10=\"URUGUAY\",$F10=\"CARIBBEAN\",$F10=\"PERU\"),VLOOKUP($K$18,Tablas!$A$296:$H$358,4,TRUE),IF($F10=\"VENEZUELA\",VLOOKUP($K$18,Tablas!$A$441:$H$503,4,TRUE),IF(OR($F10=\"ARGENTINA\",$F10=\"COLOMBIA\",$F10=\"PARAGUAY\"),VLOOKUP($K$18,Tablas!$A$586:$H$648,4,TRUE),0))))))","v":0},{"$f":"IF($H$16=1,0,IF(OR($F10=\"CHILE\",$F10=\"HAITI\",$F10=\"HONDURAS\"),VLOOKUP($K$18,Tablas!$A$6:$H$68,5,TRUE),IF(OR($F10=\"COSTA RICA\",$F10=\"EL SALVADOR\"),VLOOKUP($K$18,Tablas!$A$151:$H$213,5,TRUE),IF(OR($F10=\"BELIZE\",$F10=\"GUYANA\",$F10=\"NICARAGUA\",$F10=\"SURINAME\",$F10=\"URUGUAY\",$F10=\"CARIBBEAN\",$F10=\"PERU\"),VLOOKUP($K$18,Tablas!$A$296:$H$358,5,TRUE),IF($F10=\"VENEZUELA\",VLOOKUP($K$18,Tablas!$A$441:$H$503,5,TRUE),IF(OR($F10=\"ARGENTINA\",$F10=\"COLOMBIA\",$F10=\"PARAGUAY\"),VLOOKUP($K$18,Tablas!$A$586:$H$648,5,TRUE),0))))))","v":0},{"$f":"IF($H$16=1,0,IF(OR($F10=\"CHILE\",$F10=\"HAITI\",$F10=\"HONDURAS\"),VLOOKUP($K$18,Tablas!$A$6:$H$68,6,TRUE),IF(OR($F10=\"COSTA RICA\",$F10=\"EL SALVADOR\"),VLOOKUP($K$18,Tablas!$A$151:$H$213,6,TRUE),IF(OR($F10=\"BELIZE\",$F10=\"GUYANA\",$F10=\"NICARAGUA\",$F10=\"SURINAME\",$F10=\"URUGUAY\",$F10=\"CARIBBEAN\",$F10=\"PERU\"),VLOOKUP($K$18,Tablas!$A$296:$H$358,6,TRUE),IF($F10=\"VENEZUELA\",VLOOKUP($K$18,Tablas!$A$441:$H$503,6,TRUE),IF(OR($F10=\"ARGENTINA\",$F10=\"COLOMBIA\",$F10=\"PARAGUAY\"),VLOOKUP($K$18,Tablas!$A$586:$H$648,6,TRUE),0))))))","v":0},{"$f":"IF($H$16=1,0,IF(OR($F10=\"CHILE\",$F10=\"HAITI\",$F10=\"HONDURAS\"),VLOOKUP($K$18,Tablas!$A$6:$H$68,7,TRUE),IF(OR($F10=\"COSTA RICA\",$F10=\"EL SALVADOR\"),VLOOKUP($K$18,Tablas!$A$151:$H$213,7,TRUE),IF(OR($F10=\"BELIZE\",$F10=\"GUYANA\",$F10=\"NICARAGUA\",$F10=\"SURINAME\",$F10=\"URUGUAY\",$F10=\"CARIBBEAN\",$F10=\"PERU\"),VLOOKUP($K$18,Tablas!$A$296:$H$358,7,TRUE),IF($F10=\"VENEZUELA\",VLOOKUP($K$18,Tablas!$A$441:$H$503,7,TRUE),IF(OR($F10=\"ARGENTINA\",$F10=\"COLOMBIA\",$F10=\"PARAGUAY\"),VLOOKUP($K$18,Tablas!$A$586:$H$648,7,TRUE),0))))))","v":0},{"$f":"IF($H$16=1,0,IF(OR($F10=\"CHILE\",$F10=\"HAITI\",$F10=\"HONDURAS\"),VLOOKUP($K$18,Tablas!$A$6:$H$68,8,TRUE),IF(OR($F10=\"COSTA RICA\",$F10=\"EL SALVADOR\"),VLOOKUP($K$18,Tablas!$A$151:$H$213,8,TRUE),IF(OR($F10=\"BELIZE\",$F10=\"GUYANA\",$F10=\"NICARAGUA\",$F10=\"SURINAME\",$F10=\"URUGUAY\",$F10=\"CARIBBEAN\",$F10=\"PERU\"),VLOOKUP($K$18,Tablas!$A$296:$H$358,8,TRUE),IF($F10=\"VENEZUELA\",VLOOKUP($K$18,Tablas!$A$441:$H$503,8,TRUE),IF(OR($F10=\"ARGENTINA\",$F10=\"COLOMBIA\",$F10=\"PARAGUAY\"),VLOOKUP($K$18,Tablas!$A$586:$H$648,8,TRUE),0))))))","v":0}]
[null,null,null,"Primas Hijos :",null,null,{"$f":"IF($H$18=0,0,IF(OR($F10=\"CHILE\",$F10=\"HAITI\",$F10=\"HONDURAS\"),VLOOKUP($H$18,Tablas!$A$69:$H$71,4,TRUE),IF(OR($F10=\"COSTA RICA\",$F10=\"EL SALVADOR\"),VLOOKUP($H$18,Tablas!$A$214:$H$216,4,TRUE),IF(OR($F10=\"BELIZE\",$F10=\"GUYANA\",$F10=\"NICARAGUA\",$F10=\"SURINAME\",$F10=\"URUGUAY\",$F10=\"CARIBBEAN\",$F10=\"PERU\"),VLOOKUP($H$18,Tablas!$A$359:$H$361,4,TRUE),IF($F10=\"VENEZUELA\",VLOOKUP($H$18,Tablas!$A$504:$H$506,4,TRUE),IF(OR($F10=\"ARGENTINA\",$F10=\"COLOMBIA\",$F10=\"PARAGUAY\"),VLOOKUP($H$18,Tablas!$A$649:$H$651,4,TRUE),0))))))","v":0},{"$f":"IF($H$18=0,0,IF(OR($F10=\"CHILE\",$F10=\"HAITI\",$F10=\"HONDURAS\"),VLOOKUP($H$18,Tablas!$A$69:$H$71,5,TRUE),IF(OR($F10=\"COSTA RICA\",$F10=\"EL SALVADOR\"),VLOOKUP($H$18,Tablas!$A$214:$H$216,5,TRUE),IF(OR($F10=\"BELIZE\",$F10=\"GUYANA\",$F10=\"NICARAGUA\",$F10=\"SURINAME\",$F10=\"URUGUAY\",$F10=\"CARIBBEAN\",$F10=\"PERU\"),VLOOKUP($H$18,Tablas!$A$359:$H$361,5,TRUE),IF($F10=\"VENEZUELA\",VLOOKUP($H$18,Tablas!$A$504:$H$506,5,TRUE),IF(OR($F10=\"ARGENTINA\",$F10=\"COLOMBIA\",$F10=\"PARAGUAY\"),VLOOKUP($H$18,Tablas!$A$649:$H$651,5,TRUE),0))))))","v":0},{"$f":"IF($H$18=0,0,IF(OR($F10=\"CHILE\",$F10=\"HAITI\",$F10=\"HONDURAS\"),VLOOKUP($H$18,Tablas!$A$69:$H$71,6,TRUE),IF(OR($F10=\"COSTA RICA\",$F10=\"EL SALVADOR\"),VLOOKUP($H$18,Tablas!$A$214:$H$216,6,TRUE),IF(OR($F10=\"BELIZE\",$F10=\"GUYANA\",$F10=\"NICARAGUA\",$F10=\"SURINAME\",$F10=\"URUGUAY\",$F10=\"CARIBBEAN\",$F10=\"PERU\"),VLOOKUP($H$18,Tablas!$A$359:$H$361,6,TRUE),IF($F10=\"VENEZUELA\",VLOOKUP($H$18,Tablas!$A$504:$H$506,6,TRUE),IF(OR($F10=\"ARGENTINA\",$F10=\"COLOMBIA\",$F10=\"PARAGUAY\"),VLOOKUP($H$18,Tablas!$A$649:$H$651,6,TRUE),0))))))","v":0},{"$f":"IF($H$18=0,0,IF(OR($F10=\"CHILE\",$F10=\"HAITI\",$F10=\"HONDURAS\"),VLOOKUP($H$18,Tablas!$A$69:$H$71,7,TRUE),IF(OR($F10=\"COSTA RICA\",$F10=\"EL SALVADOR\"),VLOOKUP($H$18,Tablas!$A$214:$H$216,7,TRUE),IF(OR($F10=\"BELIZE\",$F10=\"GUYANA\",$F10=\"NICARAGUA\",$F10=\"SURINAME\",$F10=\"URUGUAY\",$F10=\"CARIBBEAN\",$F10=\"PERU\"),VLOOKUP($H$18,Tablas!$A$359:$H$361,7,TRUE),IF($F10=\"VENEZUELA\",VLOOKUP($H$18,Tablas!$A$504:$H$506,7,TRUE),IF(OR($F10=\"ARGENTINA\",$F10=\"COLOMBIA\",$F10=\"PARAGUAY\"),VLOOKUP($H$18,Tablas!$A$649:$H$651,7,TRUE),0))))))","v":0},{"$f":"IF($H$18=0,0,IF(OR($F10=\"CHILE\",$F10=\"HAITI\",$F10=\"HONDURAS\"),VLOOKUP($H$18,Tablas!$A$69:$H$71,8,TRUE),IF(OR($F10=\"COSTA RICA\",$F10=\"EL SALVADOR\"),VLOOKUP($H$18,Tablas!$A$214:$H$216,8,TRUE),IF(OR($F10=\"BELIZE\",$F10=\"GUYANA\",$F10=\"NICARAGUA\",$F10=\"SURINAME\",$F10=\"URUGUAY\",$F10=\"CARIBBEAN\",$F10=\"PERU\"),VLOOKUP($H$18,Tablas!$A$359:$H$361,8,TRUE),IF($F10=\"VENEZUELA\",VLOOKUP($H$18,Tablas!$A$504:$H$506,8,TRUE),IF(OR($F10=\"ARGENTINA\",$F10=\"COLOMBIA\",$F10=\"PARAGUAY\"),VLOOKUP($H$18,Tablas!$A$649:$H$651,8,TRUE),0))))))","v":0}]
[null,null,null,"Prima Rider Complic. Maternidad",null,null,{"$f":"+IF($G$22=FALSE,0,Tablas!D$72)","v":225},{"$f":"+IF($G$22=FALSE,0,Tablas!E$72)","v":225},{"$f":"+IF($G$22=FALSE,0,Tablas!F$72)","v":225},{"$f":"+IF($G$22=FALSE,0,Tablas!G$72)","v":225},{"$f":"+IF($G$22=FALSE,0,Tablas!H$72)","v":225}]
[null,null,null,"Prima Rider Trasplante Organos",null,null,{"$f":"+IF($G$24=FALSE,0,Tablas!D$73)","v":300},{"$f":"+IF($G$24=FALSE,0,Tablas!E$73)","v":300},{"$f":"+IF($G$24=FALSE,0,Tablas!F$73)","v":300},{"$f":"+IF($G$24=FALSE,0,Tablas!G$73)","v":300},{"$f":"+IF($G$24=FALSE,0,Tablas!H$73)","v":300}]
[null,null,null,"TOTAL PRIMA NETA :",null,null,{"$f":"SUM(G30:G34)","v":4226},3450,2767,2466,1998]
[null,null,null,"Costo Administrativo Anual :",null,null,75,75,75,75,75]
[null,null,null,"GRAN TOTAL :",null,null,{"$f":"SUM(G35:G36)","v":4301},{"$f":"SUM(H35:H36)","v":3525},{"$f":"SUM(I35:I36)","v":2842},{"$f":"SUM(J35:J36)","v":2541},{"$f":"SUM(K35:K36)","v":2073}]
[]
[null,null,null,"Tarifas Semestrales"]
[null,null,null,"Prima de Titular :",null,null,{"$f":"IF(OR($F10=\"CHILE\",$F10=\"HAITI\",$F10=\"HONDURAS\"),VLOOKUP($K$16,Tablas!$A$78:$H$140,4,TRUE),IF(OR($F10=\"COSTA RICA\",$F10=\"EL SALVADOR\"),VLOOKUP($K$16,Tablas!$A$223:$H$285,4,TRUE),IF(OR($F10=\"BELIZE\",$F10=\"GUYANA\",$F10=\"NICARAGUA\",$F10=\"SURINAME\",$F10=\"URUGUAY\",$F10=\"CARIBBEAN\",$F10=\"PERU\"),VLOOKUP($K$16,Tablas!$A$368:$H$430,4,TRUE),IF($F10=\"VENEZUELA\",VLOOKUP($K$16,Tablas!$A$513:$H$575,4,TRUE),IF(OR($F10=\"ARGENTINA\",$F10=\"COLOMBIA\",$F10=\"PARAGUAY\"),VLOOKUP($K$16,Tablas!$A$658:$H$720,4,TRUE),0)))))","v":1961.5300000000002},{"$f":"IF(OR($F10=\"CHILE\",$F10=\"HAITI\",$F10=\"HONDURAS\"),VLOOKUP($K$16,Tablas!$A$78:$H$140,5,TRUE),IF(OR($F10=\"COSTA RICA\",$F10=\"EL SALVADOR\"),VLOOKUP($K$16,Tablas!$A$223:$H$285,5,TRUE),IF(OR($F10=\"BELIZE\",$F10=\"GUYANA\",$F10=\"NICARAGUA\",$F10=\"SURINAME\",$F10=\"URUGUAY\",$F10=\"CARIBBEAN\",$F10=\"PERU\"),VLOOKUP($K$16,Tablas!$A$368:$H$430,5,TRUE),IF($F10=\"VENEZUELA\",VLOOKUP($K$16,Tablas!$A$513:$H$575,5,TRUE),IF(OR($F10=\"ARGENTINA\",$F10=\"COLOMBIA\",$F10=\"PARAGUAY\"),VLOOKUP($K$16,Tablas!$A$658:$H$720,5,TRUE),0)))))","v":1550.25},{"$f":"IF(OR($F10=\"CHILE\",$F10=\"HAITI\",$F10=\"HONDURAS\"),VLOOKUP($K$16,Tablas!$A$78:$H$140,6,TRUE),IF(OR($F10=\"COSTA RICA\",$F10=\"EL SALVADOR\"),VLOOKUP($K$16,Tablas!$A$223:$H$285,6,TRUE),IF(OR($F10=\"BELIZE\",$F10=\"GUYANA\",$F10=\"NICARAGUA\",$F10=\"SURINAME\",$F10=\"URUGUAY\",$F10=\"CARIBBEAN\",$F10=\"PERU\"),VLOOKUP($K$16,Tablas!$A$368:$H$430,6,TRUE),IF($F10=\"VENEZUELA\",VLOOKUP($K$16,Tablas!$A$513:$H$575,6,TRUE),IF(OR($F10=\"ARGENTINA\",$F10=\"COLOMBIA\",$F10=\"PARAGUAY\"),VLOOKUP($K$16,Tablas!$A$658:$H$720,6,TRUE),0)))))","v":1188.26},{"$f":"IF(OR($F10=\"CHILE\",$F10=\"HAITI\",$F10=\"HONDURAS\"),VLOOKUP($K$16,Tablas!$A$78:$H$140,7,TRUE),IF(OR($F10=\"COSTA RICA\",$F10=\"EL SALVADOR\"),VLOOKUP($K$16,Tablas!$A$223:$H$285,7,TRUE),IF(OR($F10=\"BELIZE\",$F10=\"GUYANA\",$F10=\"NICARAGUA\",$F10=\"SURINAME\",$F10=\"URUGUAY\",$F10=\"CARIBBEAN\",$F10=\"PERU\"),VLOOKUP($K$16,Tablas!$A$368:$H$430,7,TRUE),IF($F10=\"VENEZUELA\",VLOOKUP($K$16,Tablas!$A$513:$H$575,7,TRUE),IF(OR($F10=\"ARGENTINA\",$F10=\"COLOMBIA\",$F10=\"PARAGUAY\"),VLOOKUP($K$16,Tablas!$A$658:$H$720,7,TRUE),0)))))","v":1028.73},{"$f":"IF(OR($F10=\"CHILE\",$F10=\"HAITI\",$F10=\"HONDURAS\"),VLOOKUP($K$16,Tablas!$A$78:$H$140,8,TRUE),IF(OR($F10=\"COSTA RICA\",$F10=\"EL SALVADOR\"),VLOOKUP($K$16,Tablas!$A$223:$H$285,8,TRUE),IF(OR($F10=\"BELIZE\",$F10=\"GUYANA\",$F10=\"NICARAGUA\",$F10=\"SURINAME\",$F10=\"URUGUAY\",$F10=\"CARIBBEAN\",$F10=\"PERU\"),VLOOKUP($K$16,Tablas!$A$368:$H$430,8,TRUE),IF($F10=\"VENEZUELA\",VLOOKUP($K$16,Tablas!$A$513:$H$575,8,TRUE),IF(OR($F10=\"ARGENTINA\",$F10=\"COLOMBIA\",$F10=\"PARAGUAY\"),VLOOKUP($K$16,Tablas!$A$658:$H$720,8,TRUE),0)))))","v":780.69}]
[null,null,null,"Prima de Cónyuge",null,null,{"$f":"IF($H$16=1,0,IF(OR($F10=\"CHILE\",$F10=\"HAITI\",$F10=\"HONDURAS\"),VLOOKUP($K$18,Tablas!$A$78:$H$140,4,TRUE),IF(OR($F10=\"COSTA RICA\",$F10=\"EL SALVADOR\"),VLOOKUP($K$18,Tablas!$A$223:$H$285,4,TRUE),IF(OR($F10=\"BELIZE\",$F10=\"GUYANA\",$F10=\"NICARAGUA\",$F10=\"SURINAME\",$F10=\"URUGUAY\",$F10=\"CARIBBEAN\",$F10=\"PERU\"),VLOOKUP($K$18,Tablas!$A$368:$H$430,4,TRUE),IF($F10=\"VENEZUELA\",VLOOKUP($K$18,Tablas!$A$513:$H$575,4,TRUE),IF(OR($F10=\"ARGENTINA\",$F10=\"COLOMBIA\",$F10=\"PARAGUAY\"),VLOOKUP($K$18,Tablas!$A$658:$H$720,4,TRUE),0))))))","v":0},{"$f":"IF($H$16=1,0,IF(OR($F10=\"CHILE\",$F10=\"HAITI\",$F10=\"HONDURAS\"),VLOOKUP($K$18,Tablas!$A$78:$H$140,5,TRUE),IF(OR($F10=\"COSTA RICA\",$F10=\"EL SALVADOR\"),VLOOKUP($K$18,Tablas!$A$223:$H$285,5,TRUE),IF(OR($F10=\"BELIZE\",$F10=\"GUYANA\",$F10=\"NICARAGUA\",$F10=\"SURINAME\",$F10=\"URUGUAY\",$F10=\"CARIBBEAN\",$F10=\"PERU\"),VLOOKUP($K$18,Tablas!$A$368:$H$430,5,TRUE),IF($F10=\"VENEZUELA\",VLOOKUP($K$18,Tablas!$A$513:$H$575,5,TRUE),IF(OR($F10=\"ARGENTINA\",$F10=\"COLOMBIA\",$F10=\"PARAGUAY\"),VLOOKUP($K$18,Tablas!$A$658:$H$720,5,TRUE),0))))))","v":0},{"$f":"IF($H$16=1,0,IF(OR($F10=\"CHILE\",$F10=\"HAITI\",$F10=\"HONDURAS\"),VLOOKUP($K$18,Tablas!$A$78:$H$140,6,TRUE),IF(OR($F10=\"COSTA RICA\",$F10=\"EL SALVADOR\"),VLOOKUP($K$18,Tablas!$A$223:$H$285,6,TRUE),IF(OR($F10=\"BELIZE\",$F10=\"GUYANA\",$F10=\"NICARAGUA\",$F10=\"SURINAME\",$F10=\"URUGUAY\",$F10=\"CARIBBEAN\",$F10=\"PERU\"),VLOOKUP($K$18,Tablas!$A$368:$H$430,6,TRUE),IF($F10=\"VENEZUELA\",VLOOKUP($K$18,Tablas!$A$513:$H$575,6,TRUE),IF(OR($F10=\"ARGENTINA\",$F10=\"COLOMBIA\",$F10=\"PARAGUAY\"),VLOOKUP($K$18,Tablas!$A$658:$H$720,6,TRUE),0))))))","v":0},{"$f":"IF($H$16=1,0,IF(OR($F10=\"CHILE\",$F10=\"HAITI\",$F10=\"HONDURAS\"),VLOOKUP($K$18,Tablas!$A$78:$H$140,7,TRUE),IF(OR($F10=\"COSTA RICA\",$F10=\"EL SALVADOR\"),VLOOKUP($K$18,Tablas!$A$223:$H$285,7,TRUE),IF(OR($F10=\"BELIZE\",$F10=\"GUYANA\",$F10=\"NICARAGUA\",$F10=\"SURINAME\",$F10=\"URUGUAY\",$F10=\"CARIBBEAN\",$F10=\"PERU\"),VLOOKUP($K$18,Tablas!$A$368:$H$430,7,TRUE),IF($F10=\"VENEZUELA\",VLOOKUP($K$18,Tablas!$A$513:$H$575,7,TRUE),IF(OR($F10=\"ARGENTINA\",$F10=\"COLOMBIA\",$F10=\"PARAGUAY\"),VLOOKUP($K$18,Tablas!$A$658:$H$720,7,TRUE),0))))))","v":0},{"$f":"IF($H$16=1,0,IF(OR($F10=\"CHILE\",$F10=\"HAITI\",$F10=\"HONDURAS\"),VLOOKUP($K$18,Tablas!$A$78:$H$140,8,TRUE),IF(OR($F10=\"COSTA RICA\",$F10=\"EL SALVADOR\"),VLOOKUP($K$18,Tablas!$A$223:$H$285,8,TRUE),IF(OR($F10=\"BELIZE\",$F10=\"GUYANA\",$F10=\"NICARAGUA\",$F10=\"SURINAME\",$F10=\"URUGUAY\",$F10=\"CARIBBEAN\",$F10=\"PERU\"),VLOOKUP($K$18,Tablas!$A$368:$H$430,8,TRUE),IF($F10=\"VENEZUELA\",VLOOKUP($K$18,Tablas!$A$513:$H$575,8,TRUE),IF(OR($F10=\"ARGENTINA\",$F10=\"COLOMBIA\",$F10=\"PARAGUAY\"),VLOOKUP($K$18,Tablas!$A$658:$H$720,8,TRUE),0))))))","v":0}]
[null,null,null,"Primas Hijos :",null,null,{"$f":"IF($H$18=0,0,IF(OR($F10=\"CHILE\",$F10=\"HAITI\",$F10=\"HONDURAS\"),VLOOKUP($H$18,Tablas!$A$141:$H$143,4,TRUE),IF(OR($F10=\"COSTA RICA\",$F10=\"EL SALVADOR\"),VLOOKUP($H$18,Tablas!$A$286:$H$288,4,TRUE),IF(OR($F10=\"BELIZE\",$F10=\"GUYANA\",$F10=\"NICARAGUA\",$F10=\"SURINAME\",$F10=\"URUGUAY\",$F10=\"CARIBBEAN\",$F10=\"PERU\"),VLOOKUP($H$18,Tablas!$A$431:$H$433,4,TRUE),IF($F10=\"VENEZUELA\",VLOOKUP($H$18,Tablas!$A$576:$H$578,4,TRUE),IF(OR($F10=\"ARGENTINA\",$F10=\"COLOMBIA\",$F10=\"PARAGUAY\"),VLOOKUP($H$18,Tablas!$A$721:$H$723,4,TRUE),0))))))","v":0},{"$f":"IF($H$18=0,0,IF(OR($F10=\"CHILE\",$F10=\"HAITI\",$F10=\"HONDURAS\"),VLOOKUP($H$18,Tablas!$A$141:$H$143,5,TRUE),IF(OR($F10=\"COSTA RICA\",$F10=\"EL SALVADOR\"),VLOOKUP($H$18,Tablas!$A$286:$H$288,5,TRUE),IF(OR($F10=\"BELIZE\",$F10=\"GUYANA\",$F10=\"NICARAGUA\",$F10=\"SURINAME\",$F10=\"URUGUAY\",$F10=\"CARIBBEAN\",$F10=\"PERU\"),VLOOKUP($H$18,Tablas!$A$431:$H$433,5,TRUE),IF($F10=\"VENEZUELA\",VLOOKUP($H$18,Tablas!$A$576:$H$578,5,TRUE),IF(OR($F10=\"ARGENTINA\",$F10=\"COLOMBIA\",$F10=\"PARAGUAY\"),VLOOKUP($H$18,Tablas!$A$721:$H$723,5,TRUE),0))))))","v":0},{"$f":"IF($H$18=0,0,IF(OR($F10=\"CHILE\",$F10=\"HAITI\",$F10=\"HONDURAS\"),VLOOKUP($H$18,Tablas!$A$141:$H$143,6,TRUE),IF(OR($F10=\"COSTA RICA\",$F10=\"EL SALVADOR\"),VLOOKUP($H$18,Tablas!$A$286:$H$288,6,TRUE),IF(OR($F10=\"BELIZE\",$F10=\"GUYANA\",$F10=\"NICARAGUA\",$F10=\"SURINAME\",$F10=\"URUGUAY\",$F10=\"CARIBBEAN\",$F10=\"PERU\"),VLOOKUP($H$18,Tablas!$A$431:$H$433,6,TRUE),IF($F10=\"VENEZUELA\",VLOOKUP($H$18,Tablas!$A$576:$H$578,6,TRUE),IF(OR($F10=\"ARGENTINA\",$F10=\"COLOMBIA\",$F10=\"PARAGUAY\"),VLOOKUP($H$18,Tablas!$A$721:$H$723,6,TRUE),0))))))","v":0},{"$f":"IF($H$18=0,0,IF(OR($F10=\"CHILE\",$F10=\"HAITI\",$F10=\"HONDURAS\"),VLOOKUP($H$18,Tablas!$A$141:$H$143,7,TRUE),IF(OR($F10=\"COSTA RICA\",$F10=\"EL SALVADOR\"),VLOOKUP($H$18,Tablas!$A$286:$H$288,7,TRUE),IF(OR($F10=\"BELIZE\",$F10=\"GUYANA\",$F10=\"NICARAGUA\",$F10=\"SURINAME\",$F10=\"URUGUAY\",$F10=\"CARIBBEAN\",$F10=\"PERU\"),VLOOKUP($H$18,Tablas!$A$431:$H$433,7,TRUE),IF($F10=\"VENEZUELA\",VLOOKUP($H$18,Tablas!$A$576:$H$578,7,TRUE),IF(OR($F10=\"ARGENTINA\",$F10=\"COLOMBIA\",$F10=\"PARAGUAY\"),VLOOKUP($H$18,Tablas!$A$721:$H$723,7,TRUE),0))))))","v":0},{"$f":"IF($H$18=0,0,IF(OR($F10=\"CHILE\",$F10=\"HAITI\",$F10=\"HONDURAS\"),VLOOKUP($H$18,Tablas!$A$141:$H$143,8,TRUE),IF(OR($F10=\"COSTA RICA\",$F10=\"EL SALVADOR\"),VLOOKUP($H$18,Tablas!$A$286:$H$288,8,TRUE),IF(OR($F10=\"BELIZE\",$F10=\"GUYANA\",$F10=\"NICARAGUA\",$F10=\"SURINAME\",$F10=\"URUGUAY\",$F10=\"CARIBBEAN\",$F10=\"PERU\"),VLOOKUP($H$18,Tablas!$A$431:$H$433,8,TRUE),IF($F10=\"VENEZUELA\",VLOOKUP($H$18,Tablas!$A$576:$H$578,8,TRUE),IF(OR($F10=\"ARGENTINA\",$F10=\"COLOMBIA\",$F10=\"PARAGUAY\"),VLOOKUP($H$18,Tablas!$A$721:$H$723,8,TRUE),0))))))","v":0}]
[null,null,null,"Prima Rider Complic. Maternidad",null,null,{"$f":"+IF($G$22=FALSE,0,Tablas!D$144)","v":119.25},{"$f":"+IF($G$22=FALSE,0,Tablas!E$144)","v":119.25},{"$f":"+IF($G$22=FALSE,0,Tablas!F$144)","v":119.25},{"$f":"+IF($G$22=FALSE,0,Tablas!G$144)","v":119.25},{"$f":"+IF($G$22=FALSE,0,Tablas!H$144)","v":119.25}]
[null,null,null,"Prima Rider Trasplante Organos",null,null,{"$f":"+IF($G$24=FALSE,0,Tablas!D$145)","v":159},{"$f":"+IF($G$24=FALSE,0,Tablas!E$145)","v":159},{"$f":"+IF($G$24=FALSE,0,Tablas!F$145)","v":159},{"$f":"+IF($G$24=FALSE,0,Tablas!G$145)","v":159},{"$f":"+IF($G$24=FALSE,0,Tablas!H$145)","v":159}]
[null,null,null,"TOTAL PRIMA NETA :",null,null,{"$f":"SUM(G40:G44)","v":2239.7800000000002},1828.5,1466.51,1306.98,1058.94]
[null,null,null,"Costo Administrativo Anual :",null,null,75,75,75,75,75]
[null,null,null,"GRAN TOTAL  (1ra Cuota) :",null,null,{"$f":"SUM(G45:G46)","v":2314.7800000000002},{"$f":"SUM(H45:H46)","v":1903.5},{"$f":"SUM(I45:I46)","v":1541.51},{"$f":"SUM(J45:J46)","v":1381.98},{"$f":"SUM(K45:K46)","v":1133.94}]
[null,null,null,"GRAN TOTAL  (2da Cuota) :",null,null,{"$f":"G45","v":2239.7800000000002},{"$f":"H45","v":1828.5},1466.51,1306.98,1058.94]
[null,null,null,"Tarifas en US $ -  Válidas desde 01 Enero 2022"]
[null,null,null,"Este presupuesto solamente tiene carácter informativo y en ningún momento expresa compromiso legal para suministrarle cobertura de seguro. La emisión de una póliza de seguro Bupa está sujeta a todas las evaluaciones de riesgo por parte de Bupa y a la recepción de todos los pagos de prima requeridos."]

{"sheet":"Tablas","index":2,"n_rows":725,"n_cols":18,"rows_kept":725,"cut":false,"hidden":true,"merged":[[655,0,655,1],[655,2,655,6],[581,0,581,7],[582,0,582,7],[583,0,583,1],[583,2,583,6],[654,0,654,7],[438,0,438,1],[438,2,438,6],[509,0,509,7],[510,0,510,1],[510,2,510,6],[364,0,364,7],[365,0,365,1],[365,2,365,6],[436,0,436,7],[437,0,437,7],[220,0,220,1],[220,2,220,6],[291,0,291,7],[292,0,292,7],[293,0,293,1],[293,2,293,6],[146,0,146,7],[147,0,147,7],[148,0,148,1],[148,2,148,6],[219,0,219,7],[1,0,1,7],[2,0,2,7],[75,0,75,1],[75,2,75,6],[74,0,74,7],[3,0,3,1],[3,2,3,6]]}
[]
["BUPA ALPHA - ZONE 2",null,null,null,null,null,null,null,null,"FACTOR SEMESTRAL :",null,0.53,null,"PAISES"]
["TARIFAS ANUALES",null,null,null,null,null,null,null,null,null,null,null,null,"ARGENTINA",6]
["EDAD",null,null,null,null,null,null,null,null,null,null,null,null,"BELIZE",4]
[" "," ",null,"DW2","DW3","DW4","DW5","DW6","DW2","DW3","DW4","DW5","DW6","CARIBBEAN",4]
[18,null,null,3770,2921,2261,1952,1490,0,0,0,0,0,"CHILE",2,null,true,true]
[19,null,null,3869,3017,2326,2009,1531,0,0,0,0,0,"COLOMBIA",6,null,true,true]
[20,null,null,3973,3104,2393,2068,1575,0,0,0,0,0,"COSTA RICA",3,null,true,true]
[21,null,null,4079,3200,2458,2122,1616,0,0,0,0,0,"EL SALVADOR",3,null,true,true]
[22,null,null,4190,3299,2528,2187,1660,0,0,0,0,0,"GUYANA",4,null,true,true]
[23,null,null,4297,3403,2596,2243,1705,0,0,0,0,0,"HAITI",2,null,true,true]
[24,null,null,4404,3492,2670,2306,1748,0,0,0,0,0,"HONDURAS",2,null,true,true]
[25,null,null,4512,3593,2734,2368,1793,0,0,0,0,0,"NICARAGUA",4,null,true,true]
[26,null,null,4620,3692,2808,2426,1836,0,0,0,0,0,"PARAGUAY",6,null,true,true]
[27,null,null,4732,3790,2873,2488,1884,0,0,0,0,0,"PERU",4,null,true,true]
[28,null,null,4903,3922,2921,2540,1955,0,0,0,0,0,"SURINAME",4,null,true,true]
[29,null,null,5078,4051,2970,2594,2024,0,0,0,0,0,"URUGUAY",4,null,true,true]
[30,null,null,5251,4178,3018,2642,2096,0,0,0,0,0,"VENEZUELA",5,null,true,true]
[31,null,null,5421,4312,3060,2695,2164,0,0,0,0,0,null,null,null,true,true]
[32,null,null,5596,4442,3113,2746,2240,0,0,0,0,0,null,null,null,true,true]
[33,null,null,5712,4539,3189,2801,2292,0,0,0,0,0,null,null,null,true,true]
[34,null,null,5829,4635,3265,2863,2348,0,0,0,0,0,null,null,null,true,true]
[35,null,null,5944,4733,3347,2914,2403,0,0,0,0,0,null,null,null,true,true]
[36,null,null,6060,4832,3424,2972,2458,0,0,0,0,0,null,null,null,true,true]
[37,null,null,6180,4930,3496,3027,2512,0,0,0,0,0,null,null,null,true,true]
[38,null,null,6292,5037,3562,3086,2560,0,0,0,0,0,null,null,null,true,true]
[39,null,null,6409,5142,3619,3143,2612,0,0,0,0,0,null,null,null,true,true]
[40,null,null,6527,5251,3680,3200,2658,0,0,0,0,0,null,null,null,true,true]
[41,null,null,6639,5353,3739,3260,2712,0,0,0,0,0,null,null,null,true,true]
[42,null,null,6756,5465,3800,3317,2757,0,0,0,0,0,null,null,null,true,true]
[43,null,null,6992,5678,3943,3440,2864,0,0,0,0,0,null,null,null,true,true]
[44,null,null,7226,5891,4087,3570,2963,0,0,0,0,0,null,null,null,true,true]
[45,null,null,7463,6104,4231,3695,3068,0,0,0,0,0,null,null,null,true,true]
[46,null,null,7699,6323,4372,3817,3173,0,0,0,0,0,null,null,null,true,true]
[47,null,null,7934,6539,4517,3943,3272,0,0,0,0,0,null,null,null,true,true]
[48,null,null,8160,6653,4645,4055,3330,0,0,0,0,0,null,null,null,true,true]
[49,null,null,8387,6772,4773,4166,3390,0,0,0,0,0,null,null,null,true,true]
[50,null,null,8616,6892,4903,4281,3450,0,0,0,0,0,null,null,null,true,true]
[51,null,null,8846,7009,5032,4392,3509,0,0,0,0,0,null,null,null,true,true]
[52,null,null,9073,7127,5161,4503,3570,0,0,0,0,0,null,null,null,true,true]
[53,null,null,9391,7403,5351,4670,3696,0,0,0,0,0,null,null,null,true,true]
[54,null,null,9707,7678,5539,4834,3824,0,0,0,0,0,null,null,null,true,true]
[55,null,null,10024,7959,5730,5003,3953,0,0,0,0,0,null,null,null,true,true]
[56,null,null,10346,8234,5921,5168,4084,0,0,0,0,0,null,null,null,true,true]
[57,null,null,10661,8506,6108,5333,4215,0,0,0,0,0,null,null,null,true,true]
[58,null,null,11224,9078,6507,5694,4521,0,0,0,0,0,null,null,null,true,true]
[59,null,null,11790,9654,6904,6059,4832,0,0,0,0,0,null,null,null,true,true]
[60,null,null,12358,10226,7303,6420,5143,0,0,0,0,0,null,null,null,true,true]
[61,null,null,13037,10824,7719,6801,5461,0,0,0,0,0,null,null,null,true,true]
[62,null,null,13778,11429,8137,7199,5781,0,0,0,0,0,null,null,null,true,true]
[63,null,null,14523,12076,8573,7589,6104,0,0,0,0,0,null,null,null,true,true]
[64,null,null,15309,12773,9031,7991,6426,0,0,0,0,0,null,null,null,true,true]
[65,null,null,16129,13486,9633,8411,6752,0,0,0,0,0,null,null,null,true,true]
[66,null,null,17164,14308,10318,9001,7157,0,0,0,0,0,null,null,null,true,true]
[67,null,null,18532,15453,11147,9696,7733,0,0,0,0,0,null,null,null,true,true]
[68,null,null,20097,16755,12091,10518,8388,0,0,0,0,0,null,null,null,true,true]
[69,null,null,21949,18296,13202,11484,9162,0,0,0,0,0,null,null,null,true,true]
[70,null,null,24054,20353,14393,12654,10071,0,0,0,0,0,null,null,null,true,true]
[71,null,null,26495,22436,15943,13924,11104,0,0,0,0,0,null,null,null,true,true]
[72,null,null,29313,24804,17644,15418,12285,0,0,0,0,0,null,null,null,true,true]
[73,null,null,32538,27531,19584,17119,13643,0,0,0,0,0,null,null,null,true,true]
[74,null,null,36280,30694,21838,19028,15219,0,0,0,0,0,null,null,null,true,true]
[75,null,null,40498,35672,25200,21823,16892,0,0,0,0,0,null,null,null,true,true]
[76,null,null,47861,42143,29260,25231,19494,0,0,0,0,0,null,null,null,true,true]
[77,null,null,55409,48769,34170,29467,22346,0,0,0,0,0,null,null,null,true,true]
[78,null,null,64433,55690,39510,34066,25597,0,0,0,0,0,null,null,null,true,true]
[79,null,null,73637,63213,46129,39776,29237,0,0,0,0,0,null,null,null,true,true]
[80,null,null,83943,72246,53174,45857,33005,0,0,0,0,0,null,null,null,true,true]
["1 Child","Hijo",null,1669,1380,974,835,713,0,0,0,0,0,null,null,null,true,true]
["2 Children","Hijos",null,2815,2040,1532,1315,1131,0,0,0,0,0,null,null,null,true,true]
["3+ Children","Hijos o más",null,4124,2946,2225,1916,1639,0,0,0,0,0,null,null,null,true,true]
[1,"Rider Comp. Maternidad",null,225,225,225,225,225]
[1,"Transplante de organos",null,300,300,300,300,300]
[]
["TARIFAS SEMESTRALES "]
["EDAD"]
[" "," ",null,"DW2","DW3","DW4","DW5","DW6","DW2","DW3","DW4","DW5","DW6"]
[18,null,null,{"$f":"$L$2*D6","v":1998.1000000000001},{"$f":"$L$2*E6","v":1548.13},1198.3300000000002,1034.56,789.7,0,0,0,0,0]
[19,null,null,{"$f":"$L$2*D7","v":2050.5700000000002},1599.01,1232.78,1064.77,811.43000000000006,0,0,0,0,0]
[20,null,null,2105.69,1645.1200000000001,1268.29,1096.04,834.75,0,0,0,0,0]
[21,null,null,2161.87,1696,1302.74,1124.6600000000001,856.48,0,0,0,0,0]
[22,null,null,2220.7000000000003,1748.47,1339.8400000000001,1159.1100000000001,879.80000000000007,0,0,0,0,0]
[23,null,null,2277.4100000000003,1803.5900000000001,1375.88,1188.79,903.65000000000009,0,0,0,0,0]
[24,null,null,2334.12,1850.76,1415.1000000000001,1222.18,926.44,0,0,0,0,0]
[25,null,null,2391.36,1904.2900000000002,1449.02,1255.04,950.29000000000008,0,0,0,0,0]
[26,null,null,2448.6,1956.76,1488.24,1285.78,973.08,0,0,0,0,0]
[27,null,null,2507.96,2008.7,1522.69,1318.64,998.5200000000001,0,0,0,0,0]
[28,null,null,2598.59,2078.6600000000003,1548.13,1346.2,1036.1500000000001,0,0,0,0,0]
[29,null,null,2691.34,2147.0300000000002,1574.1000000000001,1374.8200000000002,1072.72,0,0,0,0,0]
[30,null,null,2783.03,2214.34,1599.5400000000002,1400.26,1110.8800000000001,0,0,0,0,0]
[31,null,null,2873.13,2285.36,1621.8000000000002,1428.3500000000001,1146.92,0,0,0,0,0]
[32,null,null,2965.88,2354.2600000000002,1649.89,1455.38,1187.2,0,0,0,0,0]
[33,null,null,3027.36,2405.67,1690.17,1484.53,1214.76,0,0,0,0,0]
[34,null,null,3089.3700000000003,2456.5500000000002,1730.45,1517.39,1244.44,0,0,0,0,0]
[35,null,null,3150.32,2508.4900000000002,1773.91,1544.42,1273.5900000000001,0,0,0,0,0]
[36,null,null,3211.8,2560.96,1814.72,1575.16,1302.74,0,0,0,0,0]
[37,null,null,3275.4,2612.9,1852.88,1604.3100000000002,1331.3600000000001,0,0,0,0,0]
[38,null,null,3334.76,2669.61,1887.8600000000001,1635.5800000000002,1356.8000000000002,0,0,0,0,0]
[39,null,null,3396.77,2725.26,1918.0700000000002,1665.7900000000002,1384.3600000000001,0,0,0,0,0]
[40,null,null,3459.3100000000004,2783.03,1950.4,1696,1408.74,0,0,0,0,0]
[41,null,null,3518.67,2837.09,1981.67,1727.8000000000002,1437.3600000000001,0,0,0,0,0]
[42,null,null,3580.6800000000003,2896.4500000000003,2014,1758.01,1461.21,0,0,0,0,0]
[43,null,null,3705.76,3009.34,2089.79,1823.2,1517.92,0,0,0,0,0]
[44,null,null,3829.78,3122.23,2166.11,1892.1000000000001,1570.39,0,0,0,0,0]
[45,null,null,3955.3900000000003,3235.1200000000003,2242.4300000000003,1958.3500000000001,1626.0400000000002,0,0,0,0,0]
[46,null,null,4080.4700000000003,3351.19,2317.1600000000003,2023.01,1681.69,0,0,0,0,0]
[47,null,null,4205.0200000000004,3465.67,2394.0100000000002,2089.79,1734.16,0,0,0,0,0]
[48,null,null,4324.8,3526.09,2461.85,2149.15,1764.9,0,0,0,0,0]
[49,null,null,4445.1100000000006,3589.1600000000003,2529.69,2207.98,1796.7,0,0,0,0,0]
[50,null,null,4566.4800000000005,3652.76,2598.59,2268.9300000000003,1828.5,0,0,0,0,0]
[51,null,null,4688.38,3714.77,2666.96,2327.7600000000002,1859.77,0,0,0,0,0]
[52,null,null,4808.6900000000005,3777.3100000000004,2735.33,2386.59,1892.1000000000001,0,0,0,0,0]
[53,null,null,4977.2300000000005,3923.59,2836.03,2475.1,1958.88,0,0,0,0,0]
[54,null,null,5144.71,4069.34,2935.67,2562.02,2026.72,0,0,0,0,0]
[55,null,null,5312.72,4218.2700000000004,3036.9,2651.59,2095.09,0,0,0,0,0]
[56,null,null,5483.38,4364.0200000000004,3138.13,2739.04,2164.52,0,0,0,0,0]
[57,null,null,5650.33,4508.18,3237.2400000000002,2826.4900000000002,2233.9500000000003,0,0,0,0,0]
[58,null,null,5948.72,4811.34,3448.71,3017.82,2396.13,0,0,0,0,0]
[59,null,null,6248.7000000000007,5116.62,3659.1200000000003,3211.27,2560.96,0,0,0,0,0]
[60,null,null,6549.7400000000007,5419.7800000000007,3870.59,3402.6000000000004,2725.79,0,0,0,0,0]
[61,null,null,6909.6100000000006,5736.72,4091.07,3604.53,2894.33,0,0,0,0,0]
[62,null,null,7302.34,6057.37,4312.6100000000006,3815.4700000000003,3063.9300000000003,0,0,0,0,0]
[63,null,null,7697.1900000000005,6400.2800000000007,4543.6900000000005,4022.17,3235.1200000000003,0,0,0,0,0]
[64,null,null,8113.77,6769.6900000000005,4786.43,4235.2300000000005,3405.78,0,0,0,0,0]
[65,null,null,8548.3700000000008,7147.58,5105.4900000000007,4457.83,3578.5600000000004,0,0,0,0,0]
[66,null,null,9096.92,7583.2400000000007,5468.54,4770.5300000000007,{"$f":"$L$2*H54","v":3793.21},0,0,0,0,0]
[67,null,null,9821.9600000000009,8190.09,5907.91,5138.88,4098.49,0,0,0,0,0]
[68,null,null,10651.41,8880.15,6408.2300000000005,5574.54,4445.6400000000003,0,0,0,0,0]
[69,null,null,11632.970000000001,9696.880000000001,6997.06,6086.52,4855.8600000000006,0,0,0,0,0]
[70,null,null,12748.62,10787.09,7628.29,6706.62,5337.63,0,0,0,0,0]
[71,null,null,14042.35,11891.08,8449.7900000000009,7379.72,5885.12,0,0,0,0,0]
[72,null,null,15535.890000000001,13146.12,9351.32,8171.54,6511.05,0,0,0,0,0]
[73,null,null,17245.14,14591.43,10379.52,9073.07,7230.79,0,0,0,0,0]
[74,null,null,19228.400000000001,16267.820000000002,11574.140000000001,10084.84,8066.0700000000006,0,0,0,0,0]
[75,null,null,21463.940000000002,18906.16,13356,11566.19,8952.76,0,0,0,0,0]
[76,null,null,25366.33,22335.79,15507.800000000001,13372.43,10331.82,0,0,0,0,0]
[77,null,null,29366.77,25847.57,18110.100000000002,15617.51,11843.380000000001,0,0,0,0,0]
[78,null,null,34149.490000000005,29515.7,20940.3,18054.98,13566.41,0,0,0,0,0]
[79,null,null,39027.61,33502.89,24448.370000000003,21081.280000000002,15495.61,0,0,0,0,0]
[80,null,null,44489.79,38290.380000000005,28182.22,24304.210000000003,17492.650000000001,0,0,0,0,0]
["1 Child","Hijo",null,884.57,731.40000000000009,516.22,442.55,377.89000000000004,0,0,0,0,0]
["2 Children","Hijos",null,1491.95,{"$f":"$L$2*E70","v":1081.2},811.96,696.95,599.43000000000006,0,0,0,0,0]
["3+ Children","Hijos o más",null,{"$f":"$L$2*D71","v":2185.7200000000003},1561.38,1179.25,1015.48,868.67000000000007,0,0,0,0,0]
[1,"Rider Comp. Maternidad",null,{"$f":"+D72*$L$2","v":119.25},119.25,119.25,119.25,119.25]
[1,"Transplante de organos",null,159,159,159,159,159]
[]
["BUPA ALPHA - ZONE 3"]
["TARIFAS ANUALES"]
["EDAD"]
[" "," ",null,"DW2","DW3","DW4","DW5","DW6","DW2","DW3","DW4","DW5","DW6"]
[18,null,null,4183,3245,2503,2166,1656,0,0,0,0,0]
[19,null,null,4297,3342,2574,2229,1704,0,0,0,0,0]
[20,null,null,4407,3447,2650,2297,1749,0,0,0,0,0]
[21,null,null,4526,3550,2725,2361,1799,0,0,0,0,0]
[22,null,null,4648,3660,2804,2427,1852,0,0,0,0,0]
[23,null,null,4763,3770,2879,2499,1898,0,0,0,0,0]
[24,null,null,4886,3877,2962,2568,1945,0,0,0,0,0]
[25,null,null,5002,3989,3043,2632,1993,0,0,0,0,0]
[26,null,null,5125,4098,3116,2703,2049,0,0,0,0,0]
[27,null,null,5242,4206,3197,2771,2096,0,0,0,0,0]
[28,null,null,5441,4349,3251,2827,2176,0,0,0,0,0]
[29,null,null,5635,4490,3303,2884,2252,0,0,0,0,0]
[30,null,null,5824,4640,3352,2942,2327,0,0,0,0,0]
[31,null,null,6021,4787,3405,2997,2405,0,0,0,0,0]
[32,null,null,6215,4930,3462,3055,2480,0,0,0,0,0]
[33,null,null,6343,5033,3544,3115,2545,0,0,0,0,0]
[34,null,null,6476,5142,3633,3175,2604,0,0,0,0,0]
[35,null,null,6602,5257,3721,3239,2666,0,0,0,0,0]
[36,null,null,6731,5367,3804,3298,2719,0,0,0,0,0]
[37,null,null,6858,5470,3894,3357,2782,0,0,0,0,0]
[38,null,null,6991,5591,3958,3425,2841,0,0,0,0,0]
[39,null,null,7117,5705,4021,3491,2896,0,0,0,0,0]
[40,null,null,7244,5824,4088,3555,2953,0,0,0,0,0]
[41,null,null,7367,5945,4156,3626,3008,0,0,0,0,0]
[42,null,null,7494,6064,4220,3690,3066,0,0,0,0,0]
[43,null,null,7758,6301,4380,3823,3178,0,0,0,0,0]
[44,null,null,8016,6538,4538,3964,3293,0,0,0,0,0]
[45,null,null,8288,6774,4694,4099,3403,0,0,0,0,0]
[46,null,null,8546,7012,4853,4235,3520,0,0,0,0,0]
[47,null,null,8809,7248,5012,4371,3633,0,0,0,0,0]
[48,null,null,9062,7381,5153,4501,3695,0,0,0,0,0]
[49,null,null,9314,7515,5298,4619,3758,0,0,0,0,0]
[50,null,null,9564,7645,5441,4750,3822,0,0,0,0,0]
[51,null,null,9814,7772,5581,4872,3887,0,0,0,0,0]
[52,null,null,10070,7905,5724,5001,3953,0,0,0,0,0]
[53,null,null,10422,8212,5936,5183,4098,0,0,0,0,0]
[54,null,null,10774,8523,6147,5368,4242,0,0,0,0,0]
[55,null,null,11128,8830,6361,5553,4391,0,0,0,0,0]
[56,null,null,11481,9138,6572,5737,4532,0,0,0,0,0]
[57,null,null,11832,9449,6786,5921,4680,0,0,0,0,0]
[58,null,null,12455,10078,7221,6323,5024,0,0,0,0,0]
[59,null,null,13078,10711,7660,6726,5368,0,0,0,0,0]
[60,null,null,13703,11345,8099,7124,5714,0,0,0,0,0]
[61,null,null,14465,12009,8560,7540,6067,0,0,0,0,0]
[62,null,null,15283,12688,9028,7983,6421,0,0,0,0,0]
[63,null,null,16112,13403,9512,8421,6769,0,0,0,0,0]
[64,null,null,16989,14172,10031,8871,7131,0,0,0,0,0]
[65,null,null,17897,14966,10688,9331,7494,0,0,0,0,0]
[66,null,null,19040,15872,11450,9992,7945,0,0,0,0,0]
[67,null,null,20568,17152,12373,10761,8587,0,0,0,0,0]
[68,null,null,22302,18600,13417,11667,9309,0,0,0,0,0]
[69,null,null,24347,20301,14649,12745,10169,0,0,0,0,0]
[70,null,null,26696,22590,15975,14035,11183,0,0,0,0,0]
[71,null,null,29398,24888,17692,15464,12316,0,0,0,0,0]
[72,null,null,32525,27517,19573,17109,13636,0,0,0,0,0]
[73,null,null,36101,30543,21730,18990,15142,0,0,0,0,0]
[74,null,null,40263,34054,24232,21112,16883,0,0,0,0,0]
[75,null,null,44944,39583,27961,24217,18748,0,0,0,0,0]
[76,null,null,53121,46766,32459,27998,21630,0,0,0,0,0]
[77,null,null,61493,54112,37912,32698,24805,0,0,0,0,0]
[78,null,null,71502,61795,43831,37803,28415,0,0,0,0,0]
[79,null,null,81717,70145,51178,44141,32453,0,0,0,0,0]
[80,null,null,93157,80171,58996,50888,36630,0,0,0,0,0]
["1 Child","Hijo",null,1852,1529,1082,927,795,0,0,0,0,0]
["2 Children","Hijos",null,3115,2274,1694,1460,1261,0,0,0,0,0]
["3+ Children","Hijos o más",null,4573,3272,2463,2125,1824,0,0,0,0,0]
[1,"Rider Comp. Maternidad",null,225,225,225,225,225]
[1,"Transplante de organos",null,300,300,300,300,300]
[]
["TARIFAS SEMESTRALES "]
["EDAD"]
[" "," ",null,"DW2","DW3","DW4","DW5","DW6","DW2","DW3","DW4","DW5","DW6"]
[18,null,null,{"$f":"+D151*$L$2","v":2216.9900000000002},1719.8500000000001,1326.5900000000001,1147.98,877.68000000000006,0,0,0,0,0]
[19,null,null,{"$f":"+D152*$L$2","v":2277.4100000000003},1771.26,1364.22,1181.3700000000001,903.12,0,0,0,0,0]
[20,null,null,{"$f":"+D153*$L$2","v":2335.71},1826.91,1404.5,1217.4100000000001,926.97,0,0,0,0,0]
[21,null,null,{"$f":"+D154*$L$2","v":2398.7800000000002},1881.5,1444.25,1251.3300000000002,953.47,0,0,0,0,0]
[22,null,null,{"$f":"+D155*$L$2","v":2463.44},1939.8000000000002,1486.1200000000001,1286.3100000000002,981.56000000000006,0,0,0,0,0]
[23,null,null,{"$f":"+D156*$L$2","v":2524.3900000000003},1998.1000000000001,1525.8700000000001,1324.47,1005.94,0,0,0,0,0]
[24,null,null,{"$f":"+D157*$L$2","v":2589.58},2054.81,1569.8600000000001,1361.04,1030.8500000000001,0,0,0,0,0]
[25,null,null,{"$f":"+D158*$L$2","v":2651.06},2114.17,1612.7900000000002,1394.96,1056.29,0,0,0,0,0]
[26,null,null,{"$f":"+D159*$L$2","v":2716.25},2171.94,1651.48,1432.5900000000001,1085.97,0,0,0,0,0]
[27,null,null,{"$f":"+D160*$L$2","v":2778.26},2229.1800000000003,1694.41,1468.63,1110.8800000000001,0,0,0,0,0]
[28,null,null,{"$f":"+D161*$L$2","v":2883.73},2304.9700000000003,1723.0300000000002,1498.3100000000002,1153.28,0,0,0,0,0]
[29,null,null,{"$f":"+D162*$L$2","v":2986.55},2379.7000000000003,1750.5900000000001,1528.52,1193.5600000000002,0,0,0,0,0]
[30,null,null,{"$f":"+D163*$L$2","v":3086.7200000000003},2459.2000000000003,1776.5600000000002,1559.26,1233.3100000000002,0,0,0,0,0]
[31,null,null,{"$f":"+D164*$L$2","v":3191.13},2537.11,1804.65,1588.41,1274.6500000000001,0,0,0,0,0]
[32,null,null,{"$f":"+D165*$L$2","v":3293.9500000000003},2612.9,1834.8600000000001,1619.15,1314.4,0,0,0,0,0]
[33,null,null,{"$f":"+D166*$L$2","v":3361.79},2667.4900000000002,1878.3200000000002,1650.95,1348.8500000000001,0,0,0,0,0]
[34,null,null,{"$f":"+D167*$L$2","v":3432.28},2725.26,1925.49,1682.75,1380.1200000000001,0,0,0,0,0]
[35,null,null,{"$f":"+D168*$L$2","v":3499.0600000000004},2786.21,1972.13,1716.67,1412.98,0,0,0,0,0]
[36,null,null,{"$f":"+D169*$L$2","v":3567.4300000000003},2844.51,2016.1200000000001,1747.94,1441.0700000000002,0,0,0,0,0]
[37,null,null,{"$f":"+D170*$L$2","v":3634.7400000000002},2899.1000000000004,2063.8200000000002,1779.21,1474.46,0,0,0,0,0]
[38,null,null,{"$f":"+D171*$L$2","v":3705.23},2963.23,2097.7400000000002,1815.25,1505.73,0,0,0,0,0]
[39,null,null,{"$f":"+D172*$L$2","v":3772.01},3023.65,2131.13,1850.23,1534.88,0,0,0,0,0]
[40,null,null,{"$f":"+D173*$L$2","v":3839.32},3086.7200000000003,2166.6400000000003,1884.15,1565.0900000000001,0,0,0,0,0]
[41,null,null,{"$f":"+D174*$L$2","v":3904.51},3150.8500000000004,2202.6800000000003,1921.7800000000002,1594.24,0,0,0,0,0]
[42,null,null,{"$f":"+D175*$L$2","v":3971.82},3213.92,2236.6,1955.7,1624.98,0,0,0,0,0]
[43,null,null,{"$f":"+D176*$L$2","v":4111.74},3339.53,2321.4,2026.19,1684.3400000000001,0,0,0,0,0]
[44,null,null,{"$f":"+D177*$L$2","v":4248.4800000000005},3465.1400000000003,2405.1400000000003,2100.92,1745.2900000000002,0,0,0,0,0]
[45,null,null,{"$f":"+D178*$L$2","v":4392.6400000000003},3590.2200000000003,2487.8200000000002,2172.4700000000003,1803.5900000000001,0,0,0,0,0]
[46,null,null,{"$f":"+D179*$L$2","v":4529.38},3716.36,2572.09,2244.5500000000002,1865.6000000000001,0,0,0,0,0]
[47,null,null,{"$f":"+D180*$L$2","v":4668.7700000000004},3841.44,2656.36,2316.63,1925.49,0,0,0,0,0]
[48,null,null,{"$f":"+D181*$L$2","v":4802.8600000000006},3911.9300000000003,2731.09,2385.5300000000002,1958.3500000000001,0,0,0,0,0]
[49,null,null,{"$f":"+D182*$L$2","v":4936.42},3982.9500000000003,2807.94,2448.0700000000002,1991.74,0,0,0,0,0]
[50,null,null,{"$f":"+D183*$L$2","v":5068.92},4051.8500000000004,2883.73,2517.5,2025.66,0,0,0,0,0]
[51,null,null,{"$f":"+D184*$L$2","v":5201.42},4119.16,2957.9300000000003,2582.1600000000003,2060.11,0,0,0,0,0]
[52,null,null,{"$f":"+D185*$L$2","v":5337.1},4189.6500000000005,3033.7200000000003,2650.53,2095.09,0,0,0,0,0]
[53,null,null,{"$f":"+D186*$L$2","v":5523.66},4352.3600000000006,3146.0800000000004,2746.9900000000002,2171.94,0,0,0,0,0]
[54,null,null,{"$f":"+D187*$L$2","v":5710.22},4517.1900000000005,3257.9100000000003,2845.04,2248.2600000000002,0,0,0,0,0]
[55,null,null,{"$f":"+D188*$L$2","v":5897.84},4679.9000000000005,3371.3300000000004,2943.09,2327.23,0,0,0,0,0]
[56,null,null,{"$f":"+D189*$L$2","v":6084.93},4843.1400000000003,3483.1600000000003,3040.61,2401.96,0,0,0,0,0]
[57,null,null,{"$f":"+D190*$L$2","v":6270.96},5007.97,3596.5800000000004,3138.13,2480.4,0,0,0,0,0]
[58,null,null,{"$f":"+D191*$L$2","v":6601.1500000000005},5341.34,3827.13,3351.19,2662.7200000000003,0,0,0,0,0]
[59,null,null,{"$f":"+D192*$L$2","v":6931.34},5676.83,4059.8,3564.78,2845.04,0,0,0,0,0]
[60,null,null,{"$f":"+D193*$L$2","v":7262.59},6012.85,4292.47,3775.7200000000003,3028.42,0,0,0,0,0]
[61,null,null,{"$f":"+D194*$L$2","v":7666.4500000000007},6364.77,4536.8,3996.2000000000003,3215.51,0,0,0,0,0]
[62,null,null,{"$f":"+D195*$L$2","v":8099.9900000000007},6724.64,4784.84,4230.99,3403.13,0,0,0,0,0]
[63,null,null,{"$f":"+D196*$L$2","v":8539.36},7103.59,5041.3600000000006,4463.13,3587.57,0,0,0,0,0]
[64,null,null,{"$f":"+D197*$L$2","v":9004.17},7511.1600000000008,5316.43,4701.63,3779.4300000000003,0,0,0,0,0]
[65,null,null,{"$f":"+D198*$L$2","v":9485.41},7931.9800000000005,5664.64,4945.43,3971.82,0,0,0,0,0]
[66,null,null,{"$f":"+D199*$L$2","v":10091.200000000001},8412.16,6068.5,5295.76,4210.8500000000004,0,0,0,0,0]
[67,null,null,{"$f":"+D200*$L$2","v":10901.04},9090.5600000000013,6557.6900000000005,5703.33,4551.1100000000006,0,0,0,0,0]
[68,null,null,{"$f":"+D201*$L$2","v":11820.060000000001},9858,7111.01,6183.51,4933.7700000000004,0,0,0,0,0]
[69,null,null,{"$f":"+D202*$L$2","v":12903.91},10759.53,7763.97,6754.85,5389.5700000000006,0,0,0,0,0]
[70,null,null,{"$f":"+D203*$L$2","v":14148.880000000001},11972.7,8466.75,7438.55,5926.9900000000007,0,0,0,0,0]
[71,null,null,{"$f":"+D204*$L$2","v":15580.94},13190.640000000001,9376.76,8195.92,6527.4800000000005,0,0,0,0,0]
[72,null,null,{"$f":"+D205*$L$2","v":17238.25},14584.01,10373.69,9067.77,7227.08,0,0,0,0,0]
[73,null,null,{"$f":"+D206*$L$2","v":19133.530000000002},16187.79,11516.900000000001,10064.700000000001,8025.26,0,0,0,0,0]
[74,null,null,{"$f":"+D207*$L$2","v":21339.39},18048.620000000003,12842.960000000001,11189.36,8947.99,0,0,0,0,0]
[75,null,null,{"$f":"+D208*$L$2","v":23820.32},20978.99,14819.33,12835.01,9936.44,0,0,0,0,0]
[76,null,null,{"$f":"+D209*$L$2","v":28154.13},24785.98,17203.27,14838.94,11463.900000000001,0,0,0,0,0]
[77,null,null,{"$f":"+D210*$L$2","v":32591.29},28679.360000000001,20093.36,17329.940000000002,13146.650000000001,0,0,0,0,0]
[78,null,null,{"$f":"+D211*$L$2","v":37896.060000000005},32751.350000000002,23230.43,20035.59,15059.95,0,0,0,0,0]
[79,null,null,{"$f":"+D212*$L$2","v":43310.01},37176.85,27124.34,23394.73,17200.09,0,0,0,0,0]
[80,null,null,{"$f":"+D213*$L$2","v":49373.21},42490.630000000005,31267.88,26970.640000000003,19413.900000000001,0,0,0,0,0]
["1 Child","Hijo",null,{"$f":"+D214*$L$2","v":981.56000000000006},810.37,573.46,491.31,421.35,0,0,0,0,0]
["2 Children","Hijos",null,{"$f":"+D215*$L$2","v":1650.95},1205.22,897.82,773.80000000000007,668.33,0,0,0,0,0]
["3+ Children","Hijos o más",null,{"$f":"+D216*$L$2","v":2423.69},1734.16,1305.3900000000001,1126.25,966.72,0,0,0,0,0]
[1,"Rider Comp. Maternidad",null,{"$f":"+D217*$L$2","v":119.25},119.25,119.25,119.25,119.25]
[1,"Transplante de organos",null,{"$f":"+D218*$L$2","v":159},159,159,159,159]
[]
["BUPA ALPHA - ZONE 4"]
["TARIFAS ANUALES"]
["EDAD"]
[" "," ",null,"DW2","DW3","DW4","DW5","DW6","DW2","DW3","DW4","DW5","DW6"]
[18,null,null,3976,3080,2382,2063,1570,0,0,0,0,0]
[19,null,null,4084,3177,2449,2122,1612,0,0,0,0,0]
[20,null,null,4195,3274,2521,2186,1660,0,0,0,0,0]
[21,null,null,4304,3379,2594,2244,1705,0,0,0,0,0]
[22,null,null,4420,3482,2669,2309,1758,0,0,0,0,0]
[23,null,null,4532,3588,2738,2376,1801,0,0,0,0,0]
[24,null,null,4648,3690,2814,2439,1853,0,0,0,0,0]
[25,null,null,4766,3798,2893,2501,1899,0,0,0,0,0]
[26,null,null,4877,3900,2964,2566,1946,0,0,0,0,0]
[27,null,null,4994,4007,3041,2632,1994,0,0,0,0,0]
[28,null,null,5179,4140,3088,2684,2068,0,0,0,0,0]
[29,null,null,5361,4277,3141,2737,2143,0,0,0,0,0]
[30,null,null,5549,4410,3187,2792,2218,0,0,0,0,0]
[31,null,null,5727,4550,3238,2852,2293,0,0,0,0,0]
[32,null,null,5916,4688,3287,2900,2364,0,0,0,0,0]
[33,null,null,6038,4787,3370,2964,2423,0,0,0,0,0]
[34,null,null,6158,4890,3452,3023,2480,0,0,0,0,0]
[35,null,null,6279,4992,3533,3080,2534,0,0,0,0,0]
[36,null,null,6401,5090,3614,3141,2593,0,0,0,0,0]
[37,null,null,6520,5196,3701,3200,2648,0,0,0,0,0]
[38,null,null,6643,5306,3761,3260,2704,0,0,0,0,0]
[39,null,null,6767,5425,3822,3326,2754,0,0,0,0,0]
[40,null,null,6884,5536,3885,3382,2810,0,0,0,0,0]
[41,null,null,7006,5645,3947,3446,2862,0,0,0,0,0]
[42,null,null,7126,5762,4009,3508,2915,0,0,0,0,0]
[43,null,null,7377,5991,4161,3637,3023,0,0,0,0,0]
[44,null,null,7622,6215,4308,3766,3131,0,0,0,0,0]
[45,null,null,7871,6443,4462,3897,3238,0,0,0,0,0]
[46,null,null,8121,6669,4609,4023,3346,0,0,0,0,0]
[47,null,null,8368,6896,4765,4154,3452,0,0,0,0,0]
[48,null,null,8609,7023,4897,4275,3553,0,0,0,0,0]
[49,null,null,8849,7143,5032,4388,3650,0,0,0,0,0]
[50,null,null,9089,7268,5166,4517,3755,0,0,0,0,0]
[51,null,null,9328,7389,5298,4631,3855,0,0,0,0,0]
[52,null,null,9567,7517,5437,4749,3954,0,0,0,0,0]
[53,null,null,9903,7805,5641,4928,4098,0,0,0,0,0]
[54,null,null,10237,8099,5839,5102,4249,0,0,0,0,0]
[55,null,null,10570,8390,6046,5279,4387,0,0,0,0,0]
[56,null,null,10906,8678,6242,5456,4532,0,0,0,0,0]
[57,null,null,11239,8968,6444,5635,4679,0,0,0,0,0]
[58,null,null,11838,9575,6864,6012,5018,0,0,0,0,0]
[59,null,null,12434,10182,7279,6390,5354,0,0,0,0,0]
[60,null,null,13030,10786,7695,6775,5692,0,0,0,0,0]
[61,null,null,13755,11411,8136,7174,6038,0,0,0,0,0]
[62,null,null,14536,12054,8580,7590,6385,0,0,0,0,0]
[63,null,null,15319,12736,9039,8001,6740,0,0,0,0,0]
[64,null,null,16155,13462,9529,8429,7097,0,0,0,0,0]
[65,null,null,17014,14222,10161,8869,7455,0,0,0,0,0]
[66,null,null,18105,15089,10881,9493,7909,0,0,0,0,0]
[67,null,null,19557,16297,11756,10227,8542,0,0,0,0,0]
[68,null,null,21201,17660,12747,11094,9276,0,0,0,0,0]
[69,null,null,23154,19285,13924,12105,10130,0,0,0,0,0]
[70,null,null,25376,21459,15179,13340,11134,0,0,0,0,0]
[71,null,null,27944,23650,16807,14690,12269,0,0,0,0,0]
[72,null,null,30924,26153,18606,16258,13581,0,0,0,0,0]
[73,null,null,34323,29017,20647,18050,15074,0,0,0,0,0]
[74,null,null,38268,32359,23028,20063,16810,0,0,0,0,0]
[75,null,null,42726,37607,26562,23009,18759,0,0,0,0,0]
[76,null,null,50490,44433,30840,26604,21643,0,0,0,0,0]
[77,null,null,58453,51412,36019,31070,24816,0,0,0,0,0]
[78,null,null,67971,58712,41644,35923,28426,0,0,0,0,0]
[79,null,null,77681,66643,48625,41943,32463,0,0,0,0,0]
[80,null,null,88555,76163,56051,48349,36651,0,0,0,0,0]
["1 Child","Hijo",null,1759,1450,1025,882,752,0,0,0,0,0]
["2 Children","Hijos",null,2961,2169,1612,1393,1197,0,0,0,0,0]
["3+ Children","Hijos o más",null,4345,3113,2340,2016,1726,0,0,0,0,0]
[1,"Rider Comp. Maternidad",null,225,225,225,225,225]
[1,"Transplante de organos",null,300,300,300,300,300]
[]
["TARIFAS SEMESTRALES "]
["EDAD"]
[" "," ",null,"DW2","DW3","DW4","DW5","DW6","DW2","DW3","DW4","DW5","DW6"]
[18,null,null,{"$f":"+D296*$L$2","v":2107.2800000000002},1632.4,1262.46,1093.3900000000001,832.1,0,0,0,0,0]
[19,null,null,{"$f":"+D297*$L$2","v":2164.52},1683.8100000000002,1297.97,1124.6600000000001,854.36,0,0,0,0,0]
[20,null,null,{"$f":"+D298*$L$2","v":2223.35},1735.22,1336.13,1158.5800000000002,879.80000000000007,0,0,0,0,0]
[21,null,null,{"$f":"+D299*$L$2","v":2281.12},1790.8700000000001,1374.8200000000002,1189.3200000000002,903.65000000000009,0,0,0,0,0]
[22,null,null,{"$f":"+D300*$L$2","v":2342.6},1845.46,1414.5700000000002,1223.77,931.74,0,0,0,0,0]
[23,null,null,{"$f":"+D301*$L$2","v":2401.96},1901.64,1451.14,1259.28,954.53000000000009,0,0,0,0,0]
[24,null,null,{"$f":"+D302*$L$2","v":2463.44},1955.7,1491.42,1292.67,982.09,0,0,0,0,0]
[25,null,null,{"$f":"+D303*$L$2","v":2525.98},2012.94,1533.29,1325.53,1006.47,0,0,0,0,0]
[26,null,null,{"$f":"+D304*$L$2","v":2584.81},2067,1570.92,1359.98,1031.3800000000001,0,0,0,0,0]
[27,null,null,{"$f":"+D305*$L$2","v":2646.82},2123.71,1611.73,1394.96,1056.8200000000002,0,0,0,0,0]
[28,null,null,{"$f":"+D306*$L$2","v":2744.8700000000003},2194.2000000000003,1636.64,1422.52,1096.04,0,0,0,0,0]
[29,null,null,{"$f":"+D307*$L$2","v":2841.33},2266.81,1664.73,1450.6100000000001,1135.79,0,0,0,0,0]
[30,null,null,{"$f":"+D308*$L$2","v":2940.9700000000003},2337.3000000000002,1689.1100000000001,1479.76,1175.54,0,0,0,0,0]
[31,null,null,{"$f":"+D309*$L$2","v":3035.31},2411.5,1716.14,1511.5600000000002,1215.29,0,0,0,0,0]
[32,null,null,{"$f":"+D310*$L$2","v":3135.48},2484.6400000000003,1742.1100000000001,1537,1252.92,0,0,0,0,0]
[33,null,null,{"$f":"+D311*$L$2","v":3200.1400000000003},2537.11,1786.1000000000001,1570.92,1284.19,0,0,0,0,0]
[34,null,null,{"$f":"+D312*$L$2","v":3263.7400000000002},2591.7000000000003,1829.5600000000002,1602.19,1314.4,0,0,0,0,0]
[35,null,null,{"$f":"+D313*$L$2","v":3327.8700000000003},2645.76,1872.49,1632.4,1343.02,0,0,0,0,0]
[36,null,null,{"$f":"+D314*$L$2","v":3392.53},2697.7000000000003,1915.42,1664.73,1374.29,0,0,0,0,0]
[37,null,null,{"$f":"+D315*$L$2","v":3455.6000000000004},2753.88,1961.5300000000002,1696,1403.44,0,0,0,0,0]
[38,null,null,{"$f":"+D316*$L$2","v":3520.79},2812.1800000000003,1993.3300000000002,1727.8000000000002,1433.1200000000001,0,0,0,0,0]
[39,null,null,{"$f":"+D317*$L$2","v":3586.51},2875.25,2025.66,1762.7800000000002,1459.6200000000001,0,0,0,0,0]
[40,null,null,{"$f":"+D318*$L$2","v":3648.52},2934.08,2059.0500000000002,1792.46,1489.3000000000002,0,0,0,0,0]
[41,null,null,{"$f":"+D319*$L$2","v":3713.1800000000003},2991.8500000000004,2091.9100000000003,1826.38,1516.8600000000001,0,0,0,0,0]
[42,null,null,{"$f":"+D320*$L$2","v":3776.78},3053.86,2124.77,1859.24,1544.95,0,0,0,0,0]
[43,null,null,{"$f":"+D321*$L$2","v":3909.8100000000004},3175.23,2205.33,1927.6100000000001,1602.19,0,0,0,0,0]
[44,null,null,{"$f":"+D322*$L$2","v":4039.6600000000003},3293.9500000000003,2283.2400000000002,1995.98,1659.43,0,0,0,0,0]
[45,null,null,{"$f":"+D323*$L$2","v":4171.63},3414.79,2364.86,2065.4100000000003,1716.14,0,0,0,0,0]
[46,null,null,{"$f":"+D324*$L$2","v":4304.13},3534.57,2442.77,2132.19,1773.38,0,0,0,0,0]
[47,null,null,{"$f":"+D325*$L$2","v":4435.04},3654.88,2525.4500000000003,2201.62,1829.5600000000002,0,0,0,0,0]
[48,null,null,{"$f":"+D326*$L$2","v":4562.7700000000004},3722.19,2595.4100000000003,2265.75,1883.0900000000001,0,0,0,0,0]
[49,null,null,{"$f":"+D327*$L$2","v":4689.97},3785.79,2666.96,2325.6400000000003,1934.5,0,0,0,0,0]
[50,null,null,{"$f":"+D328*$L$2","v":4817.17},3852.0400000000004,2737.98,2394.0100000000002,1990.15,0,0,0,0,0]
[51,null,null,{"$f":"+D329*$L$2","v":4943.84},3916.17,2807.94,2454.4300000000003,2043.15,0,0,0,0,0]
[52,null,null,{"$f":"+D330*$L$2","v":5070.51},3984.01,2881.61,2516.9700000000003,2095.62,0,0,0,0,0]
[53,null,null,{"$f":"+D331*$L$2","v":5248.59},4136.6500000000005,2989.73,2611.84,2171.94,0,0,0,0,0]
[54,null,null,{"$f":"+D332*$L$2","v":5425.6100000000006},4292.47,3094.67,2704.06,2251.9700000000003,0,0,0,0,0]
[55,null,null,{"$f":"+D333*$L$2","v":5602.1},4446.7,3204.38,2797.8700000000003,2325.11,0,0,0,0,0]
[56,null,null,{"$f":"+D334*$L$2","v":5780.18},4599.34,3308.26,2891.6800000000003,2401.96,0,0,0,0,0]
[57,null,null,{"$f":"+D335*$L$2","v":5956.67},4753.04,3415.32,2986.55,2479.8700000000003,0,0,0,0,0]
[58,null,null,{"$f":"+D336*$L$2","v":6274.14},5074.75,3637.92,3186.36,2659.54,0,0,0,0,0]
[59,null,null,{"$f":"+D337*$L$2","v":6590.02},5396.46,3857.8700000000003,3386.7000000000003,2837.6200000000003,0,0,0,0,0]
[60,null,null,{"$f":"+D338*$L$2","v":6905.9000000000005},5716.58,4078.3500000000004,3590.75,3016.76,0,0,0,0,0]
[61,null,null,{"$f":"+D339*$L$2","v":7290.1500000000005},6047.83,4312.08,3802.2200000000003,3200.1400000000003,0,0,0,0,0]
[62,null,null,{"$f":"+D340*$L$2","v":7704.0800000000008},6388.62,4547.4000000000005,4022.7000000000003,3384.05,0,0,0,0,0]
[63,null,null,{"$f":"+D341*$L$2","v":8119.0700000000006},6750.08,4790.67,4240.5300000000007,3572.2000000000003,0,0,0,0,0]
[64,null,null,{"$f":"+D342*$L$2","v":8562.15},7134.8600000000006,5050.37,4467.37,3761.4100000000003,0,0,0,0,0]
[65,null,null,{"$f":"+D343*$L$2","v":9017.42},7537.6600000000008,5385.33,4700.5700000000006,3951.15,0,0,0,0,0]
[66,null,null,{"$f":"+D344*$L$2","v":9595.65},7997.17,5766.93,5031.29,4191.7700000000004,0,0,0,0,0]
[67,null,null,{"$f":"+D345*$L$2","v":10365.210000000001},8637.41,6230.68,5420.31,4527.26,0,0,0,0,0]
[68,null,null,{"$f":"+D346*$L$2","v":11236.53},9359.8000000000011,6755.9100000000008,5879.8200000000006,4916.2800000000007,0,0,0,0,0]
[69,null,null,{"$f":"+D347*$L$2","v":12271.62},10221.050000000001,7379.72,6415.6500000000005,5368.9000000000005,0,0,0,0,0]
[70,null,null,{"$f":"+D348*$L$2","v":13449.28},11373.27,8044.8700000000008,7070.2000000000007,5901.02,0,0,0,0,0]
[71,null,null,{"$f":"+D349*$L$2","v":14810.320000000002},12534.5,8907.7100000000009,7785.7000000000007,6502.5700000000006,0,0,0,0,0]
[72,null,null,{"$f":"+D350*$L$2","v":16389.72},13861.09,9861.18,8616.74,7197.93,0,0,0,0,0]
[73,null,null,{"$f":"+D351*$L$2","v":18191.190000000002},15379.01,10942.91,9566.5,7989.22,0,0,0,0,0]
[74,null,null,{"$f":"+D352*$L$2","v":20282.04},17150.27,12204.84,10633.390000000001,8909.3000000000011,0,0,0,0,0]
[75,null,null,{"$f":"+D353*$L$2","v":22644.780000000002},19931.710000000003,14077.86,12194.77,9942.27,0,0,0,0,0]
[76,null,null,{"$f":"+D354*$L$2","v":26759.7},23549.49,16345.2,14100.12,11470.79,0,0,0,0,0]
[77,null,null,{"$f":"+D355*$L$2","v":30980.09},27248.36,19090.07,16467.100000000002,13152.480000000001,0,0,0,0,0]
[78,null,null,{"$f":"+D356*$L$2","v":36024.630000000005},31117.360000000001,22071.32,19039.190000000002,15065.78,0,0,0,0,0]
[79,null,null,{"$f":"+D357*$L$2","v":41170.93},35320.79,25771.25,22229.79,17205.39,0,0,0,0,0]
[80,null,null,{"$f":"+D358*$L$2","v":46934.15},40366.39,29707.030000000002,25624.97,19425.030000000002,0,0,0,0,0]
["1 Child","Hijo",null,{"$f":"+D359*$L$2","v":932.2700000000001},768.5,543.25,467.46000000000004,398.56,0,0,0,0,0]
["2 Children","Hijos",null,{"$f":"+D360*$L$2","v":1569.3300000000002},1149.5700000000002,854.36,738.29000000000008,634.41000000000008,0,0,0,0,0]
["3+ Children","Hijos o más",null,{"$f":"+D361*$L$2","v":2302.85},1649.89,1240.2,1068.48,914.78000000000009,0,0,0,0,0]
[1,"Rider Comp. Maternidad",null,{"$f":"+D362*$L$2","v":119.25},119.25,119.25,119.25,119.25]
[1,"Transplante de organos",null,{"$f":"+D363*$L$2","v":159},159,159,159,159]
[]
["BUPA ALPHA - ZONE 5"]
["TARIFAS ANUALES"]
["EDAD"]
[" "," ",null,"DW2","DW3","DW4","DW5","DW6","DW2","DW3","DW4","DW5","DW6"]
[18,null,null,2283,1771,1370,1187,907,0,0,0,0,0]
[19,null,null,2345,1825,1412,1220,931,0,0,0,0,0]
[20,null,null,2405,1880,1450,1252,957,0,0,0,0,0]
[21,null,null,2470,1939,1490,1290,984,0,0,0,0,0]
[22,null,null,2535,1997,1532,1326,1009,0,0,0,0,0]
[23,null,null,2601,2056,1573,1364,1038,0,0,0,0,0]
[24,null,null,2668,2115,1621,1397,1062,0,0,0,0,0]
[25,null,null,2733,2174,1659,1436,1091,0,0,0,0,0]
[26,null,null,2794,2235,1702,1472,1116,0,0,0,0,0]
[27,null,null,2862,2292,1745,1511,1144,0,0,0,0,0]
[28,null,null,2965,2373,1775,1542,1187,0,0,0,0,0]
[29,null,null,3073,2449,1801,1570,1229,0,0,0,0,0]
[30,null,null,3177,2529,1832,1602,1274,0,0,0,0,0]
[31,null,null,3282,2610,1859,1633,1315,0,0,0,0,0]
[32,null,null,3388,2686,1887,1666,1360,0,0,0,0,0]
[33,null,null,3459,2746,1932,1701,1393,0,0,0,0,0]
[34,null,null,3530,2804,1982,1734,1426,0,0,0,0,0]
[35,null,null,3600,2864,2030,1767,1454,0,0,0,0,0]
[36,null,null,3671,2921,2072,1800,1489,0,0,0,0,0]
[37,null,null,3743,2981,2120,1833,1521,0,0,0,0,0]
[38,null,null,3812,3043,2154,1870,1551,0,0,0,0,0]
[39,null,null,3882,3111,2192,1907,1580,0,0,0,0,0]
[40,null,null,3952,3178,2228,1943,1615,0,0,0,0,0]
[41,null,null,4023,3242,2264,1980,1643,0,0,0,0,0]
[42,null,null,4088,3309,2303,2010,1674,0,0,0,0,0]
[43,null,null,4231,3438,2387,2086,1734,0,0,0,0,0]
[44,null,null,4378,3567,2475,2161,1799,0,0,0,0,0]
[45,null,null,4519,3696,2560,2235,1859,0,0,0,0,0]
[46,null,null,4662,3824,2647,2310,1922,0,0,0,0,0]
[47,null,null,4804,3953,2733,2384,1986,0,0,0,0,0]
[48,null,null,4938,4026,2810,2452,2018,0,0,0,0,0]
[49,null,null,5077,4097,2887,2522,2052,0,0,0,0,0]
[50,null,null,5214,4166,2963,2592,2086,0,0,0,0,0]
[51,null,null,5350,4239,3040,2660,2122,0,0,0,0,0]
[52,null,null,5489,4311,3119,2728,2154,0,0,0,0,0]
[53,null,null,5678,4477,3233,2830,2235,0,0,0,0,0]
[54,null,null,5872,4645,3351,2930,2316,0,0,0,0,0]
[55,null,null,6066,4812,3468,3027,2394,0,0,0,0,0]
[56,null,null,6257,4980,3583,3127,2475,0,0,0,0,0]
[57,null,null,6454,5144,3700,3230,2554,0,0,0,0,0]
[58,null,null,6790,5494,3938,3446,2739,0,0,0,0,0]
[59,null,null,7137,5837,4175,3663,2923,0,0,0,0,0]
[60,null,null,7473,6185,4414,3883,3113,0,0,0,0,0]
[61,null,null,7885,6543,4667,4113,3304,0,0,0,0,0]
[62,null,null,8335,6913,4915,4355,3498,0,0,0,0,0]
[63,null,null,8782,7301,5184,4589,3694,0,0,0,0,0]
[64,null,null,9257,7719,5458,4835,3886,0,0,0,0,0]
[65,null,null,9755,8154,5824,5086,4087,0,0,0,0,0]
[66,null,null,10386,8648,6237,5444,4333,0,0,0,0,0]
[67,null,null,11211,9342,6741,5863,4677,0,0,0,0,0]
[68,null,null,12154,10128,7306,6360,5076,0,0,0,0,0]
[69,null,null,13275,11058,7983,6940,5544,0,0,0,0,0]
[70,null,null,14548,12311,8701,7650,6094,0,0,0,0,0]
[71,null,null,16025,13558,9642,8422,6713,0,0,0,0,0]
[72,null,null,17727,14996,10665,9325,7428,0,0,0,0,0]
[73,null,null,19678,16640,11838,10345,8250,0,0,0,0,0]
[74,null,null,21938,18551,13200,11501,9202,0,0,0,0,0]
[75,null,null,24493,21563,15231,13197,10214,0,0,0,0,0]
[76,null,null,28948,25475,17682,15252,11789,0,0,0,0,0]
[77,null,null,36823,32391,22693,19575,14853,0,0,0,0,0]
[78,null,null,42820,36992,26240,22630,17011,0,0,0,0,0]
[79,null,null,48935,41991,30635,26421,19430,0,0,0,0,0]
[80,null,null,55786,47988,35315,30462,21933,0,0,0,0,0]
["1 Child","Hijo",null,1009,834,589,510,433,0,0,0,0,0]
["2 Children","Hijos",null,1699,1240,928,802,687,0,0,0,0,0]
["3+ Children","Hijos o más",null,2492,1781,1345,1161,992,0,0,0,0,0]
[1,"Rider Comp. Maternidad",null,225,225,225,225,225]
[1,"Transplante de organos",null,300,300,300,300,300]
[]
["TARIFAS SEMESTRALES "]
["EDAD"]
[" "," ",null,"DW2","DW3","DW4","DW5","DW6","DW2","DW3","DW4","DW5","DW6"]
[18,null,null,{"$f":"+D441*$L$2","v":1209.99},938.63,726.1,629.11,480.71000000000004,0,0,0,0,0]
[19,null,null,{"$f":"+D442*$L$2","v":1242.8500000000001},967.25,748.36,646.6,493.43,0,0,0,0,0]
[20,null,null,{"$f":"+D443*$L$2","v":1274.6500000000001},996.40000000000009,768.5,663.56000000000006,507.21000000000004,0,0,0,0,0]
[21,null,null,{"$f":"+D444*$L$2","v":1309.1000000000001},1027.67,789.7,683.7,521.52,0,0,0,0,0]
[22,null,null,{"$f":"+D445*$L$2","v":1343.55},1058.4100000000001,811.96,702.78000000000009,534.77,0,0,0,0,0]
[23,null,null,{"$f":"+D446*$L$2","v":1378.53},1089.68,833.69,722.92000000000007,550.14,0,0,0,0,0]
[24,null,null,{"$f":"+D447*$L$2","v":1414.04},1120.95,859.13,740.41000000000008,562.86,0,0,0,0,0]
[25,null,null,{"$f":"+D448*$L$2","v":1448.49},1152.22,879.2700000000001,761.08,578.23,0,0,0,0,0]
[26,null,null,{"$f":"+D449*$L$2","v":1480.8200000000002},1184.55,902.06000000000006,780.16000000000008,591.48,0,0,0,0,0]
[27,null,null,{"$f":"+D450*$L$2","v":1516.8600000000001},1214.76,924.85,800.83,606.32000000000005,0,0,0,0,0]
[28,null,null,{"$f":"+D451*$L$2","v":1571.45},1257.69,940.75,817.26,629.11,0,0,0,0,0]
[29,null,null,{"$f":"+D452*$L$2","v":1628.69},1297.97,954.53000000000009,832.1,651.37,0,0,0,0,0]
[30,null,null,{"$f":"+D453*$L$2","v":1683.8100000000002},1340.3700000000001,970.96,849.06000000000006,675.22,0,0,0,0,0]
[31,null,null,{"$f":"+D454*$L$2","v":1739.46},1383.3000000000002,985.2700000000001,865.49,696.95,0,0,0,0,0]
[32,null,null,{"$f":"+D455*$L$2","v":1795.64},1423.5800000000002,1000.11,882.98,720.80000000000007,0,0,0,0,0]
[33,null,null,{"$f":"+D456*$L$2","v":1833.27},1455.38,1023.96,901.53000000000009,738.29000000000008,0,0,0,0,0]
[34,null,null,{"$f":"+D457*$L$2","v":1870.9},1486.1200000000001,1050.46,919.0200000000001,755.78000000000009,0,0,0,0,0]
[35,null,null,{"$f":"+D458*$L$2","v":1908},1517.92,1075.9000000000001,936.51,770.62,0,0,0,0,0]
[36,null,null,{"$f":"+D459*$L$2","v":1945.63},1548.13,1098.1600000000001,954,789.17000000000007,0,0,0,0,0]
[37,null,null,{"$f":"+D460*$L$2","v":1983.7900000000002},1579.93,1123.6000000000001,971.49,806.13,0,0,0,0,0]
[38,null,null,{"$f":"+D461*$L$2","v":2020.3600000000001},1612.7900000000002,1141.6200000000001,991.1,822.03000000000009,0,0,0,0,0]
[39,null,null,{"$f":"+D462*$L$2","v":2057.46},1648.8300000000002,1161.76,1010.71,837.40000000000009,0,0,0,0,0]
[40,null,null,{"$f":"+D463*$L$2","v":2094.56},1684.3400000000001,1180.8400000000001,1029.79,855.95,0,0,0,0,0]
[41,null,null,{"$f":"+D464*$L$2","v":2132.19},1718.26,1199.92,1049.4000000000001,870.79000000000008,0,0,0,0,0]
[42,null,null,{"$f":"+D465*$L$2","v":2166.6400000000003},1753.77,1220.5900000000001,1065.3,887.22,0,0,0,0,0]
[43,null,null,{"$f":"+D466*$L$2","v":2242.4300000000003},1822.14,1265.1100000000001,1105.5800000000002,919.0200000000001,0,0,0,0,0]
[44,null,null,{"$f":"+D467*$L$2","v":2320.34},1890.51,1311.75,1145.3300000000002,953.47,0,0,0,0,0]
[45,null,null,{"$f":"+D468*$L$2","v":2395.0700000000002},1958.88,1356.8000000000002,1184.55,985.2700000000001,0,0,0,0,0]
[46,null,null,{"$f":"+D469*$L$2","v":2470.86},2026.72,1402.91,1224.3,1018.6600000000001,0,0,0,0,0]
[47,null,null,{"$f":"+D470*$L$2","v":2546.1200000000003},2095.09,1448.49,1263.52,1052.5800000000002,0,0,0,0,0]
[48,null,null,{"$f":"+D471*$L$2","v":2617.1400000000003},2133.7800000000002,1489.3000000000002,1299.5600000000002,1069.54,0,0,0,0,0]
[49,null,null,{"$f":"+D472*$L$2","v":2690.81},2171.4100000000003,1530.1100000000001,1336.66,1087.56,0,0,0,0,0]
[50,null,null,{"$f":"+D473*$L$2","v":2763.42},2207.98,1570.39,1373.76,1105.5800000000002,0,0,0,0,0]
[51,null,null,{"$f":"+D474*$L$2","v":2835.5},2246.67,1611.2,1409.8000000000002,1124.6600000000001,0,0,0,0,0]
[52,null,null,{"$f":"+D475*$L$2","v":2909.17},2284.83,1653.0700000000002,1445.8400000000001,1141.6200000000001,0,0,0,0,0]
[53,null,null,{"$f":"+D476*$L$2","v":3009.34},2372.81,1713.49,1499.9,1184.55,0,0,0,0,0]
[54,null,null,{"$f":"+D477*$L$2","v":3112.1600000000003},2461.85,1776.0300000000002,1552.9,1227.48,0,0,0,0,0]
[55,null,null,{"$f":"+D478*$L$2","v":3214.98},2550.36,1838.0400000000002,1604.3100000000002,1268.8200000000002,0,0,0,0,0]
[56,null,null,{"$f":"+D479*$L$2","v":3316.21},2639.4,1898.99,1657.3100000000002,1311.75,0,0,0,0,0]
[57,null,null,{"$f":"+D480*$L$2","v":3420.6200000000003},2726.32,1961,1711.9,1353.6200000000001,0,0,0,0,0]
[58,null,null,{"$f":"+D481*$L$2","v":3598.7000000000003},2911.82,2087.1400000000003,1826.38,1451.67,0,0,0,0,0]
[59,null,null,{"$f":"+D482*$L$2","v":3782.61},3093.61,2212.75,1941.39,1549.19,0,0,0,0,0]
[60,null,null,{"$f":"+D483*$L$2","v":3960.69},3278.05,2339.42,2057.9900000000002,1649.89,0,0,0,0,0]
[61,null,null,{"$f":"+D484*$L$2","v":4179.05},3467.79,2473.5100000000002,2179.8900000000003,1751.1200000000001,0,0,0,0,0]
[62,null,null,{"$f":"+D485*$L$2","v":4417.55},3663.8900000000003,2604.9500000000003,2308.15,1853.94,0,0,0,0,0]
[63,null,null,{"$f":"+D486*$L$2","v":4654.46},3869.53,2747.52,2432.17,1957.8200000000002,0,0,0,0,0]
[64,null,null,{"$f":"+D487*$L$2","v":4906.21},4091.07,2892.7400000000002,2562.5500000000002,2059.58,0,0,0,0,0]
[65,null,null,{"$f":"+D488*$L$2","v":5170.1500000000005},4321.62,3086.7200000000003,2695.58,2166.11,0,0,0,0,0]
[66,null,null,{"$f":"+D489*$L$2","v":5504.58},4583.4400000000005,3305.61,2885.32,2296.4900000000002,0,0,0,0,0]
[67,null,null,{"$f":"+D490*$L$2","v":5941.83},4951.26,3572.73,3107.3900000000003,2478.81,0,0,0,0,0]
[68,null,null,{"$f":"+D491*$L$2","v":6441.62},5367.84,3872.1800000000003,3370.8,2690.28,0,0,0,0,0]
[69,null,null,{"$f":"+D492*$L$2","v":7035.75},5860.7400000000007,4230.99,3678.2000000000003,2938.32,0,0,0,0,0]
[70,null,null,{"$f":"+D493*$L$2","v":7710.4400000000005},6524.83,4611.5300000000007,4054.5,3229.82,0,0,0,0,0]
[71,null,null,{"$f":"+D494*$L$2","v":8493.25},7185.7400000000007,5110.26,4463.66,3557.8900000000003,0,0,0,0,0]
[72,null,null,{"$f":"+D495*$L$2","v":9395.3100000000013},7947.88,5652.4500000000007,4942.25,3936.84,0,0,0,0,0]
[73,null,null,{"$f":"+D496*$L$2","v":10429.34},8819.2000000000007,6274.14,5482.85,4372.5,0,0,0,0,0]
[74,null,null,{"$f":"+D497*$L$2","v":11627.140000000001},9832.0300000000007,6996,6095.5300000000007,4877.0600000000004,0,0,0,0,0]
[75,null,null,{"$f":"+D498*$L$2","v":12981.29},11428.390000000001,8072.43,6994.4100000000008,5413.42,0,0,0,0,0]
[76,null,null,{"$f":"+D499*$L$2","v":15342.44},13501.75,9371.4600000000009,8083.56,6248.17,0,0,0,0,0]
[77,null,null,{"$f":"+D500*$L$2","v":19516.190000000002},17167.23,12027.29,10374.75,7872.09,0,0,0,0,0]
[78,null,null,{"$f":"+D501*$L$2","v":22694.600000000002},19605.760000000002,13907.2,11993.900000000001,9015.83,0,0,0,0,0]
[79,null,null,{"$f":"+D502*$L$2","v":25935.550000000003},22255.23,16236.550000000001,14003.130000000001,10297.9,0,0,0,0,0]
[80,null,null,{"$f":"+D503*$L$2","v":29566.58},25433.640000000003,18716.95,16144.86,11624.49,0,0,0,0,0]
["1 Child","Hijo",null,{"$f":"+D504*$L$2","v":534.77},442.02000000000004,312.17,270.3,229.49,0,0,0,0,0]
["2 Children","Hijos",null,{"$f":"+D505*$L$2","v":900.47},657.2,491.84000000000003,425.06,364.11,0,0,0,0,0]
["3+ Children","Hijos o más",null,{"$f":"+D506*$L$2","v":1320.76},943.93000000000006,712.85,615.33000000000004,525.76,0,0,0,0,0]
[1,"Rider Comp. Maternidad",null,{"$f":"+D507*$L$2","v":119.25},119.25,119.25,119.25,119.25]
[1,"Transplante de organos",null,{"$f":"+D508*$L$2","v":159},159,159,159,159]
[]
["BUPA ALPHA - ZONE 6"]
["TARIFAS ANUALES"]
["EDAD"]
[" "," ",null,"DW2","DW3","DW4","DW5","DW6","DW2","DW3","DW4","DW5","DW6"]
[18,null,null,3253,2519,1946,1685,1286,0,0,0,0,0]
[19,null,null,3338,2596,2004,1732,1322,0,0,0,0,0]
[20,null,null,3426,2673,2060,1786,1356,0,0,0,0,0]
[21,null,null,3519,2757,2118,1834,1394,0,0,0,0,0]
[22,null,null,3610,2844,2178,1885,1432,0,0,0,0,0]
[23,null,null,3701,2925,2242,1941,1473,0,0,0,0,0]
[24,null,null,3798,3010,2301,1990,1511,0,0,0,0,0]
[25,null,null,3885,3098,2361,2045,1549,0,0,0,0,0]
[26,null,null,3981,3182,2424,2095,1586,0,0,0,0,0]
[27,null,null,4073,3264,2481,2149,1625,0,0,0,0,0]
[28,null,null,4222,3377,2522,2194,1686,0,0,0,0,0]
[29,null,null,4372,3492,2562,2240,1749,0,0,0,0,0]
[30,null,null,4524,3601,2603,2281,1811,0,0,0,0,0]
[31,null,null,4674,3715,2640,2325,1872,0,0,0,0,0]
[32,null,null,4824,3827,2681,2374,1933,0,0,0,0,0]
[33,null,null,4920,3912,2752,2422,1980,0,0,0,0,0]
[34,null,null,5025,3995,2814,2464,2024,0,0,0,0,0]
[35,null,null,5122,4077,2885,2516,2072,0,0,0,0,0]
[36,null,null,5221,4161,2951,2562,2117,0,0,0,0,0]
[37,null,null,5327,4243,3020,2614,2162,0,0,0,0,0]
[38,null,null,5421,4340,3068,2661,2204,0,0,0,0,0]
[39,null,null,5521,4433,3122,2713,2251,0,0,0,0,0]
[40,null,null,5624,4525,3172,2765,2297,0,0,0,0,0]
[41,null,null,5719,4619,3225,2812,2338,0,0,0,0,0]
[42,null,null,5818,4713,3276,2866,2380,0,0,0,0,0]
[43,null,null,6024,4897,3396,2973,2464,0,0,0,0,0]
[44,null,null,6224,5077,3520,3076,2558,0,0,0,0,0]
[45,null,null,6426,5263,3643,3182,2643,0,0,0,0,0]
[46,null,null,6633,5447,3769,3286,2733,0,0,0,0,0]
[47,null,null,6835,5630,3886,3393,2822,0,0,0,0,0]
[48,null,null,7028,5731,4002,3493,2870,0,0,0,0,0]
[49,null,null,7225,5835,4109,3594,2923,0,0,0,0,0]
[50,null,null,7420,5937,4221,3691,2973,0,0,0,0,0]
[51,null,null,7614,6039,4330,3786,3021,0,0,0,0,0]
[52,null,null,7807,6137,4441,3883,3069,0,0,0,0,0]
[53,null,null,8082,6380,4605,4028,3183,0,0,0,0,0]
[54,null,null,8356,6613,4772,4169,3298,0,0,0,0,0]
[55,null,null,8632,6851,4935,4315,3409,0,0,0,0,0]
[56,null,null,8912,7091,5098,4454,3520,0,0,0,0,0]
[57,null,null,9183,7330,5263,4601,3637,0,0,0,0,0]
[58,null,null,9666,7821,5606,4910,3899,0,0,0,0,0]
[59,null,null,10153,8315,5946,5219,4166,0,0,0,0,0]
[60,null,null,10639,8807,6288,5528,4439,0,0,0,0,0]
[61,null,null,11223,9320,6647,5858,4706,0,0,0,0,0]
[62,null,null,11866,9849,7010,6195,4981,0,0,0,0,0]
[63,null,null,12506,10403,7381,6537,5261,0,0,0,0,0]
[64,null,null,13182,10999,7780,6885,5537,0,0,0,0,0]
[65,null,null,13897,11616,8300,7247,5818,0,0,0,0,0]
[66,null,null,14786,12323,8888,7754,6167,0,0,0,0,0]
[67,null,null,15968,13307,9608,8352,6665,0,0,0,0,0]
[68,null,null,17311,14435,10413,9059,7229,0,0,0,0,0]
[69,null,null,18901,15757,11372,9887,7890,0,0,0,0,0]
[70,null,null,20723,17536,12402,10894,8679,0,0,0,0,0]
[71,null,null,22821,19321,13735,12000,9566,0,0,0,0,0]
[72,null,null,25243,21366,15196,13283,10587,0,0,0,0,0]
[73,null,null,28030,23708,16871,14743,11754,0,0,0,0,0]
[74,null,null,31249,26435,18814,16387,13106,0,0,0,0,0]
[75,null,null,34885,30721,21706,18795,14555,0,0,0,0,0]
[76,null,null,41232,36298,25199,21725,16796,0,0,0,0,0]
[77,null,null,47728,42002,29430,25371,19258,0,0,0,0,0]
[78,null,null,55500,47964,34031,29339,22055,0,0,0,0,0]
[79,null,null,63425,54445,39730,34252,25193,0,0,0,0,0]
[80,null,null,72309,62224,45802,39484,28438,0,0,0,0,0]
["1 Child","Hijo",null,1436,1185,833,724,613,0,0,0,0,0]
["2 Children","Hijos",null,2417,1764,1322,1139,977,0,0,0,0,0]
["3+ Children","Hijos o más",null,3553,2534,1912,1656,1411,0,0,0,0,0]
[1,"Rider Comp. Maternidad",null,225,225,225,225,225]
[1,"Transplante de organos",null,300,300,300,300,300]
[]
["TARIFAS SEMESTRALES "]
["EDAD"]
[" "," ",null,"DW2","DW3","DW4","DW5","DW6","DW2","DW3","DW4","DW5","DW6"]
[18,null,null,{"$f":"+D586*$L$2","v":1724.0900000000001},1335.0700000000002,1031.3800000000001,893.05000000000007,681.58,0,0,0,0,0]
[19,null,null,{"$f":"+D587*$L$2","v":1769.14},1375.88,1062.1200000000001,917.96,700.66000000000008,0,0,0,0,0]
[20,null,null,{"$f":"+D588*$L$2","v":1815.7800000000002},1416.69,1091.8,946.58,718.68000000000006,0,0,0,0,0]
[21,null,null,{"$f":"+D589*$L$2","v":1865.0700000000002},1461.21,1122.54,972.0200000000001,738.82,0,0,0,0,0]
[22,null,null,{"$f":"+D590*$L$2","v":1913.3000000000002},1507.3200000000002,1154.3400000000001,999.05000000000007,758.96,0,0,0,0,0]
[23,null,null,{"$f":"+D591*$L$2","v":1961.5300000000002},1550.25,1188.26,1028.73,780.69,0,0,0,0,0]
[24,null,null,{"$f":"+D592*$L$2","v":2012.94},1595.3000000000002,1219.53,1054.7,800.83,0,0,0,0,0]
[25,null,null,{"$f":"+D593*$L$2","v":2059.0500000000002},1641.94,1251.3300000000002,1083.8500000000001,820.97,0,0,0,0,0]
[26,null,null,{"$f":"+D594*$L$2","v":2109.9300000000003},1686.46,1284.72,1110.3500000000001,840.58,0,0,0,0,0]
[27,null,null,{"$f":"+D595*$L$2","v":2158.69},1729.92,1314.93,1138.97,861.25,0,0,0,0,0]
[28,null,null,{"$f":"+D596*$L$2","v":2237.6600000000003},1789.8100000000002,1336.66,1162.8200000000002,893.58,0,0,0,0,0]
[29,null,null,{"$f":"+D597*$L$2","v":2317.1600000000003},1850.76,1357.8600000000001,1187.2,926.97,0,0,0,0,0]
[30,null,null,{"$f":"+D598*$L$2","v":2397.7200000000003},1908.5300000000002,1379.5900000000001,1208.93,959.83,0,0,0,0,0]
[31,null,null,{"$f":"+D599*$L$2","v":2477.2200000000003},1968.95,1399.2,1232.25,992.16000000000008,0,0,0,0,0]
[32,null,null,{"$f":"+D600*$L$2","v":2556.7200000000003},2028.3100000000002,1420.93,1258.22,1024.49,0,0,0,0,0]
[33,null,null,{"$f":"+D601*$L$2","v":2607.6},2073.36,1458.5600000000002,1283.6600000000001,1049.4000000000001,0,0,0,0,0]
[34,null,null,{"$f":"+D602*$L$2","v":2663.25},2117.35,1491.42,1305.92,1072.72,0,0,0,0,0]
[35,null,null,{"$f":"+D603*$L$2","v":2714.6600000000003},2160.81,1529.0500000000002,1333.48,1098.1600000000001,0,0,0,0,0]
[36,null,null,{"$f":"+D604*$L$2","v":2767.13},2205.33,1564.03,1357.8600000000001,1122.01,0,0,0,0,0]
[37,null,null,{"$f":"+D605*$L$2","v":2823.31},2248.79,1600.6000000000001,1385.42,1145.8600000000001,0,0,0,0,0]
[38,null,null,{"$f":"+D606*$L$2","v":2873.13},2300.2000000000003,1626.0400000000002,1410.3300000000002,1168.1200000000001,0,0,0,0,0]
[39,null,null,{"$f":"+D607*$L$2","v":2926.13},2349.4900000000002,1654.66,1437.89,1193.03,0,0,0,0,0]
[40,null,null,{"$f":"+D608*$L$2","v":2980.7200000000003},2398.25,1681.16,1465.45,1217.4100000000001,0,0,0,0,0]
[41,null,null,{"$f":"+D609*$L$2","v":3031.07},2448.0700000000002,1709.25,1490.3600000000001,1239.1400000000001,0,0,0,0,0]
[42,null,null,{"$f":"+D610*$L$2","v":3083.54},2497.8900000000003,1736.2800000000002,1518.98,1261.4000000000001,0,0,0,0,0]
[43,null,null,{"$f":"+D611*$L$2","v":3192.7200000000003},2595.4100000000003,1799.88,1575.69,1305.92,0,0,0,0,0]
[44,null,null,{"$f":"+D612*$L$2","v":3298.7200000000003},2690.81,1865.6000000000001,1630.28,1355.74,0,0,0,0,0]
[45,null,null,{"$f":"+D613*$L$2","v":3405.78},2789.3900000000003,1930.7900000000002,1686.46,1400.79,0,0,0,0,0]
[46,null,null,{"$f":"+D614*$L$2","v":3515.4900000000002},2886.9100000000003,1997.5700000000002,1741.5800000000002,1448.49,0,0,0,0,0]
[47,null,null,{"$f":"+D615*$L$2","v":3622.55},2983.9,2059.58,1798.2900000000002,1495.66,0,0,0,0,0]
[48,null,null,{"$f":"+D616*$L$2","v":3724.84},3037.4300000000003,2121.06,1851.2900000000002,1521.1000000000001,0,0,0,0,0]
[49,null,null,{"$f":"+D617*$L$2","v":3829.25},3092.55,2177.77,1904.8200000000002,1549.19,0,0,0,0,0]
[50,null,null,{"$f":"+D618*$L$2","v":3932.6000000000004},3146.61,2237.13,1956.23,1575.69,0,0,0,0,0]
[51,null,null,{"$f":"+D619*$L$2","v":4035.42},3200.67,2294.9,2006.5800000000002,1601.13,0,0,0,0,0]
[52,null,null,{"$f":"+D620*$L$2","v":4137.71},3252.61,2353.73,2057.9900000000002,1626.5700000000002,0,0,0,0,0]
[53,null,null,{"$f":"+D621*$L$2","v":4283.46},3381.4,2440.65,2134.84,1686.99,0,0,0,0,0]
[54,null,null,{"$f":"+D622*$L$2","v":4428.68},3504.8900000000003,2529.1600000000003,2209.5700000000002,1747.94,0,0,0,0,0]
[55,null,null,{"$f":"+D623*$L$2","v":4574.96},3631.03,2615.5500000000002,2286.9500000000003,1806.77,0,0,0,0,0]
[56,null,null,{"$f":"+D624*$L$2","v":4723.3600000000006},3758.23,2701.94,2360.6200000000003,1865.6000000000001,0,0,0,0,0]
[57,null,null,{"$f":"+D625*$L$2","v":4866.9900000000007},3884.9,2789.3900000000003,2438.5300000000002,1927.6100000000001,0,0,0,0,0]
[58,null,null,{"$f":"+D626*$L$2","v":5122.9800000000005},4145.13,2971.1800000000003,2602.3000000000002,2066.4700000000003,0,0,0,0,0]
[59,null,null,{"$f":"+D627*$L$2","v":5381.09},4406.95,3151.38,2766.07,2207.98,0,0,0,0,0]
[60,null,null,{"$f":"+D628*$L$2","v":5638.67},4667.71,3332.6400000000003,2929.84,2352.67,0,0,0,0,0]
[61,null,null,{"$f":"+D629*$L$2","v":5948.1900000000005},4939.6000000000004,3522.9100000000003,3104.7400000000002,2494.1800000000003,0,0,0,0,0]
[62,null,null,{"$f":"+D630*$L$2","v":6288.9800000000005},5219.97,3715.3,3283.3500000000004,2639.9300000000003,0,0,0,0,0]
[63,null,null,{"$f":"+D631*$L$2","v":6628.18},5513.59,3911.9300000000003,3464.61,2788.33,0,0,0,0,0]
[64,null,null,{"$f":"+D632*$L$2","v":6986.46},5829.47,4123.4000000000005,3649.05,2934.61,0,0,0,0,0]
[65,null,null,{"$f":"+D633*$L$2","v":7365.4100000000008},6156.4800000000005,4399,3840.9100000000003,3083.54,0,0,0,0,0]
[66,null,null,{"$f":"+D634*$L$2","v":7836.5800000000008},6531.1900000000005,4710.6400000000003,4109.62,3268.51,0,0,0,0,0]
[67,null,null,{"$f":"+D635*$L$2","v":8463.0400000000009},7052.71,5092.2400000000007,4426.5600000000004,3532.4500000000003,0,0,0,0,0]
[68,null,null,{"$f":"+D636*$L$2","v":9174.83},7650.55,5518.89,4801.2700000000004,3831.3700000000003,0,0,0,0,0]
[69,null,null,{"$f":"+D637*$L$2","v":10017.530000000001},8351.2100000000009,6027.16,5240.1100000000006,4181.7,0,0,0,0,0]
[70,null,null,{"$f":"+D638*$L$2","v":10983.19},9294.08,6573.06,5773.8200000000006,4599.87,0,0,0,0,0]
[71,null,null,{"$f":"+D639*$L$2","v":12095.130000000001},10240.130000000001,7279.55,6360,5069.9800000000005,0,0,0,0,0]
[72,null,null,{"$f":"+D640*$L$2","v":13378.79},11323.980000000001,8053.88,7039.9900000000007,5611.1100000000006,0,0,0,0,0]
[73,null,null,{"$f":"+D641*$L$2","v":14855.900000000001},12565.24,8941.630000000001,7813.79,6229.62,0,0,0,0,0]
[74,null,null,{"$f":"+D642*$L$2","v":16561.97},14010.550000000001,9971.42,8685.11,6946.18,0,0,0,0,0]
[75,null,null,{"$f":"+D643*$L$2","v":18489.05},16282.130000000001,11504.18,9961.35,7714.1500000000005,0,0,0,0,0]
[76,null,null,{"$f":"+D644*$L$2","v":21852.960000000003},19237.940000000002,13355.470000000001,11514.25,8901.880000000001,0,0,0,0,0]
[77,null,null,{"$f":"+D645*$L$2","v":25295.84},22261.06,15597.900000000001,13446.630000000001,10206.74,0,0,0,0,0]
[78,null,null,{"$f":"+D646*$L$2","v":29415},25420.920000000002,18036.43,15549.67,11689.150000000001,0,0,0,0,0]
[79,null,null,{"$f":"+D647*$L$2","v":33615.25},28855.850000000002,21056.9,18153.560000000001,13352.29,0,0,0,0,0]
[80,null,null,{"$f":"+D648*$L$2","v":38323.770000000004},32978.720000000001,24275.06,20926.52,15072.140000000001,0,0,0,0,0]
["1 Child","Hijo",null,{"$f":"+D649*$L$2","v":761.08},628.05000000000007,441.49,383.72,324.89000000000004,0,0,0,0,0]
["2 Children","Hijos",null,{"$f":"+D650*$L$2","v":1281.01},934.92000000000007,700.66000000000008,603.67000000000007,517.81000000000006,0,0,0,0,0]
["3+ Children","Hijos o más",null,{"$f":"+D651*$L$2","v":1883.0900000000001},1343.02,1013.36,877.68000000000006,747.83,0,0,0,0,0]
[1,"Rider Comp. Maternidad",null,{"$f":"+D652*$L$2","v":119.25},119.25,119.25,119.25,119.25]
[1,"Transplante de organos",null,{"$f":"+D653*$L$2","v":159},159,159,159,159]