{"text_format":"1","workbook":"xlsx","n_sheets":6,"sheets":["INGRESO DE DATOS","Privilege-Care-International","Advantage (LA)","Secure-Care-International","Resumen-Tarifas-Anuales","Tablas"],"not_rendered":{"charts":0,"images":4,"macros":1,"external_links":0,"defined_names":0,"comments":1,"pivot_tables":0},"unopened":[],"bounds":{"document_bytes":16777216,"sheet_cells":100000,"rows_first":2000,"rows_last":500,"rows_between":2000,"halvings":0,"cell_chars":16384,"cell_head_chars":4096},"cells_cut":0,"cells_raw":0,"read":"whole","date_system":"1900"}

{"sheet":"INGRESO DE DATOS","index":0,"n_rows":23,"n_cols":12,"rows_kept":23,"cut":false,"hidden":false,"merged":[[10,1,10,2],[19,1,19,2],[14,7,14,8],[10,3,10,9],[19,3,19,6],[12,3,12,5],[12,7,12,8],[14,4,14,5]]}
[]
[null,null,null,null,null,null,null,null," "," "," "]
[]
[]
[]
[]
[null,null,null,null,null,null,null,null," "," "," "," "]
[]
["INGRESE LOS DATOS DEL PROPUESTO ASEGURADO: "]
[]
[null,"Nombre del Asegurado principal:",null,"NOMBRE Y APELLIDO"]
[]
[null,null,null,"Número de adultos en la póliza: ",null,null,2,"Número de hijos en la póliza: ",null,3]
[]
[null,null,null,null," Edad del titular: ",null,54,"Edad de cónyuge: ",null,54]
[]
[]
["INGRESE EL NOMBRE DE LA AGENCIA ASESORA: "]
[]
[null,"Nombre de la Agencia: ",null,"AGENCIA"]
[]
[]
["ESCOJA EL PRODUCTO PARA VISUALIZAR LA COTIZACIÓN RESPECTIVA: "]

{"sheet":"Privilege-Care-International","index":1,"n_rows":54,"n_cols":13,"rows_kept":54,"cut":false,"hidden":false,"merged":[[50,7,50,11],[43,2,43,3],[42,2,42,3],[33,2,33,3],[31,2,31,3],[32,2,32,3],[37,2,37,3],[41,2,41,3],[53,7,53,12],[14,7,14,12],[44,2,45,3],[34,2,34,3],[35,2,35,3],[32,7,32,12],[41,7,41,12],[16,7,16,12],[24,9,24,10],[24,7,24,8],[14,0,14,3],[15,0,15,1],[16,0,16,1],[17,0,17,1],[18,0,18,1],[52,7,52,12],[27,0,27,1],[16,2,16,3],[12,0,12,12],[19,0,19,1],[18,2,18,3],[17,2,17,3],[15,2,15,3],[19,2,19,3],[20,2,21,3],[27,2,27,3],[25,2,25,3],[11,0,11,12],[26,2,26,3],[22,2,22,3],[24,2,24,3],[22,0,22,1],[20,0,21,1],[23,0,24,1],[23,2,23,3],[25,0,26,1],[41,0,41,1],[32,0,32,1],[33,0,33,1],[44,0,45,1],[42,0,42,1],[43,0,43,1],[28,0,28,1],[40,2,40,3],[36,0,36,1],[37,0,37,1],[38,0,38,1],[39,0,39,1],[34,0,34,1],[40,0,40,1],[31,0,31,1],[35,0,35,1],[38,2,38,3],[39,2,39,3],[36,2,36,3],[29,0,30,1],[28,2,28,3],[29,2,30,3]]}
[]
[null,null,null,null,null,null,null,null,null," "," "," "]
[]
[]
[]
[null,null,null,null,null,null,null,null,null," "," "," "," "]
[]
[]
[]
[]
[]
["Cotización de Seguro Médico Internacional — PRIVILEGE CARE INTERNATIONAL"]
["ESTE PRODUCTO SOLO CUBRE GASTOS MEDICOS FUERA DE VENEZUELA"]
[]
["PRIVILEGE CARE INTERNATIONAL",null,null,null,null,null,null,{"$f":"+'INGRESO DE DATOS'!$D$11","v":"NOMBRE Y APELLIDO"}]
[]
[null,null,null,null,null,null,null,{"$f":"+'INGRESO DE DATOS'!$D$20","v":"AGENCIA"}]
[]
[null,null,null,null,null,null,null,null,null,{"$f":"+'INGRESO DE DATOS'!$G$13","v":2},null,null,{"$f":"+'INGRESO DE DATOS'!$G$15","v":54}]
[]
[null,null,null,null,null,null,null,null,null,{"$f":"+'INGRESO DE DATOS'!$J$13","v":3},null,null,{"$f":"+'INGRESO DE DATOS'!$J$15","v":54}]
[null,null,null,null,null,null,null,null,null," "," "," "]
[null,null,null,null,null,null,null,null,false,null,"COMPLICACIONES DE MATERNIDAD"]
[]
[null,null,null,null,null,null,null,"FECHA DE COTIZACION :",null,{"$f":"NOW()","v":"2023-01-17T12:25:17.500"}]
[]
[null,null,null,null,null,null," "]
[null,null,null,null,null,null,null,"Deducibles",null,"PLAN 1","PLAN 2","PLAN 3","PLAN 4"]
[null,null,null,null,null,null,null,"Dentro del pais de residencia",null,"n/a","n/a","n/a","n/a"]
[null,null,null,null,null,null,null,"Fuera del pais de residencia",null,2000,5000,10000,20000]
[]
[]
[null,null,null,null,null,null,null,"TARIFAS ANUALES"]
[null,null,null,null,null,null,null,"Prima de Titular :",null,{"$f":"VLOOKUP($M$19,Tablas!$A$140:$H$163,5,TRUE)","v":6076},{"$f":"VLOOKUP($M$19,Tablas!$A$140:$H$163,6,TRUE)","v":4319},{"$f":"VLOOKUP($M$19,Tablas!$A$140:$H$163,7,TRUE)","v":3562},{"$f":"VLOOKUP($M$19,Tablas!$A$140:$H$163,8,TRUE)","v":2723}]
[null,null,null,null,null,null,null,"Prima de Cónyuge",null,{"$f":"IF($J$19=1,0,(VLOOKUP($M$21,Tablas!$A$140:$H$163,5,TRUE)))","v":6076},{"$f":"IF($J$19=1,0,(VLOOKUP($M$21,Tablas!$A$140:$H$163,6,TRUE)))","v":4319},{"$f":"IF($J$19=1,0,(VLOOKUP($M$21,Tablas!$A$140:$H$163,7,TRUE)))","v":3562},{"$f":"IF($J$19=1,0,(VLOOKUP($M$21,Tablas!$A$140:$H$163,8,TRUE)))","v":2723}]
[null,null,null,null,null,null,null,"Primas Hijos :",null,{"$f":"IF($J$21=0,0,(VLOOKUP($J$21,Tablas!$A$164:$H$166,5,TRUE)))","v":2535},{"$f":"IF($J$21=0,0,(VLOOKUP($J$21,Tablas!$A$164:$H$166,6,TRUE)))","v":1801},{"$f":"IF($J$21=0,0,(VLOOKUP($J$21,Tablas!$A$164:$H$166,7,TRUE)))","v":1522},{"$f":"IF($J$21=0,0,(VLOOKUP($J$21,Tablas!$A$164:$H$166,8,TRUE)))","v":1124}]
[null,null,null,null,null,null,null,"Prima Rider Complic. Maternidad",null,{"$f":"+IF($I$23=FALSE,0,Tablas!F$167)","v":0},{"$f":"+IF($I$23=FALSE,0,Tablas!G$167)","v":0},{"$f":"+IF($I$23=FALSE,0,Tablas!H$167)","v":0},{"$f":"+IF($I$23=FALSE,0,Tablas!H$167)","v":0}]
[null,null,null,null,null,null,null,"TOTAL PRIMA NETA :",null,{"$f":"SUM(J34:J37)","v":14687},{"$f":"SUM(K34:K37)","v":10439},{"$f":"SUM(L34:L37)","v":8646},{"$f":"SUM(M34:M37)","v":6570}]
[null,null,null,null,null,null,null,"Costo Administrativo Anual :",null,75,75,75,75]
[null,null,null,null,null,null,null,"GRAN TOTAL :",null,{"$f":"SUM(J38:J39)","v":14762},{"$f":"SUM(K38:K39)","v":10514},{"$f":"SUM(L38:L39)","v":8721},{"$f":"SUM(M38:M39)","v":6645}]
[]
[null,null,null,null,null,null,null,"TARIFAS SEMESTRALES"]
[null,null,null,null,null,null,null,"Prima de Titular :",null,{"$f":"VLOOKUP($M$19,Tablas!$A$173:$H$196,5,TRUE)","v":3220.28},{"$f":"VLOOKUP($M$19,Tablas!$A$173:$H$196,6,TRUE)","v":2289.0700000000002},{"$f":"VLOOKUP($M$19,Tablas!$A$173:$H$196,7,TRUE)","v":1887.8600000000001},{"$f":"VLOOKUP($M$19,Tablas!$A$173:$H$196,8,TRUE)","v":1443.19}]
[null,null,null,null,null,null,null,"Prima de Cónyuge",null,{"$f":"IF($J$19=1,0,(VLOOKUP($M$21,Tablas!$A$173:$H$196,5,TRUE)))","v":3220.28},{"$f":"IF($J$19=1,0,(VLOOKUP($M$21,Tablas!$A$173:$H$196,6,TRUE)))","v":2289.0700000000002},{"$f":"IF($J$19=1,0,(VLOOKUP($M$21,Tablas!$A$173:$H$196,7,TRUE)))","v":1887.8600000000001},{"$f":"IF($J$19=1,0,(VLOOKUP($M$21,Tablas!$A$173:$H$196,8,TRUE)))","v":1443.19}]
[null,null,null,null,null,null,null,"Primas Hijos :",null,{"$f":"IF($J$21=0,0,(VLOOKUP($J$21,Tablas!$A$197:$H$199,5,TRUE)))","v":1343.55},{"$f":"IF($J$21=0,0,(VLOOKUP($J$21,Tablas!$A$197:$H$199,6,TRUE)))","v":954.53000000000009},{"$f":"IF($J$21=0,0,(VLOOKUP($J$21,Tablas!$A$197:$H$199,7,TRUE)))","v":806.66000000000008},{"$f":"IF($J$21=0,0,(VLOOKUP($J$21,Tablas!$A$197:$H$199,8,TRUE)))","v":595.72}]
[null,null,null,null,null,null,null,"Prima Rider Complic. Maternidad",null,{"$f":"+IF($I$23=FALSE,0,Tablas!F$200)","v":0},{"$f":"+IF($I$23=FALSE,0,Tablas!G$200)","v":0},{"$f":"+IF($I$23=FALSE,0,Tablas!H$200)","v":0},{"$f":"+IF($I$23=FALSE,0,Tablas!H$200)","v":0}]
[null,null,null,null,null,null,null,"TOTAL PRIMA NETA :",null,{"$f":"SUM(J43:J46)","v":7784.1100000000006},{"$f":"SUM(K43:K46)","v":5532.67},{"$f":"SUM(L43:L46)","v":4582.38},{"$f":"SUM(M43:M46)","v":3482.1000000000004}]
[null," ",null,null,null,null,null,"Costo Administrativo Anual :",null,75,75,75,75]
[null," ",null,null,null,null,null,"GRAN TOTAL  (1ra Cuota) :",null,{"$f":"SUM(J47:J48)","v":7859.1100000000006},{"$f":"SUM(K47:K48)","v":5607.67},{"$f":"SUM(L47:L48)","v":4657.38},{"$f":"SUM(M47:M48)","v":3557.1000000000004}]
[null,null,null,null,null,null,null,"GRAN TOTAL  (2da Cuota) :",null,{"$f":"J47","v":7784.1100000000006},5532.67,4582.38,{"$f":"M47","v":3482.1000000000004}]
[]
[]
[null,null,null,null,null,null,null,"TARIFAS EN US$ — VÁLIDAS DESDE  01 ENERO  DE 2023"]
[null,null,null,null,null,null,null,"Este presupuesto solamente tiene carácter informativo y en ningún momento expresa compromiso legal para suministrarle cobertura de seguro. La emisión de una póliza de seguro Bupa está sujeta a todas las evaluaciones de riesgo por parte de Bupa y a la recepción de todos los pagos de prima requeridos."]

{"sheet":"Advantage (LA)","index":2,"n_rows":50,"n_cols":13,"rows_kept":50,"cut":false,"hidden":true,"merged":[[45,0,46,1],[42,0,42,1],[41,2,41,3],[42,2,42,3],[43,0,43,1],[43,2,43,3],[44,0,44,1],[44,2,44,3],[39,0,39,1],[40,0,40,1],[39,2,39,3],[41,0,41,1],[40,2,40,3],[22,0,23,1],[24,0,24,1],[33,0,33,1],[34,0,34,1],[38,2,38,3],[38,0,38,1],[35,0,35,1],[35,2,35,3],[36,0,36,1],[36,2,36,3],[34,2,34,3],[19,0,19,1],[28,0,28,1],[28,2,28,3],[32,0,32,1],[25,2,25,3],[25,0,25,1],[26,0,26,1],[26,2,26,3],[32,2,32,3],[21,2,21,3],[22,2,22,3],[31,2,31,3],[27,0,27,1],[29,0,29,1],[30,0,31,1],[20,0,21,1],[49,5,49,12],[12,2,12,3],[13,2,13,3],[14,2,14,3],[15,2,15,3],[27,2,27,3],[16,2,16,3],[20,2,20,3],[17,2,18,3],[29,2,29,3],[30,2,30,3],[23,2,23,3],[24,2,24,3],[19,2,19,3],[33,2,33,3],[45,2,46,3],[9,0,9,12],[11,7,11,12],[13,7,13,12],[17,5,17,6],[16,5,16,6],[11,0,11,3],[17,0,18,1],[12,0,12,1],[13,0,13,1],[14,0,14,1],[15,0,15,1],[16,0,16,1]]}
[]
[null,null,null,null,null,null,null,null,null," "," "," "]
[]
[]
[]
[null,null,null,null,null,null,null,null,null," "," "," "," "]
[]
[]
[]
["Cotización de Seguro Médico Internacional - Bupa ADVANTAGE Care (cobertura solo Latinoamérica)"]
[]
["Bupa Advantage Care (cobertura solo en Latinoamérica)",null,null,null,null,null,null,{"$f":"+'INGRESO DE DATOS'!$D$11","v":"NOMBRE Y APELLIDO"}]
["Cobertura Máxima anual",null,"US $ 3,500,000"]
["Cobertura Geografica",null,"Limitada a Latinoamérica excluyendo México",null,null,null,null,{"$f":"+'INGRESO DE DATOS'!$D$20","v":"AGENCIA"}]
["Condiciones médicas cubiertas",null,"Todas las condiciones médicas"]
["Redes de proveedores",null,"Red de Proveedores \"Bupa Advantage\"",null,null,null,null,null,null,{"$f":"+'INGRESO DE DATOS'!$G$13","v":2},null,null,{"$f":"+'INGRESO DE DATOS'!$G$15","v":54}]
["Opciones fuera de la Red",null,"NO, solo en casos de emergencia",null,null,"FECHA DE COTIZACION :"]
["Requiere preautorización",null,"SI, 30% de penalización por omitir prenotificación",null,null,{"$f":"NOW()","v":"2023-01-17T12:25:17.500"},null,null,null,{"$f":"+'INGRESO DE DATOS'!$J$13","v":3},null,null,{"$f":"+'INGRESO DE DATOS'!$J$15","v":54}]
[null,null,null,null,null,null,null,null,null," "," "," "]
["Número máximo de días de hospitalización",null,"Ilimitado",null,null,null,null,null,true,null,"COMPLICACIONES DE MATERNIDAD"]
["Habitación y alimentación",null,"100% dentro de Red Bupa"]
[null,null,"\"UCR\" para L.A. en emergencias fuera de  Red Bupa",null,null,null,null,null,true,null,"TRASPLANTE DE ORGANOS"]
["Cuidados Intensivos",null,"100% dentro de Red Bupa"]
[null,null,"\"UCR\" para L.A. en emergencias fuera de  Red Bupa",null,null,null," "]
["Cobertura de Maternidad",null,"$5,000 (Excepto planes 4,5, y 6)",null,null,"Deducibles",null,"PLAN 1","PLAN 2","PLAN 3","PLAN 4","PLAN 5","PLAN 6"]
["Cobertura Provisional de Recién Nacido",null,"$30,000 por los primeros 90 días",null,null,"Dentro del pais de residencia",null,"n/a",1000,2000,5000,10000,20000]
["Cuidado del Recién Nacido saludable",null,"Ya incluída dentro del beneficio de Maternidad",null,null,"Fuera del pais de residencia",null,"n/a",2000,3000,5000,10000,20000]
["Cobertura de Complicaciones de Maternidad",null,"Disponible a través de cobertura opcional adicional"]
["Trasplante de Organos",null,"$1,000,000 de por vida, por diagnóstico"]
["Condiciones congénitas y hereditarias",null,"<18 años $300,000 de por vida; >=18 al 100%",null,null,"Tarifas Anuales"]
["Coberturas opcionales (Riders)",null,"Complicaciones de Maternidad por $500,000",null,null,"Prima de Titular :",null,"n/a",{"$f":"VLOOKUP($M$16,Tablas!$A$341:$H$364,4,TRUE)","v":{"$error":"#N/A"}},{"$f":"VLOOKUP($M$16,Tablas!$A$341:$H$364,5,TRUE)","v":{"$error":"#N/A"}},{"$f":"VLOOKUP($M$16,Tablas!$A$341:$H$364,6,TRUE)","v":{"$error":"#N/A"}},{"$f":"VLOOKUP($M$16,Tablas!$A$341:$H$364,7,TRUE)","v":{"$error":"#N/A"}},{"$f":"VLOOKUP($M$16,Tablas!$A$341:$H$364,8,TRUE)","v":{"$error":"#N/A"}}]
[null,null,"Trasplante de órganos por $ 300,000 adicionales",null,null,"Prima de Cónyuge",null,"n/a",{"$f":"IF($J$16=1,0,(VLOOKUP($M$18,Tablas!$A$341:$H$364,4,TRUE)))","v":{"$error":"#N/A"}},{"$f":"IF($J$16=1,0,(VLOOKUP($M$18,Tablas!$A$341:$H$364,5,TRUE)))","v":{"$error":"#N/A"}},{"$f":"IF($J$16=1,0,(VLOOKUP($M$18,Tablas!$A$341:$H$364,6,TRUE)))","v":{"$error":"#N/A"}},{"$f":"IF($J$16=1,0,(VLOOKUP($M$18,Tablas!$A$341:$H$364,7,TRUE)))","v":{"$error":"#N/A"}},{"$f":"IF($J$16=1,0,(VLOOKUP($M$18,Tablas!$A$341:$H$364,8,TRUE)))","v":{"$error":"#N/A"}}]
["Acompañamiento de menores hospitalizados",null,"$300 por día",null,null,"Primas Hijos :",null,"n/a",{"$f":"IF($J$18=0,0,(VLOOKUP($J$18,Tablas!$A$365:$H$367,4,TRUE)))","v":{"$error":"#N/A"}},{"$f":"IF($J$18=0,0,(VLOOKUP($J$18,Tablas!$A$365:$H$367,5,TRUE)))","v":{"$error":"#N/A"}},{"$f":"IF($J$18=0,0,(VLOOKUP($J$18,Tablas!$A$365:$H$367,6,TRUE)))","v":{"$error":"#N/A"}},{"$f":"IF($J$18=0,0,(VLOOKUP($J$18,Tablas!$A$365:$H$367,7,TRUE)))","v":{"$error":"#N/A"}},{"$f":"IF($J$18=0,0,(VLOOKUP($J$18,Tablas!$A$365:$H$367,8,TRUE)))","v":{"$error":"#N/A"}}]
["Ambulancia aérea",null,"$100,000 por año y ticket aéreo de retorno",null,null,"Prima Rider Complic. Maternidad",null,"n/a",{"$f":"+IF($I$20=FALSE,0,Tablas!D$368)","v":0},{"$f":"+IF($I$20=FALSE,0,Tablas!E$368)","v":0},{"$f":"+IF($I$20=FALSE,0,Tablas!F$368)","v":0},{"$f":"+IF($I$20=FALSE,0,Tablas!G$368)","v":0},{"$f":"+IF($I$20=FALSE,0,Tablas!H$368)","v":0}]
["Repatriación restos mortales",null,1,null,null,"Prima Rider Trasplante Organos",null,"n/a",{"$f":"IF($I$22=FALSE,0,Tablas!D$369)","v":0},{"$f":"IF($I$22=FALSE,0,Tablas!E$369)","v":0},{"$f":"IF($I$22=FALSE,0,Tablas!F$369)","v":0},{"$f":"IF($I$22=FALSE,0,Tablas!G$369)","v":0},{"$f":"IF($I$22=FALSE,0,Tablas!H$369)","v":0}]
["Medicamentos por receta",null,"$6,000 por Asegurado, por año póliza",null,null,"TOTAL PRIMA NETA :",null,"n/a",{"$f":"SUM(I31:I35)","v":{"$error":"#N/A"}},{"$error":"#N/A"},{"$error":"#N/A"},{"$error":"#N/A"},{"$error":"#N/A"}]
["Almacenamiento de sangre de cordon umbilical",null,"$500  (Excepto planes 4,5, y 6)",null,null,"Costo Administrativo Anual :",null,"n/a",75,75,75,75,75]
[null,null,null,null,null,"GRAN TOTAL :",null,"n/a",{"$f":"SUM(I36:I37)","v":{"$error":"#N/A"}},{"$f":"SUM(J36:J37)","v":{"$error":"#N/A"}},{"$f":"SUM(K36:K37)","v":{"$error":"#N/A"}},{"$f":"SUM(L36:L37)","v":{"$error":"#N/A"}},{"$f":"SUM(M36:M37)","v":{"$error":"#N/A"}}]
["Atención médica en el hogar",null,"100% de usual/acostumbrado y razonable"]
["Rehabilitación",null,"100% de usual/acostumbrado y razonable",null,null,"Tarifas Semestrales"]
["Residencia y cuidados paliativos",null,"100% de usual/acostumbrado y razonable",null,null,"Prima de Titular :",null,"n/a",{"$f":"VLOOKUP($M$16,Tablas!$A$374:$H$397,4,TRUE)","v":{"$error":"#N/A"}},{"$f":"VLOOKUP($M$16,Tablas!$A$374:$H$397,5,TRUE)","v":{"$error":"#N/A"}},{"$f":"VLOOKUP($M$16,Tablas!$A$374:$H$397,6,TRUE)","v":{"$error":"#N/A"}},{"$f":"VLOOKUP($M$16,Tablas!$A$374:$H$397,7,TRUE)","v":{"$error":"#N/A"}},{"$f":"VLOOKUP($M$16,Tablas!$A$374:$H$397,8,TRUE)","v":{"$error":"#N/A"}}]
["Cobertura de actividades peligrosas",null,1,null,null,"Prima de Cónyuge",null,"n/a",{"$f":"IF($J$16=1,0,(VLOOKUP($M$18,Tablas!$A$374:$H$397,4,TRUE)))","v":{"$error":"#N/A"}},{"$f":"IF($J$16=1,0,(VLOOKUP($M$18,Tablas!$A$374:$H$397,5,TRUE)))","v":{"$error":"#N/A"}},{"$f":"IF($J$16=1,0,(VLOOKUP($M$18,Tablas!$A$374:$H$397,6,TRUE)))","v":{"$error":"#N/A"}},{"$f":"IF($J$16=1,0,(VLOOKUP($M$18,Tablas!$A$374:$H$397,7,TRUE)))","v":{"$error":"#N/A"}},{"$f":"IF($J$16=1,0,(VLOOKUP($M$18,Tablas!$A$374:$H$397,8,TRUE)))","v":{"$error":"#N/A"}}]
["Chequeos generales de rutina",null,"Hasta US$150 por año póliza.Sin deducible",null,null,"Primas Hijos :",null,"n/a",{"$f":"IF($J$18=0,0,(VLOOKUP($J$18,Tablas!$A$398:$H$400,4,TRUE)))","v":{"$error":"#N/A"}},{"$f":"IF($J$18=0,0,(VLOOKUP($J$18,Tablas!$A$398:$H$400,5,TRUE)))","v":{"$error":"#N/A"}},{"$f":"IF($J$18=0,0,(VLOOKUP($J$18,Tablas!$A$398:$H$400,6,TRUE)))","v":{"$error":"#N/A"}},{"$f":"IF($J$18=0,0,(VLOOKUP($J$18,Tablas!$A$398:$H$400,7,TRUE)))","v":{"$error":"#N/A"}},{"$f":"IF($J$18=0,0,(VLOOKUP($J$18,Tablas!$A$398:$H$400,8,TRUE)))","v":{"$error":"#N/A"}}]
["Cobertura de VIH, SIDA, CAS",null,"Solo como efecto de transfusión de sangre",null,null,"Prima Rider Complic. Maternidad",null,"n/a",{"$f":"+IF($I$20=FALSE,0,Tablas!D$401)","v":0},{"$f":"+IF($I$20=FALSE,0,Tablas!E$401)","v":0},{"$f":"+IF($I$20=FALSE,0,Tablas!F$401)","v":0},{"$f":"+IF($I$20=FALSE,0,Tablas!G$401)","v":0},{"$f":"+IF($I$20=FALSE,0,Tablas!H$401)","v":0}]
["Cobertura de brazos y piernas artificiales",null,"$30,000 por año y hasta $120,000 de por vida",null,null,"Prima Rider Trasplante Organos",null,"n/a",{"$f":"IF($I$22=FALSE,0,Tablas!D$402)","v":0},{"$f":"IF($I$22=FALSE,0,Tablas!E$402)","v":0},{"$f":"IF($I$22=FALSE,0,Tablas!F$402)","v":0},{"$f":"IF($I$22=FALSE,0,Tablas!G$402)","v":0},{"$f":"IF($I$22=FALSE,0,Tablas!H$402)","v":0}]
["Cobertura extendida para dependientes en caso de muerte de asegurado principal",null,"2 años sin costo",null,null,"TOTAL PRIMA NETA :",null,"n/a",{"$f":"SUM(I41:I45)","v":{"$error":"#N/A"}},{"$error":"#N/A"},{"$error":"#N/A"},{"$error":"#N/A"},{"$error":"#N/A"}]
[null,null,null,null,null,"Costo Administrativo Anual :",null,"n/a",75,75,75,75,75]
[null,null,null,null,null,"GRAN TOTAL  (1ra Cuota) :",null,"n/a",{"$f":"SUM(I46:I47)","v":{"$error":"#N/A"}},{"$f":"SUM(J46:J47)","v":{"$error":"#N/A"}},{"$f":"SUM(K46:K47)","v":{"$error":"#N/A"}},{"$f":"SUM(L46:L47)","v":{"$error":"#N/A"}},{"$f":"SUM(M46:M47)","v":{"$error":"#N/A"}}]
[null," ",null,null,null,"GRAN TOTAL  (2da Cuota) :",null,"n/a",{"$f":"I46","v":{"$error":"#N/A"}},{"$f":"J46","v":{"$error":"#N/A"}},{"$error":"#N/A"},{"$error":"#N/A"},{"$error":"#N/A"}]
[null," ",null,null,null,"Tarifas en US $ -  Válidas desde 01 Ene 2013"]

{"sheet":"Secure-Care-International","index":3,"n_rows":62,"n_cols":13,"rows_kept":62,"cut":false,"hidden":false,"merged":[[60,7,60,12],[61,7,61,12],[48,7,48,12],[38,7,38,12],[13,0,13,12],[14,0,14,12],[16,7,16,12],[18,7,18,12],[30,9,30,10],[30,7,30,8],[16,0,16,3],[22,0,23,1],[17,0,17,1],[18,0,18,1],[19,0,19,1],[17,2,17,3],[18,2,18,3],[19,2,19,3],[20,2,20,3],[21,2,21,3],[20,0,20,1],[21,0,21,1],[22,2,23,3],[24,2,24,3],[34,0,34,1],[34,2,34,3],[31,2,31,3],[32,2,32,3],[28,2,28,3],[29,2,29,3],[30,2,30,3],[30,0,30,1],[32,0,33,1],[31,0,31,1],[27,2,27,3],[26,2,26,3],[24,0,24,1],[29,0,29,1],[27,0,28,1],[25,0,26,1],[44,2,44,3],[44,0,44,1],[25,2,25,3],[45,0,45,1],[37,2,41,3],[48,2,48,3],[35,2,35,3],[33,2,33,3],[35,0,35,1],[36,0,36,1],[37,0,43,1],[46,0,46,1],[36,2,36,3],[42,2,43,3],[45,2,45,3],[46,2,46,3],[49,0,50,1],[49,2,50,3],[47,2,47,3],[48,0,48,1],[47,0,47,1]]}
[]
[null,null,null,null,null,null,null,null,null," "," "," "]
[]
[]
[]
[null,null,null,null,null,null,null,null,null," "," "," "," "]
[]
[]
[]
[]
[]
[]
[]
["Cotización de Seguro Médico Internacional — SECURE CARE INTERNATIONAL"]
["ESTE PRODUCTO SOLO CUBRE GASTOS MEDICOS FUERA DE VENEZUELA"]
[]
["SECURE CARE INTERNATIONAL",null,null,null,null,null,null,{"$f":"+'INGRESO DE DATOS'!$D$11","v":"NOMBRE Y APELLIDO"}]
[]
[null,null,null,null,null,null,null,{"$f":"+'INGRESO DE DATOS'!$D$20","v":"AGENCIA"}]
[]
[null,null,null,null,null,null,null,null,null,{"$f":"+'INGRESO DE DATOS'!$G$13","v":2},null,null,{"$f":"+'INGRESO DE DATOS'!$G$15","v":54}]
[]
[null,null,null,null,null,null,null,null,null,{"$f":"+'INGRESO DE DATOS'!$J$13","v":3},null,null,{"$f":"+'INGRESO DE DATOS'!$J$15","v":54}]
[null,null,null,null,null,null,null,null,null," "," "," "]
[null,null,null,null,null,null,null,null,false,null,"COMPLICACIONES DE MATERNIDAD"]
[]
[null,null,null,null,null,null,null,null,false,null,"TRASPLANTE DE ORGANOS"]
[]
[null,null,null,null,null,null," "]
[]
[null,null,null,null,null,null,null,"FECHA DE COTIZACION :",null,{"$f":"NOW()","v":"2023-01-17T12:25:17.500"}]
[]
[]
[null,null,null,null,null,null,null,"Deducibles",null,"PLAN 1","PLAN 2","PLAN 3","PLAN 4"]
[null,null,null,null,null,null,null,"Dentro del pais de residencia",null,"n/a","n/a","n/a","n/a"]
[null,null,null,null,null,null,null,"Fuera del pais de residencia",null,2000,5000,10000,20000]
[]
[]
[null,null,null,null,null,null,null,"TARIFAS ANUALES"]
[null,null,null,null,null,null,null,"Prima de Titular :",null,{"$f":"VLOOKUP($M$21,Tablas!$A$408:$H$431,5,TRUE)","v":3217},{"$f":"VLOOKUP($M$21,Tablas!$A$408:$H$431,6,TRUE)","v":2287},{"$f":"VLOOKUP($M$21,Tablas!$A$408:$H$431,7,TRUE)","v":1978},{"$f":"VLOOKUP($M$21,Tablas!$A$408:$H$431,8,TRUE)","v":1481}]
[null,null,null,null,null,null,null,"Prima de Cónyuge",null,{"$f":"IF($J$21=1,0,(VLOOKUP($M$23,Tablas!$A$408:$H$431,5,TRUE)))","v":3217},{"$f":"IF($J$21=1,0,(VLOOKUP($M$23,Tablas!$A$408:$H$431,6,TRUE)))","v":2287},{"$f":"IF($J$21=1,0,(VLOOKUP($M$23,Tablas!$A$408:$H$431,7,TRUE)))","v":1978},{"$f":"IF($J$21=1,0,(VLOOKUP($M$23,Tablas!$A$408:$H$431,8,TRUE)))","v":1481}]
[null,null,null,null,null,null,null,"Primas Hijos :",null,{"$f":"IF($J$23=0,0,(VLOOKUP($J$23,Tablas!$A$432:$H$434,5,TRUE)))","v":1429},{"$f":"IF($J$23=0,0,(VLOOKUP($J$23,Tablas!$A$432:$H$434,6,TRUE)))","v":1017},{"$f":"IF($J$23=0,0,(VLOOKUP($J$23,Tablas!$A$432:$H$434,7,TRUE)))","v":877},{"$f":"IF($J$23=0,0,(VLOOKUP($J$23,Tablas!$A$432:$H$434,8,TRUE)))","v":647}]
[null,null,null,null,null,null,null,"Prima Rider Complic. Maternidad",null,{"$f":"+IF($I$25=FALSE,0,Tablas!F$435)","v":0},{"$f":"+IF($I$25=FALSE,0,Tablas!G$435)","v":0},{"$f":"+IF($I$25=FALSE,0,Tablas!H$435)","v":0},{"$f":"+IF($I$25=FALSE,0,Tablas!H$435)","v":0}]
[null,null,null,null,null,null,null,"Prima Rider Trasplante Organos",null,{"$f":"IF($I$27=FALSE,0,Tablas!F$436)","v":0},{"$f":"IF($I$27=FALSE,0,Tablas!G$436)","v":0},{"$f":"IF($I$27=FALSE,0,Tablas!H$436)","v":0},{"$f":"IF($I$27=FALSE,0,Tablas!H$436)","v":0}]
[null,null,null,null,null,null,null,"TOTAL PRIMA NETA :",null,{"$f":"SUM(J40:J44)","v":7863},{"$f":"SUM(K40:K44)","v":5591},{"$f":"SUM(L40:L44)","v":4833},{"$f":"SUM(M40:M44)","v":3609}]
[null,null,null,null,null,null,null,"Costo Administrativo Anual :",null,75,75,75,75]
[null,null,null,null,null,null,null,"GRAN TOTAL :",null,{"$f":"SUM(J45:J46)","v":7938},{"$f":"SUM(K45:K46)","v":5666},{"$f":"SUM(L45:L46)","v":4908},{"$f":"SUM(M45:M46)","v":3684}]
[]
[null,null,null,null,null,null,null,"TARIFAS SEMESTRALES"]
[null,null,null,null,null,null,null,"Prima de Titular :",null,{"$f":"VLOOKUP($M$21,Tablas!$A$441:$H$464,5,TRUE)","v":1705.01},{"$f":"VLOOKUP($M$21,Tablas!$A$441:$H$464,6,TRUE)","v":1212.1100000000001},{"$f":"VLOOKUP($M$21,Tablas!$A$441:$H$464,7,TRUE)","v":1048.3400000000001},{"$f":"VLOOKUP($M$21,Tablas!$A$441:$H$464,8,TRUE)","v":784.93000000000006}]
[null,null,null,null,null,null,null,"Prima de Cónyuge",null,{"$f":"IF($J$21=1,0,(VLOOKUP($M$23,Tablas!$A$441:$H$464,5,TRUE)))","v":1705.01},{"$f":"IF($J$21=1,0,(VLOOKUP($M$23,Tablas!$A$441:$H$464,6,TRUE)))","v":1212.1100000000001},{"$f":"IF($J$21=1,0,(VLOOKUP($M$23,Tablas!$A$441:$H$464,7,TRUE)))","v":1048.3400000000001},{"$f":"IF($J$21=1,0,(VLOOKUP($M$23,Tablas!$A$441:$H$464,8,TRUE)))","v":784.93000000000006}]
[null,null,null,null,null,null,null,"Primas Hijos :",null,{"$f":"IF($J$23=0,0,(VLOOKUP($J$23,Tablas!$A$465:$H$467,5,TRUE)))","v":757.37},{"$f":"IF($J$23=0,0,(VLOOKUP($J$23,Tablas!$A$465:$H$467,6,TRUE)))","v":539.01},{"$f":"IF($J$23=0,0,(VLOOKUP($J$23,Tablas!$A$465:$H$467,7,TRUE)))","v":464.81},{"$f":"IF($J$23=0,0,(VLOOKUP($J$23,Tablas!$A$465:$H$467,8,TRUE)))","v":342.91}]
[null," ",null,null,null,null,null,"Prima Rider Complic. Maternidad",null,{"$f":"+IF($I$25=FALSE,0,Tablas!F$468)","v":0},{"$f":"+IF($I$25=FALSE,0,Tablas!G$468)","v":0},{"$f":"+IF($I$25=FALSE,0,Tablas!H$468)","v":0},{"$f":"+IF($I$25=FALSE,0,Tablas!H$468)","v":0}]
[null," ",null,null,null,null,null,"Prima Rider Trasplante Organos",null,{"$f":"IF($I$27=FALSE,0,Tablas!F$469)","v":0},{"$f":"IF($I$27=FALSE,0,Tablas!G$469)","v":0},{"$f":"IF($I$27=FALSE,0,Tablas!H$469)","v":0},{"$f":"IF($I$27=FALSE,0,Tablas!H$469)","v":0}]
[null,null,null,null,null,null,null,"TOTAL PRIMA NETA :",null,{"$f":"SUM(J50:J54)","v":4167.3900000000003},{"$f":"SUM(K50:K54)","v":2963.2300000000005},{"$f":"SUM(L50:L54)","v":2561.4900000000002},{"$f":"SUM(M50:M54)","v":1912.7700000000002}]
[null,null,null,null,null,null,null,"Costo Administrativo Anual :",null,75,75,75,75]
[null,null,null,null,null,null,null,"GRAN TOTAL  (1ra Cuota) :",null,{"$f":"SUM(J55:J56)","v":4242.3900000000003},{"$f":"SUM(K55:K56)","v":3038.2300000000005},{"$f":"SUM(L55:L56)","v":2636.4900000000002},{"$f":"SUM(M55:M56)","v":1987.7700000000002}]
[null,null,null,null,null,null,null,"GRAN TOTAL  (2da Cuota) :",null,{"$f":"J55","v":4167.3900000000003},{"$f":"K55","v":2963.2300000000005},{"$f":"L55","v":2561.4900000000002},{"$f":"M55","v":1912.7700000000002}]
[null,null,null,null,null,null,null,"GRAN TOTAL  (2da Cuota) :",null,{"$f":"J55","v":4167.3900000000003},{"$f":"K55","v":2963.2300000000005},{"$f":"L55","v":2561.4900000000002},{"$f":"M55","v":1912.7700000000002}]
[]
[null,null,null,null,null,null,null,"TARIFAS EN US$ — VÁLIDAS DESDE  01 ENERO DE 2023"]
[null,null,null,null,null,null,null,"Este presupuesto solamente tiene carácter informativo y en ningún momento expresa compromiso legal para suministrarle cobertura de seguro. La emisión de una póliza de seguro Bupa está sujeta a todas las evaluaciones de riesgo por parte de Bupa y a la recepción de todos los pagos de prima requeridos."]

{"sheet":"Resumen-Tarifas-Anuales","index":4,"n_rows":39,"n_cols":8,"rows_kept":39,"cut":false,"hidden":false,"merged":[[38,0,40,7],[36,0,36,7],[22,0,22,1],[28,0,28,1],[27,0,27,1],[26,0,26,1],[30,0,30,1],[31,0,31,1],[32,0,32,1],[34,0,34,2],[26,2,26,5],[30,2,30,5],[14,2,14,7],[16,2,16,7],[20,0,20,1],[19,0,19,1],[12,0,12,7]]}
[]
[null,null,null,null," "," "," "]
[]
[]
[]
[null,null,null,null," "," "," "," "]
[]
[]
[]
[]
[]
[]
["Cotización de Seguro Médico Internacional"]
[]
[null,null,{"$f":"+'INGRESO DE DATOS'!$D$11","v":"NOMBRE Y APELLIDO"}]
[]
[null,null,{"$f":"+'INGRESO DE DATOS'!$D$20","v":"AGENCIA"}]
[]
[null,null,null,null,{"$f":"+'INGRESO DE DATOS'!$G$13","v":2},null,null,{"$f":"+'INGRESO DE DATOS'!$G$15","v":54}]
["FECHA DE COTIZACION :"]
[{"$f":"NOW()","v":"2023-01-17T12:25:17.500"},null,null,null,{"$f":"+'INGRESO DE DATOS'!$J$13","v":3},null,null,{"$f":"+'INGRESO DE DATOS'!$J$15","v":54}]
[null,null,null,null," "," "," "]
["DEDUCIBLES",null,"PLAN 1","PLAN 2","PLAN 3","PLAN 4"]
["Dentro del pais de residencia",null,"n/a","n/a","n/a","n/a"]
["Fuera del pais de residencia",null,2000,5000,10000,20000]
[]
["PRODUCTOS",null,"Tarifas Anuales"]
["Privilege Care International",null,{"$f":"+'Privilege-Care-International'!J40","v":14762},{"$f":"+'Privilege-Care-International'!K40","v":10514},{"$f":"+'Privilege-Care-International'!L40","v":8721},{"$f":"+'Privilege-Care-International'!M40","v":6645}]
["Secure Care International",null,{"$f":"+'Secure-Care-International'!J47","v":7938},{"$f":"+'Secure-Care-International'!K47","v":5666},{"$f":"+'Secure-Care-International'!L47","v":4908},{"$f":"+'Secure-Care-International'!M47","v":3684}]
[]
["PRODUCTOS",null,"Tarifas Semestrales*"]
["Privilege Care International",null,{"$f":"'Privilege-Care-International'!J50","v":7784.1100000000006},{"$f":"'Privilege-Care-International'!K50","v":5532.67},{"$f":"'Privilege-Care-International'!L50","v":4582.38},{"$f":"'Privilege-Care-International'!M50","v":3482.1000000000004}]
["Secure Care International",null,{"$f":"'Secure-Care-International'!J58","v":4167.3900000000003},{"$f":"'Secure-Care-International'!K58","v":2963.2300000000005},{"$f":"'Secure-Care-International'!L58","v":2561.4900000000002},{"$f":"'Secure-Care-International'!M58","v":1912.7700000000002}]
[]
["(*) USD 75 de costo administrativo annual aplica a la primera cuota"]
[]
["TARIFAS EN US$ — VÁLIDAS DESDE  01 ENERO DE 2023"]
[]
["Este presupuesto solamente tiene carácter informativo y en ningún momento expresa compromiso legal para suministrarle cobertura de seguro. La emisión de una póliza de seguro Bupa está sujeta a todas las evaluaciones de riesgo por parte de Bupa y a la recepción de todos los pagos de prima requeridos."]

{"sheet":"Tablas","index":5,"n_rows":474,"n_cols":12,"rows_kept":474,"cut":false,"hidden":true,"merged":[[1,0,1,7],[2,0,2,7],[36,0,36,1],[36,2,36,6],[35,0,35,7],[3,0,3,1],[3,2,3,6],[135,0,135,7],[69,0,69,7],[70,0,70,1],[70,2,70,6],[203,0,203,7],[136,0,136,7],[137,0,137,1],[137,2,137,6],[169,0,169,7],[170,0,170,1],[68,0,68,7],[102,0,102,7],[103,0,103,1],[103,2,103,6],[303,0,303,7],[269,0,269,7],[270,0,270,7],[271,0,271,1],[271,2,271,6],[170,2,170,6],[202,0,202,7],[236,0,236,7],[237,0,237,1],[237,2,237,6],[204,0,204,1],[204,2,204,6],[470,0,470,7],[403,0,403,7],[404,0,404,7],[405,0,405,1],[405,2,405,6],[304,2,304,6],[336,0,336,7],[437,0,437,7],[438,0,438,1],[438,2,438,6],[304,0,304,1],[370,0,370,7],[371,0,371,1],[371,2,371,6],[337,0,337,7],[338,0,338,1],[338,2,338,6],[539,0,539,1],[471,0,471,7],[472,0,472,1],[472,2,472,6],[504,0,504,7],[505,0,505,1],[505,2,505,6],[538,0,538,19],[537,0,537,19],[539,2,539,6],[540,14,540,16],[540,17,540,19],[547,14,547,16],[547,17,547,19],[545,0,545,19],[540,2,540,4],[547,2,547,4],[547,5,547,7],[547,8,547,10],[546,0,546,1],[546,2,546,6],[540,5,540,7],[540,8,540,10],[547,11,547,13],[540,11,540,13]]}
[]
["EXCLUSIVE",null,null,null,null,null,null,null,null,"FACTOR SEMESTRAL :",null,0.53]
["TARIFAS ANUALES"]
["EDAD"]
[" "," ",null,"DW2","DW3","DW4","DW5","DW6"]
[]
[]
[]
[]
[]
[]
[]
[]
[]
[]
[]
[]
[]
[]
[]
[]
[]
[]
[]
[]
[]
[]
[]
[]
[]
[]
[]
[]
[]
[]
[]
[]
[]
[]
[]
[]
[]
[]
[]
[]
[]
[]
[]
[]
[]
[]
[]
[]
[]
[]
[]
[]
[]
[]
[]
[]
[]
[]
[]
[]
[1,"Rider Comp. Maternidad",null,{"$f":"+D33*$L$2","v":0},0,0,0,0]
[1,"Transplante de organos",null,0,0,0,0,0]
[]
["DIAMOND (LATINAMERICA ONLY)"]
["TARIFAS ANUALES"]
["EDAD"]
[" "," "]
[18,"-  24"]
[25,"-  29"]
[30,"-  34"]
[35,"-  39"]
[40,"-  44"]
[45,"-  49"]
[50,"-  54"]
[55,"-  59"]
[60]
[61]
[62]
[63]
[64]
[65]
[66]
[67]
[68]
[69]
[70]
[71]
[72]
[73]
[74]
[75,"o más"]
[1,"Hijo"]
[2,"Hijos"]
[3,"Hijos o más"]
[1,"Rider Comp. Maternidad"]
[1,"Transplante de organos"]
[]
["TARIFAS SEMESTRALES "]
["EDAD"]
[" "," "]
[18,"-  24"]
[25,"-  29"]
[30,"-  34"]
[35,"-  39"]
[40,"-  44"]
[45,"-  49"]
[50,"-  54"]
[55,"-  59"]
[60]
[61]
[62]
[63]
[64]
[65]
[66]
[67]
[68]
[69]
[70]
[71]
[72]
[73]
[74]
[75,"o más"]
[1,"Hijo"]
[2,"Hijos"]
[3,"Hijos o más"]
[1,"Rider Comp. Maternidad"]
[1,"Transplante de organos"]
[]
["PRIVILEGE"]
["TARIFAS ANUALES"]
["EDAD"]
[" "," ",null,"CW2","CW3","CW4","CW5","CW6"]
[18,"-  24",null,null,2677,1903,1349,1025]
[25,"-  29",null,null,2966,2108,1494,1139]
[30,"-  34",null,null,3326,2364,1809,1380]
[35,"-  39",null,null,3723,2647,2026,1547]
[40,"-  44",null,null,4140,2943,2233,1704]
[45,"-  49",null,null,4629,3292,2495,1906]
[50,"-  54",null,null,6076,4319,3562,2723]
[55,"-  59",null,null,6466,4596,3789,2899]
[60,null,null,null,7356,5229,4507,3618]
[61,null,null,null,7902,5617,4842,3886]
[62,null,null,null,8654,6152,5301,4257]
[63,null,null,null,9198,6539,5635,4527]
[64,null,null,null,9950,7073,6097,4897]
[65,null,null,null,12580,8943,8127,6905]
[66,null,null,null,14619,10392,9446,8023]
[67,null,null,null,15966,11349,10317,8760]
[68,null,null,null,17681,12569,11427,9700]
[69,null,null,null,19454,13829,12569,10675]
[70,null,null,null,22893,16273,14646,12553]
[71,null,null,null,23796,16916,15219,13045]
[72,null,null,null,24468,17393,15652,13416]
[73,null,null,null,25369,18034,16225,13911]
[74,null,null,null,25812,18348,16513,14156]
[75,"o más",null,null,26939,19150,17231,14771]
[1,"Hijo",null,null,1089,775,653,483]
[2,"Hijos",null,null,1729,1229,1038,766]
[3,"Hijos o más",null,null,2535,1801,1522,1124]
[1,"Rider Comp. Maternidad",null,0,0,225,225,225]
[1,"Transplante de organos",null,0,0,0,0,0]
[]
["TARIFAS SEMESTRALES "]
["EDAD"]
[" "," ",null,"CW2","CW3","CW4","CW5","CW6"]
[18,"-  24",null,null,{"$f":"E140*$L$2","v":1418.8100000000002},1008.59,714.97,543.25]
[25,"-  29",null,null,{"$f":"E141*$L$2","v":1571.98},1117.24,791.82,603.67000000000007]
[30,"-  34",null,null,{"$f":"E142*$L$2","v":1762.7800000000002},1252.92,958.7700000000001,731.40000000000009]
[35,"-  39",null,null,{"$f":"E143*$L$2","v":1973.19},1402.91,1073.78,819.91000000000008]
[40,"-  44",null,null,{"$f":"E144*$L$2","v":2194.2000000000003},1559.7900000000002,1183.49,903.12]
[45,"-  49",null,null,{"$f":"E145*$L$2","v":2453.3700000000003},1744.76,1322.3500000000001,1010.1800000000001]
[50,"-  54",null,null,{"$f":"E146*$L$2","v":3220.28},2289.0700000000002,1887.8600000000001,1443.19]
[55,"-  59",null,null,{"$f":"E147*$L$2","v":3426.98},2435.88,2008.17,1536.47]
[60,null,null,null,{"$f":"E148*$L$2","v":3898.6800000000003},2771.3700000000003,2388.71,1917.5400000000002]
[61,null,null,null,{"$f":"E149*$L$2","v":4188.0600000000004},2977.01,2566.2600000000002,2059.58]
[62,null,null,null,{"$f":"E150*$L$2","v":4586.62},3260.56,2809.53,2256.21]
[63,null,null,null,{"$f":"E151*$L$2","v":4874.9400000000005},3465.67,2986.55,2399.31]
[64,null,null,null,{"$f":"E152*$L$2","v":5273.5},3748.69,3231.4100000000003,2595.4100000000003]
[65,null,null,null,{"$f":"E153*$L$2","v":6667.4000000000005},4739.79,4307.3100000000004,3659.65]
[66,null,null,null,{"$f":"E154*$L$2","v":7748.0700000000006},5507.76,5006.38,4252.1900000000005]
[67,null,null,null,{"$f":"E155*$L$2","v":8461.98},6014.97,5468.01,4642.8]
[68,null,null,null,{"$f":"E156*$L$2","v":9370.93},6661.5700000000006,6056.31,5141]
[69,null,null,null,{"$f":"E157*$L$2","v":10310.620000000001},7329.3700000000008,6661.5700000000006,5657.75]
[70,null,null,null,{"$f":"E158*$L$2","v":12133.29},8624.69,7762.38,6653.09]
[71,null,null,null,{"$f":"E159*$L$2","v":12611.880000000001},8965.48,8066.0700000000006,6913.85]
[72,null,null,null,{"$f":"E160*$L$2","v":12968.04},9218.2900000000009,8295.5600000000013,7110.4800000000005]
[73,null,null,null,{"$f":"E161*$L$2","v":13445.570000000002},9558.02,8599.25,7372.83]
[74,null,null,null,{"$f":"E162*$L$2","v":13680.36},9724.44,8751.8900000000012,7502.68]
[75,"o más",null,null,{"$f":"E163*$L$2","v":14277.67},10149.5,9132.43,7828.63]
[1,"Hijo",null,null,{"$f":"E164*$L$2","v":577.17000000000007},410.75,346.09000000000003,255.99]
[2,"Hijos",null,null,{"$f":"E165*$L$2","v":916.37},{"$f":"F165*$L$2","v":651.37},550.14,405.98]
[3,"Hijos o más",null,null,{"$f":"E166*$L$2","v":1343.55},{"$f":"F166*$L$2","v":954.53000000000009},806.66000000000008,595.72]
[1,"Rider Comp. Maternidad",null,{"$f":"+D167*$L$2","v":0},{"$f":"E167*$L$2","v":0},119.25,119.25,119.25]
[1,"Transplante de organos",null,0,0,0,0,0]
[]
["COMPLETE (LATINAMERICA ONLY)"]
["TARIFAS ANUALES"]
["EDAD"]
[" "," "]
[18,"-  24"]
[25,"-  29"]
[30,"-  34"]
[35,"-  39"]
[40,"-  44"]
[45,"-  49"]
[50,"-  54"]
[55,"-  59"]
[60]
[61]
[62]
[63]
[64]
[65]
[66]
[67]
[68]
[69]
[70]
[71]
[72]
[73]
[74]
[75,"o más"]
[1,"Hijo"]
[2,"Hijos"]
[3,"Hijos o más"]
[1,"Rider Comp. Maternidad"]
[1,"Transplante de organos"]
[]
["TARIFAS SEMESTRALES "]
["EDAD"]
[" "," "]
[18,"-  24"]
[25,"-  29"]
[30,"-  34"]
[35,"-  39"]
[40,"-  44"]
[45,"-  49"]
[50,"-  54"]
[55,"-  59"]
[60]
[61]
[62]
[63]
[64]
[65]
[66]
[67]
[68]
[69]
[70]
[71]
[72]
[73]
[74]
[75,"o más"]
[1,"Hijo"]
[2,"Hijos"]
[3,"Hijos o más"]
[1,"Rider Comp. Maternidad"]
[1,"Transplante de organos"]
[]
["ADVANTAGE (WORLDWIDE)"]
["TARIFAS ANUALES"]
["EDAD"]
[" "," ",null,"AW2","AW3","AW4","AW5","AW6"]
[]
[]
[]
[]
[]
[]
[]
[]
[]
[]
[]
[]
[]
[]
[]
[]
[]
[]
[]
[]
[]
[]
[]
[]
[]
[]
[]
[]
[]
[]
[]
[]
[]
[]
[]
[]
[]
[]
[]
[]
[]
[]
[]
[]
[]
[]
[]
[]
[]
[]
[]
[]
[]
[]
[]
[]
[]
[]
[]
[]
[]
[]
[]
[]
[]
[]
[]
[]
[]
[]
[]
[]
[]
[]
[]
[]
[]
[]
[]
[]
[]
[]
[]
[]
[]
[]
[]
[]
[]
[]
[]
[]
[]
[]
[]
[]
[]
[]
[]
[]
[]
[]
[]
[]
[]
[]
[]
[]
[]
[]
[]
[]
[]
[]
[]
[]
[]
[]
[]
[]
[]
[]
[]
[]
[]
[]
[]
[]
[1,"Transplante de organos"]
[]
["SECURE"]
["TARIFAS ANUALES"]
["EDAD"]
[" "," ",null,"SE2","SE3","SE4","SE5","SE6"]
[18,"-  24",null,null,1551,1103,954,729]
[25,"-  29",null,null,1726,1228,1062,806]
[30,"-  34",null,null,2006,1426,1235,934]
[35,"-  39",null,null,2228,1584,1370,1037]
[40,"-  44",null,null,2519,1791,1553,1165]
[45,"-  49",null,null,2931,2084,1800,1358]
[50,"-  54",null,null,3217,2287,1978,1481]
[55,"-  59",null,null,3812,2710,2339,1754]
[60,null,null,null,4040,2871,2480,1853]
[61,null,null,null,4546,3231,2790,2088]
[62,null,null,null,5052,3591,3102,2323]
[63,null,null,null,5563,3955,3413,2558]
[64,null,null,null,6067,4312,3728,2790]
[65,null,null,null,6108,4341,3747,2802]
[66,null,null,null,6141,4365,3766,2812]
[67,null,null,null,6830,4856,4187,3128]
[68,null,null,null,7511,5340,4608,3443]
[69,null,null,null,7853,5584,4817,3600]
[70,null,null,null,7937,5642,4865,3617]
[71,null,null,null,8936,6353,5477,4072]
[72,null,null,null,9929,7057,6089,4528]
[73,null,null,null,10925,7766,6698,4982]
[74,null,null,null,11920,8474,7310,5439]
[75,"o más",null,null,13037,9267,7992,5939]
[1,"Hijo",null,null,624,445,381,282]
[2,"Hijos",null,null,983,700,605,448]
[3,"Hijos o más",null,null,1429,1017,877,647]
[1,"Rider Comp. Maternidad",null,null,null,225,225,225]
[1,"Transplante de organos",null,null,null,300,300,300]
[]
["TARIFAS SEMESTRALES "]
["EDAD"]
[" "," ",null,"SE2","SE3","SE4","SE5","SE6"]
[18,"-  24",null,{"$f":"+D408*$L$2","v":0},822.03000000000009,584.59,505.62,386.37]
[25,"-  29",null,{"$f":"+D409*$L$2","v":0},914.78000000000009,650.84,562.86,427.18]
[30,"-  34",null,{"$f":"+D410*$L$2","v":0},1063.18,755.78000000000009,654.55000000000007,495.02000000000004]
[35,"-  39",null,{"$f":"+D411*$L$2","v":0},1180.8400000000001,839.5200000000001,726.1,549.61]
[40,"-  44",null,{"$f":"+D412*$L$2","v":0},1335.0700000000002,949.23,823.09,617.45000000000005]
[45,"-  49",null,{"$f":"+D413*$L$2","v":0},1553.43,1104.52,954,719.74]
[50,"-  54",null,{"$f":"+D414*$L$2","v":0},1705.01,1212.1100000000001,1048.3400000000001,784.93000000000006]
[55,"-  59",null,{"$f":"+D415*$L$2","v":0},2020.3600000000001,1436.3000000000002,1239.67,929.62]
[60,null,null,{"$f":"+D416*$L$2","v":0},2141.2000000000003,1521.63,1314.4,982.09]
[61,null,null,{"$f":"+D417*$L$2","v":0},2409.38,1712.43,1478.7,1106.6400000000001]
[62,null,null,{"$f":"+D418*$L$2","v":0},2677.56,1903.23,1644.0600000000002,1231.19]
[63,null,null,{"$f":"+D419*$L$2","v":0},2948.3900000000003,2096.15,1808.89,1355.74]
[64,null,null,{"$f":"+D420*$L$2","v":0},3215.51,2285.36,1975.8400000000001,1478.7]
[65,null,null,{"$f":"+D421*$L$2","v":0},3237.2400000000002,2300.73,1985.91,1485.0600000000002]
[66,null,null,{"$f":"+D422*$L$2","v":0},3254.73,2313.4500000000003,1995.98,1490.3600000000001]
[67,null,null,{"$f":"+D423*$L$2","v":0},3619.9,2573.6800000000003,2219.11,1657.8400000000001]
[68,null,null,{"$f":"+D424*$L$2","v":0},3980.8300000000004,2830.2000000000003,2442.2400000000002,1824.7900000000002]
[69,null,null,{"$f":"+D425*$L$2","v":0},4162.09,2959.52,2553.0100000000002,1908]
[70,null,null,{"$f":"+D426*$L$2","v":0},4206.6100000000006,2990.26,2578.4500000000003,1917.01]
[71,null,null,{"$f":"+D427*$L$2","v":0},4736.08,3367.09,2902.81,2158.1600000000003]
[72,null,null,{"$f":"+D428*$L$2","v":0},5262.37,3740.21,3227.17,2399.84]
[73,null,null,{"$f":"+D429*$L$2","v":0},5790.25,4115.9800000000005,3549.94,2640.46]
[74,null,null,{"$f":"+D430*$L$2","v":0},6317.6,4491.22,3874.3,2882.67]
[75,"o más",null,{"$f":"+D431*$L$2","v":0},6909.6100000000006,4911.51,4235.76,3147.67]
[1,"Hijo",null,{"$f":"+D432*$L$2","v":0},330.72,235.85000000000002,201.93,149.46]
[2,"Hijos",null,{"$f":"+D433*$L$2","v":0},520.99,371,320.65000000000003,237.44]
[3,"Hijos o más",null,{"$f":"+D434*$L$2","v":0},757.37,539.01,464.81,342.91]
[1,"Rider Comp. Maternidad",null,{"$f":"+D435*$L$2","v":0},0,119.25,119.25,119.25]
[1,"Transplante de organos",null,{"$f":"+D436*$L$2","v":0},0,159,159,159]
[]
["ESSENTIAL"]
["TARIFAS ANUALES"]
["EDAD"]
[" "," ",null,"ET2","ET3","ET4","ET5","ET6"]